Workbook

Sheet RESUMEN 
A1: MINISTERIO DE SALUD
A2: SERVICIO DE SALUD COQUIMBO
A3: SUBDIRECCION DE GESTION ASISTENCIAL
A4: SUBDEPTO DE ESTADÍSTICA Y GESTIÓN DE LA INFORMACIÓN
A5: COMUNA | B5: RESUMEN DE CUMPLIMIENTO DE METAS A JULIO 2017
B6: CORTE A JUNIO
B8: METAS COMPONENTE ESTRATEGIA RISS, PRODUCCIÓN,COBERTURA EFECTIVA E IMPACTO SANITARIO
B9: META Nº2 | C9: META Nº3.1 | D9: META Nº5 | E9: META Nº6 | F9: META Nº7 | G9: META Nº8.1 | H9: META Nº8.2 | I9: META Nº8.3 | J9: META Nº9 | K9: META Nº10 | L9: META Nº11 | M9: META Nº12 | N9: META Nº13 | O9: META Nº14 | P9: META Nº17 | Q9: META Nº18 | R9: META Nº19 | S9: META Nº20 | T9: META Nº21 | U9: CUMPLIMIENTO GENERAL | V9: CUMPLIMIENTO META GES
B10: Familias Evaluadas según riesgo (*) | C10: Gestion de Reclamos APS | D10: Consultas de Morbilidad y Controles Médicos | E10: SIC derivadas desde la APS al Nivel Secundario | F10: Visita domiciliaria integral | G10: EMP hombres 20 a 64 años | H10: EMP mujeres de 45 a 64 años | I10: EMP 65 y mas años | J10: Evaluación del desarrollo Psicomotor de niños/as de 12 a 23 meses bajo control | K10: Control de salud integral adolescentes de 10 a 14 años | L10: Alta odontologica menores de 20 años | M10: Cobertura de Atención Integral de trastornos mentales en personas de 5 y más años | N10: Cobertura de Atención de Asma en Población general y EPOC en personas de 40 años y más | O10: Capacitación a Cuidadores de personas con Dependencia Severa con Pago de Estipendio (*) | P10: Control embarazada | Q10: Cobertura de Métodos Anticonceptivos en Adolescentes | R10: Cobertura DM2 en personas de 15 y mas años (*) | S10: Cobertutra HTA en personas de 15 y mas años (*) | T10: Proporción de Niñas y Niños de 3 años libre de Caries
A12: LA SERENA | B12: =+'META 2'!$C$25 -> 2.0361371 | C12: =+'META 3.1'!$C$25 -> 1.0201429 | D12: =+'META 5 '!$C$25 -> 1.2602032 | E12: =+'META 6'!$C$25 -> 1.0855766 | F12: =+'META 7'!$C$25 -> 1.5228181 | G12: =+'META 8.1'!$C$25 -> 1.0112226 | H12: =+'META 8.2'!$C$25 -> 0.95061781 | I12: =+'META 8.3'!$C$25 -> 0.97353389 | J12: =+'META 9'!$C$25 -> 1.1934048 | K12: =+'META 10'!$C$25 -> 0.79690722 | L12: =+'META 11'!$C$25 -> 1.2056142 | M12: =+'META 12'!$C$25 -> 0.97428924 | N12: =+'META 13'!$C$25 -> 0.82284926 | O12: =+'META 14'!$C$25 -> 2.2121212 | P12: =+'META 17'!$C$25 -> 1.0194839 | Q12: =+'META 18'!$C$25 -> 2.109589 | R12: =+'META 19'!$C$25 -> 0.82905983 | S12: =+'META 20'!$C$25 -> 0.76972176 | T12: =+'META 21'!$C$25 -> SI | U12: =C43*3%+D43*6%+E43*3%+F43*5%+G43*5%+H43*5%+I43*5%+J43*4%+K43*4%+L43*4%+M43*4%+N43*4%+P43*4%+T43*3% -> 0.56996941 | V12: =+META_GES!$C$25 -> 1
A13: COQUIMBO | B13: =+'META 2'!$C$37 -> 0.86603828 | C13: =+'META 3.1'!$C$37 -> 1.0186664 | D13: =+'META 5 '!$C$37 -> 1.1787567 | E13: =+'META 6'!$C$37 -> 1.1492065 | F13: =+'META 7'!$C$37 -> 1.2451321 | G13: =+'META 8.1'!$C$37 -> 1.1454877 | H13: =+'META 8.2'!$C$37 -> 1.1777056 | I13: =+'META 8.3'!$C$37 -> 1.2555556 | J13: =+'META 9'!$C$37 -> 1.1507892 | K13: =+'META 10'!$C$37 -> 0.69974425 | L13: =+'META 11'!$C$37 -> 1.2104807 | M13: =+'META 12'!$C$37 -> 0.67031684 | N13: =+'META 13'!$C$37 -> 0.58237594 | O13: =+'META 14'!$C$37 -> 1.9730094 | P13: =+'META 17'!$C$37 -> 0.98221568 | Q13: =+'META 18'!$C$37 -> 1.3822957 | R13: =+'META 19'!$C$37 -> 0.75743349 | S13: =+'META 20'!$C$37 -> 0.49789861 | T13: =+'META 21'!$C$37 -> SI | U13: =C44*3%+D44*6%+E44*3%+F44*5%+G44*5%+H44*5%+I44*5%+J44*4%+K44*4%+L44*4%+M44*4%+N44*4%+P44*4%+T44*3% -> 0.54738611 | V13: =+META_GES!$C$37 -> 1
A14: VICUÑA | B14: =+'META 2'!$C$48 -> 2.6668429 | C14: =+'META 3.1'!$C$48 -> 1.0204082 | D14: =+'META 5 '!$C$48 -> 1.0392805 | E14: =+'META 6'!$C$48 -> 3.9873239 | F14: =+'META 7'!$C$48 -> 1.3429157 | G14: =+'META 8.1'!$C$48 -> 1.5185232 | H14: =+'META 8.2'!$C$48 -> 1.2930158 | I14: =+'META 8.3'!$C$48 -> 1.4972973 | J14: =+'META 9'!$C$48 -> 1.3287317 | K14: =+'META 10'!$C$48 -> 1.8529412 | L14: =+'META 11'!$C$48 -> 1.4069149 | M14: =+'META 12'!$C$48 -> 0.7441707 | N14: =+'META 13'!$C$48 -> 0.85035867 | O14: =+'META 14'!$C$48 -> 1.9638243 | P14: =+'META 17'!$C$48 -> 0.97288136 | Q14: =+'META 18'!$C$48 -> 1.7014925 | R14: =+'META 19'!$C$48 -> 0.95969773 | S14: =+'META 20'!$C$48 -> 0.82220367 | T14: =+'META 21'!$C$48 -> SI | U14: =C45*3%+D45*6%+E45*3%+F45*5%+G45*5%+H45*5%+I45*5%+J45*4%+K45*4%+L45*4%+M45*4%+N45*4%+P45*4%+T45*3% -> 0.57269643 | V14: =+META_GES!$C$48 -> 1
A15: ILLAPEL | B15: =+'META 2'!$C$62 -> 2.1881515 | C15: =+'META 3.1'!$C$62 -> 1.0196078 | D15: =+'META 5 '!$C$62 -> 1.0693866 | E15: =+'META 6'!$C$62 -> 1.4947791 | F15: =+'META 7'!$C$62 -> 1.058276 | G15: =+'META 8.1'!$C$62 -> 0.79596413 | H15: =+'META 8.2'!$C$62 -> 0.75406414 | I15: =+'META 8.3'!$C$62 -> 1.2962025 | J15: =+'META 9'!$C$62 -> 1.250774 | K15: =+'META 10'!$C$62 -> 0.48809524 | L15: =+'META 11'!$C$62 -> 1.6333725 | M15: =+'META 12'!$C$62 -> 0.61262771 | N15: =+'META 13'!$C$62 -> 0.68138299 | O15: =+'META 14'!$C$62 -> 0.64814815 | P15: =+'META 17'!$C$62 -> 0.97038178 | Q15: =+'META 18'!$C$62 -> 1.6931217 | R15: =+'META 19'!$C$62 -> 0.78640777 | S15: =+'META 20'!$C$62 -> 1.0688836 | T15: =+'META 21'!$C$62 -> SI | U15: =C46*3%+D46*6%+E46*3%+F46*5%+G46*5%+H46*5%+I46*5%+J46*4%+K46*4%+L46*4%+M46*4%+N46*4%+P46*4%+T46*3% -> 0.51760092 | V15: =+META_GES!$C$62 -> 1
A16: CANELA | B16: =+'META 2'!$C$73 -> 1.995572 | C16: =+'META 3.1'!$C$73 -> 1.0195228 | D16: =+'META 5 '!$C$73 -> 1.1988576 | E16: =+'META 6'!$C$73 -> 1.241167 | F16: =+'META 7'!$C$73 -> 0.81390642 | G16: =+'META 8.1'!$C$73 -> 1.63543 | H16: =+'META 8.2'!$C$73 -> 1.6054843 | I16: =+'META 8.3'!$C$73 -> 0.94164668 | J16: =+'META 9'!$C$73 -> 1.5957447 | K16: =+'META 10'!$C$73 -> 0.64646465 | L16: =+'META 11'!$C$73 -> 1.0619137 | M16: =+'META 12'!$C$73 -> 0.77819294 | N16: =+'META 13'!$C$73 -> 0.98762311 | O16: =+'META 14'!$C$73 -> 2.2222222 | P16: =+'META 17'!$C$73 -> 1.0316742 | Q16: =+'META 18'!$C$73 -> 1.9607843 | R16: =+'META 19'!$C$73 -> 1.32 | S16: =+'META 20'!$C$73 -> 1.167754 | T16: =+'META 21'!$C$73 -> SI | U16: =C47*3%+D47*6%+E47*3%+F47*5%+G47*5%+H47*5%+I47*5%+J47*4%+K47*4%+L47*4%+M47*4%+N47*4%+P47*4%+T47*3% -> 0.55426888 | V16: =+META_GES!$C$73 -> 1
A17: LOS VILOS | B17: =+'META 2'!$C$79 -> 2.4428751 | C17: =+'META 3.1'!$C$79 -> 1.015625 | D17: =+'META 5 '!$C$79 -> 0.93927126 | E17: =+'META 6'!$C$79 -> 1.7445747 | F17: =+'META 7'!$C$79 -> 1.7915472 | G17: =+'META 8.1'!$C$79 -> 1.1366846 | H17: =+'META 8.2'!$C$79 -> 1.2090859 | I17: =+'META 8.3'!$C$79 -> 1.1501976 | J17: =+'META 9'!$C$79 -> 1.2128146 | K17: =+'META 10'!$C$79 -> 2.5 | L17: =+'META 11'!$C$79 -> 1.0860215 | M17: =+'META 12'!$C$79 -> 0.32414641 | N17: =+'META 13'!$C$79 -> 0.62666045 | O17: =+'META 14'!$C$79 -> 0.27083333 | P17: =+'META 17'!$C$79 -> 0.78333333 | Q17: =+'META 18'!$C$79 -> 2.2222222 | R17: =+'META 19'!$C$79 -> 0.74691358 | S17: =+'META 20'!$C$79 -> 0.92973856 | T17: =+'META 21'!$C$79 -> SI | U17: =C48*3%+D48*6%+E48*3%+F48*5%+G48*5%+H48*5%+I48*5%+J48*4%+K48*4%+L48*4%+M48*4%+N48*4%+P48*4%+T48*3% -> 0.53572188 | V17: =+META_GES!$C$79 -> 1
A18: SALAMANCA | B18: =+'META 2'!$C$90 -> 3.3719518 | C18: =+'META 3.1'!$C$90 -> 1.0204082 | D18: =+'META 5 '!$C$90 -> 0.96887967 | E18: =+'META 6'!$C$90 -> 1.3891294 | F18: =+'META 7'!$C$90 -> 0.90096231 | G18: =+'META 8.1'!$C$90 -> 1.0926388 | H18: =+'META 8.2'!$C$90 -> 1.1634346 | I18: =+'META 8.3'!$C$90 -> 1.2522523 | J18: =+'META 9'!$C$90 -> 1.1709677 | K18: =+'META 10'!$C$90 -> 0.13389121 | L18: =+'META 11'!$C$90 -> 2.7506775 | M18: =+'META 12'!$C$90 -> 1.1782926 | N18: =+'META 13'!$C$90 -> 0.74065325 | O18: =+'META 14'!$C$90 -> 2.2173913 | P18: =+'META 17'!$C$90 -> 1.0512266 | Q18: =+'META 18'!$C$90 -> 2.2054795 | R18: =+'META 19'!$C$90 -> 1.0247253 | S18: =+'META 20'!$C$90 -> 0.93031359 | T18: =+'META 21'!$C$90 -> SI | U18: =C49*3%+D49*6%+E49*3%+F49*5%+G49*5%+H49*5%+I49*5%+J49*4%+K49*4%+L49*4%+M49*4%+N49*4%+P49*4%+T49*3% -> 0.53816267 | V18: =+META_GES!$C$90 -> 1
A19: OVALLE | B19: =+'META 2'!$C$108 -> 2.2501721 | C19: =+'META 3.1'!$C$108 -> 1.0198675 | D19: =+'META 5 '!$C$108 -> 1.4958516 | E19: =+'META 6'!$C$108 -> 1.2237303 | F19: =+'META 7'!$C$108 -> 0.97955767 | G19: =+'META 8.1'!$C$108 -> 1.3271183 | H19: =+'META 8.2'!$C$108 -> 1.5873552 | I19: =+'META 8.3'!$C$108 -> 1.4764785 | J19: =+'META 9'!$C$108 -> 1.1674021 | K19: =+'META 10'!$C$108 -> 1.4795821 | L19: =+'META 11'!$C$108 -> 1.0213147 | M19: =+'META 12'!$C$108 -> 0.99138206 | N19: =+'META 13'!$C$108 -> 0.85365853 | O19: =+'META 14'!$C$108 -> 1.0770186 | P19: =+'META 17'!$C$108 -> 1.0315896 | Q19: =+'META 18'!$C$108 -> 1.8431373 | R19: =+'META 19'!$C$108 -> 1.0060048 | S19: =+'META 20'!$C$108 -> 0.94191981 | T19: =+'META 21'!$C$108 -> SI | U19: =C50*3%+D50*6%+E50*3%+F50*5%+G50*5%+H50*5%+I50*5%+J50*4%+K50*4%+L50*4%+M50*4%+N50*4%+P50*4%+T50*3% -> 0.58277951 | V19: =+META_GES!$C$108 -> 0.99925429
A20: COMBARBALÁ | B20: =+'META 2'!$C$121 -> 3.3855466 | C20: =+'META 3.1'!$C$121 -> 1.0160428 | D20: =+'META 5 '!$C$121 -> 0.9171705 | E20: =+'META 6'!$C$121 -> 1.3734885 | F20: =+'META 7'!$C$121 -> 1.1584826 | G20: =+'META 8.1'!$C$121 -> 1.2412858 | H20: =+'META 8.2'!$C$121 -> 1.2905623 | I20: =+'META 8.3'!$C$121 -> 1.0516432 | J20: =+'META 9'!$C$121 -> 1.1750306 | K20: =+'META 10'!$C$121 -> 0.93333333 | L20: =+'META 11'!$C$121 -> 1.8032787 | M20: =+'META 12'!$C$121 -> 0.89412766 | N20: =+'META 13'!$C$121 -> 0.9879736 | O20: =+'META 14'!$C$121 -> 1.8272013 | P20: =+'META 17'!$C$121 -> 1.1111111 | Q20: =+'META 18'!$C$121 -> 1.3777778 | R20: =+'META 19'!$C$121 -> 0.68306011 | S20: =+'META 20'!$C$121 -> 0.77038896 | T20: =+'META 21'!$C$121 -> SI | U20: =C51*3%+D51*6%+E51*3%+F51*5%+G51*5%+H51*5%+I51*5%+J51*4%+K51*4%+L51*4%+M51*4%+N51*4%+P51*4%+T51*3% -> 0.57764761 | V20: =+META_GES!$C$121 -> 1
A21: MONTE PATRIA | B21: =+'META 2'!$C$135 -> 2.4719061 | C21: =+'META 3.1'!$C$135 -> 1.0189983 | D21: =+'META 5 '!$C$135 -> 1.1754293 | E21: =+'META 6'!$C$135 -> 1.4852494 | F21: =+'META 7'!$C$135 -> 1.0129442 | G21: =+'META 8.1'!$C$135 -> 0.77850059 | H21: =+'META 8.2'!$C$135 -> 0.78662754 | I21: =+'META 8.3'!$C$135 -> 1.0773967 | J21: =+'META 9'!$C$135 -> 1.1373119 | K21: =+'META 10'!$C$135 -> 1.3152174 | L21: =+'META 11'!$C$135 -> 1.0753525 | M21: =+'META 12'!$C$135 -> 0.82429727 | N21: =+'META 13'!$C$135 -> 0.80846386 | O21: =+'META 14'!$C$135 -> 2.2222222 | P21: =+'META 17'!$C$135 -> 0.97234117 | Q21: =+'META 18'!$C$135 -> 2.0617284 | R21: =+'META 19'!$C$135 -> 0.91345029 | S21: =+'META 20'!$C$135 -> 0.78569018 | T21: =+'META 21'!$C$135 -> SI | U21: =C52*3%+D52*6%+E52*3%+F52*5%+G52*5%+H52*5%+I52*5%+J52*4%+K52*4%+L52*4%+M52*4%+N52*4%+P52*4%+T52*3% -> 0.5524605 | V21: =+META_GES!$C$135 -> 1
A22: PUNITAQUI | B22: =+'META 2'!$C$140 -> 1.0581949 | C22: =+'META 3.1'!$C$140 -> 0.8812616 | D22: =+'META 5 '!$C$140 -> 1.1336428 | E22: =+'META 6'!$C$140 -> 0.96515336 | F22: =+'META 7'!$C$140 -> 1.4136485 | G22: =+'META 8.1'!$C$140 -> 1.7036447 | H22: =+'META 8.2'!$C$140 -> 0.96202105 | I22: =+'META 8.3'!$C$140 -> 1.3361463 | J22: =+'META 9'!$C$140 -> 1.1534341 | K22: =+'META 10'!$C$140 -> 0.67153285 | L22: =+'META 11'!$C$140 -> 0.73257288 | M22: =+'META 12'!$C$140 -> 1.0691628 | N22: =+'META 13'!$C$140 -> 0.92840216 | O22: =+'META 14'!$C$140 -> 2.2162162 | P22: =+'META 17'!$C$140 -> 0.9173962 | Q22: =+'META 18'!$C$140 -> 1.497076 | R22: =+'META 19'!$C$140 -> 0.97878788 | S22: =+'META 20'!$C$140 -> 0.81128748 | T22: =+'META 21'!$C$140 -> SI | U22: =C53*3%+D53*6%+E53*3%+F53*5%+G53*5%+H53*5%+I53*5%+J53*4%+K53*4%+L53*4%+M53*4%+N53*4%+P53*4%+T53*3% -> 0.55348966 | V22: =+META_GES!$C$140 -> 1
A23: RIO HURTADO | B23: =+'META 2'!$C$148 -> 0.81689087 | C23: =+'META 3.1'!$C$148 -> 1.0204082 | D23: =+'META 5 '!$C$148 -> 0.88072976 | E23: =+'META 6'!$C$148 -> 1.420215 | F23: =+'META 7'!$C$148 -> 1.0120548 | G23: =+'META 8.1'!$C$148 -> 1.1058824 | H23: =+'META 8.2'!$C$148 -> 0.73695154 | I23: =+'META 8.3'!$C$148 -> 1.1145374 | J23: =+'META 9'!$C$148 -> 0.90779959 | K23: =+'META 10'!$C$148 -> 0.4137931 | L23: =+'META 11'!$C$148 -> 1.4297189 | M23: =+'META 12'!$C$148 -> 1.0323449 | N23: =+'META 13'!$C$148 -> 1.2172986 | O23: =+'META 14'!$C$148 -> 2.2222222 | P23: =+'META 17'!$C$148 -> 0.96103896 | Q23: =+'META 18'!$C$148 -> 1.8928571 | R23: =+'META 19'!$C$148 -> 0.94 | S23: =+'META 20'!$C$148 -> 0.79059181 | T23: =+'META 21'!$C$148 -> SI | U23: =C54*3%+D54*6%+E54*3%+F54*5%+G54*5%+H54*5%+I54*5%+J54*4%+K54*4%+L54*4%+M54*4%+N54*4%+P54*4%+T54*3% -> 0.54099663 | V23: =+META_GES!$C$148 -> 1
A24: (*) Metas a Evaluar con Serie P de Junio 2017
A31: MINISTERIO DE SALUD
A32: SERVICIO DE SALUD COQUIMBO
A33: SUBDIRECCION DE GESTION ASISTENCIAL
A34: SUBDEPTO DE ESTADÍSTICA Y GESTIÓN DE LA INFORMACIÓN
A36: COMUNA | B36: RESUMEN DE CUMPLIMIENTO DE METAS A ABRIL 2017
B37: CORTE A MARZO
B39: METAS COMPONENTE ESTRATEGIA RISS, PRODUCCIÓN,COBERTURA EFECTIVA E IMPACTO SANITARIO
B40: META Nº2 | C40: META Nº3.1 | D40: META Nº5 | E40: META Nº6 | F40: META Nº7 | G40: META Nº8.1 | H40: META Nº8.2 | I40: META Nº8.3 | J40: META Nº9 | K40: META Nº10 | L40: META Nº11 | M40: META Nº12 | N40: META Nº13 | O40: META Nº14 | P40: META Nº17 | Q40: META Nº18 | R40: META Nº19 | S40: META Nº20 | T40: META Nº21
B41: Familias Evaluadas según riesgo | C41: Gestion de Reclamos APS | D41: Consultas de Morbilidad y Controles Médicos | E41: SIC derivadas desde la APS al Nivel Secundario | F41: Visita domiciliaria integral | G41: EMP hombres 20 a 64 años | H41: EMP mujeres de 45 a 64 años | I41: EMP 65 y mas años | J41: Evaluación del desarrollo Psicomotor de niños/as de 12 a 23 meses bajo control | K41: Control de salud integral adolescentes de 10 a 14 años | L41: Alta odontologica menores de 20 años | M41: Cobertura de Atención Integral de trastornos mentales en personas de 5 y más años | N41: Cobertura de Atención de Asma en Población general y EPOC en personas de 40 años y más | O41: Capacitación a Cuidadores de personas con Dependencia Severa con Pago de Estipendio | P41: Control embarazada | Q41: Cobertura de Métodos Anticonceptivos en Adolescentes | R41: Cobertura DM2 en personas de 15 y mas años | S41: Cobertutra HTA en personas de 15 y mas años | T41: Proporción de Niñas y Niños de 3 años libre de Caries
A43: LA SERENA | B43: =IF(B12="n/a","n/a",IF(B12="","",IF(B12>1,1,B12))) -> 1 | C43: =IF(C12="n/a","n/a",IF(C12="","",IF(C12>1,1,C12))) -> 1 | D43: =IF(D12="n/a","n/a",IF(D12="","",IF(D12>1,1,D12))) -> 1 | E43: =IF(E12="n/a","n/a",IF(E12="","",IF(E12>1,1,E12))) -> 1 | F43: =IF(F12="n/a","n/a",IF(F12="","",IF(F12>1,1,F12))) -> 1 | G43: =IF(G12="n/a","n/a",IF(G12="","",IF(G12>1,1,G12))) -> 1 | H43: =IF(H12="n/a","n/a",IF(H12="","",IF(H12>1,1,H12))) -> 0.95061781 | I43: =IF(I12="n/a","n/a",IF(I12="","",IF(I12>1,1,I12))) -> 0.97353389 | ... S43: =IF(S12="n/a","n/a",IF(S12="","",IF(S12>1,1,S12))) -> 0.76972176 | T43: =IF(T12="n/a","n/a",IF(T12="SI",1,0)) -> 1
A44: COQUIMBO | B44: =IF(B13="n/a","n/a",IF(B13="","",IF(B13>1,1,B13))) -> 0.86603828 | C44: =IF(C13="n/a","n/a",IF(C13="","",IF(C13>1,1,C13))) -> 1 | D44: =IF(D13="n/a","n/a",IF(D13="","",IF(D13>1,1,D13))) -> 1 | E44: =IF(E13="n/a","n/a",IF(E13="","",IF(E13>1,1,E13))) -> 1 | F44: =IF(F13="n/a","n/a",IF(F13="","",IF(F13>1,1,F13))) -> 1 | G44: =IF(G13="n/a","n/a",IF(G13="","",IF(G13>1,1,G13))) -> 1 | H44: =IF(H13="n/a","n/a",IF(H13="","",IF(H13>1,1,H13))) -> 1 | I44: =IF(I13="n/a","n/a",IF(I13="","",IF(I13>1,1,I13))) -> 1 | ... S44: =IF(S13="n/a","n/a",IF(S13="","",IF(S13>1,1,S13))) -> 0.49789861 | T44: =IF(T13="n/a","n/a",IF(T13="SI",1,0)) -> 1
A45: VICUÑA | B45: =IF(B14="n/a","n/a",IF(B14="","",IF(B14>1,1,B14))) -> 1 | C45: =IF(C14="n/a","n/a",IF(C14="","",IF(C14>1,1,C14))) -> 1 | D45: =IF(D14="n/a","n/a",IF(D14="","",IF(D14>1,1,D14))) -> 1 | E45: =IF(E14="n/a","n/a",IF(E14="","",IF(E14>1,1,E14))) -> 1 | F45: =IF(F14="n/a","n/a",IF(F14="","",IF(F14>1,1,F14))) -> 1 | G45: =IF(G14="n/a","n/a",IF(G14="","",IF(G14>1,1,G14))) -> 1 | H45: =IF(H14="n/a","n/a",IF(H14="","",IF(H14>1,1,H14))) -> 1 | I45: =IF(I14="n/a","n/a",IF(I14="","",IF(I14>1,1,I14))) -> 1 | ... S45: =IF(S14="n/a","n/a",IF(S14="","",IF(S14>1,1,S14))) -> 0.82220367 | T45: =IF(T14="n/a","n/a",IF(T14="SI",1,0)) -> 1
A46: ILLAPEL | B46: =IF(B15="n/a","n/a",IF(B15="","",IF(B15>1,1,B15))) -> 1 | C46: =IF(C15="n/a","n/a",IF(C15="","",IF(C15>1,1,C15))) -> 1 | D46: =IF(D15="n/a","n/a",IF(D15="","",IF(D15>1,1,D15))) -> 1 | E46: =IF(E15="n/a","n/a",IF(E15="","",IF(E15>1,1,E15))) -> 1 | F46: =IF(F15="n/a","n/a",IF(F15="","",IF(F15>1,1,F15))) -> 1 | G46: =IF(G15="n/a","n/a",IF(G15="","",IF(G15>1,1,G15))) -> 0.79596413 | H46: =IF(H15="n/a","n/a",IF(H15="","",IF(H15>1,1,H15))) -> 0.75406414 | I46: =IF(I15="n/a","n/a",IF(I15="","",IF(I15>1,1,I15))) -> 1 | ... S46: =IF(S15="n/a","n/a",IF(S15="","",IF(S15>1,1,S15))) -> 1 | T46: =IF(T15="n/a","n/a",IF(T15="SI",1,0)) -> 1
A47: CANELA | B47: =IF(B16="n/a","n/a",IF(B16="","",IF(B16>1,1,B16))) -> 1 | C47: =IF(C16="n/a","n/a",IF(C16="","",IF(C16>1,1,C16))) -> 1 | D47: =IF(D16="n/a","n/a",IF(D16="","",IF(D16>1,1,D16))) -> 1 | E47: =IF(E16="n/a","n/a",IF(E16="","",IF(E16>1,1,E16))) -> 1 | F47: =IF(F16="n/a","n/a",IF(F16="","",IF(F16>1,1,F16))) -> 0.81390642 | G47: =IF(G16="n/a","n/a",IF(G16="","",IF(G16>1,1,G16))) -> 1 | H47: =IF(H16="n/a","n/a",IF(H16="","",IF(H16>1,1,H16))) -> 1 | I47: =IF(I16="n/a","n/a",IF(I16="","",IF(I16>1,1,I16))) -> 0.94164668 | ... S47: =IF(S16="n/a","n/a",IF(S16="","",IF(S16>1,1,S16))) -> 1 | T47: =IF(T16="n/a","n/a",IF(T16="SI",1,0)) -> 1
A48: LOS VILOS | B48: =IF(B17="n/a","n/a",IF(B17="","",IF(B17>1,1,B17))) -> 1 | C48: =IF(C17="n/a","n/a",IF(C17="","",IF(C17>1,1,C17))) -> 1 | D48: =IF(D17="n/a","n/a",IF(D17="","",IF(D17>1,1,D17))) -> 0.93927126 | E48: =IF(E17="n/a","n/a",IF(E17="","",IF(E17>1,1,E17))) -> 1 | F48: =IF(F17="n/a","n/a",IF(F17="","",IF(F17>1,1,F17))) -> 1 | G48: =IF(G17="n/a","n/a",IF(G17="","",IF(G17>1,1,G17))) -> 1 | H48: =IF(H17="n/a","n/a",IF(H17="","",IF(H17>1,1,H17))) -> 1 | I48: =IF(I17="n/a","n/a",IF(I17="","",IF(I17>1,1,I17))) -> 1 | ... S48: =IF(S17="n/a","n/a",IF(S17="","",IF(S17>1,1,S17))) -> 0.92973856 | T48: =IF(T17="n/a","n/a",IF(T17="SI",1,0)) -> 1
A49: SALAMANCA | B49: =IF(B18="n/a","n/a",IF(B18="","",IF(B18>1,1,B18))) -> 1 | C49: =IF(C18="n/a","n/a",IF(C18="","",IF(C18>1,1,C18))) -> 1 | D49: =IF(D18="n/a","n/a",IF(D18="","",IF(D18>1,1,D18))) -> 0.96887967 | E49: =IF(E18="n/a","n/a",IF(E18="","",IF(E18>1,1,E18))) -> 1 | F49: =IF(F18="n/a","n/a",IF(F18="","",IF(F18>1,1,F18))) -> 0.90096231 | G49: =IF(G18="n/a","n/a",IF(G18="","",IF(G18>1,1,G18))) -> 1 | H49: =IF(H18="n/a","n/a",IF(H18="","",IF(H18>1,1,H18))) -> 1 | I49: =IF(I18="n/a","n/a",IF(I18="","",IF(I18>1,1,I18))) -> 1 | ... S49: =IF(S18="n/a","n/a",IF(S18="","",IF(S18>1,1,S18))) -> 0.93031359 | T49: =IF(T18="n/a","n/a",IF(T18="SI",1,0)) -> 1
A50: OVALLE | B50: =IF(B19="n/a","n/a",IF(B19="","",IF(B19>1,1,B19))) -> 1 | C50: =IF(C19="n/a","n/a",IF(C19="","",IF(C19>1,1,C19))) -> 1 | D50: =IF(D19="n/a","n/a",IF(D19="","",IF(D19>1,1,D19))) -> 1 | E50: =IF(E19="n/a","n/a",IF(E19="","",IF(E19>1,1,E19))) -> 1 | F50: =IF(F19="n/a","n/a",IF(F19="","",IF(F19>1,1,F19))) -> 0.97955767 | G50: =IF(G19="n/a","n/a",IF(G19="","",IF(G19>1,1,G19))) -> 1 | H50: =IF(H19="n/a","n/a",IF(H19="","",IF(H19>1,1,H19))) -> 1 | I50: =IF(I19="n/a","n/a",IF(I19="","",IF(I19>1,1,I19))) -> 1 | ... S50: =IF(S19="n/a","n/a",IF(S19="","",IF(S19>1,1,S19))) -> 0.94191981 | T50: =IF(T19="n/a","n/a",IF(T19="SI",1,0)) -> 1
A51: COMBARBALÁ | B51: =IF(B20="n/a","n/a",IF(B20="","",IF(B20>1,1,B20))) -> 1 | C51: =IF(C20="n/a","n/a",IF(C20="","",IF(C20>1,1,C20))) -> 1 | D51: =IF(D20="n/a","n/a",IF(D20="","",IF(D20>1,1,D20))) -> 0.9171705 | E51: =IF(E20="n/a","n/a",IF(E20="","",IF(E20>1,1,E20))) -> 1 | F51: =IF(F20="n/a","n/a",IF(F20="","",IF(F20>1,1,F20))) -> 1 | G51: =IF(G20="n/a","n/a",IF(G20="","",IF(G20>1,1,G20))) -> 1 | H51: =IF(H20="n/a","n/a",IF(H20="","",IF(H20>1,1,H20))) -> 1 | I51: =IF(I20="n/a","n/a",IF(I20="","",IF(I20>1,1,I20))) -> 1 | ... S51: =IF(S20="n/a","n/a",IF(S20="","",IF(S20>1,1,S20))) -> 0.77038896 | T51: =IF(T20="n/a","n/a",IF(T20="SI",1,0)) -> 1
...

Sheet META 2
A1: COMUNA | B1: ESTABLECIMIENTO | C1: CUMPLIMIENTO | D1: Indicador | E1: META 2 : FAMILIAS EVALUADAS SEGÚN RIESGO FAMILIAR
E2: NUMERADOR | G2: DENOMINADOR
E10: Nº de familias evaluadas según riesgo familiar | G10: Total de familias Insciritas (población inscrita/3,3)
D11: Resultado | E11: A JUNIO | F11: A DICBRE
A12: 04101-LA SERENA | B12: 105300-CES. CARDENAL CARO | E12: =IFERROR(VLOOKUP($B12,[4]NUM2!$H$3:$J$140,2,FALSE),0) -> 2745
A13: 04101-LA SERENA | B13: 105301-CES. LAS COMPAÑIAS | E13: =IFERROR(VLOOKUP($B13,[4]NUM2!$H$3:$J$140,2,FALSE),0) -> 549
A14: 04101-LA SERENA | B14: 105302-CES. PEDRO AGUIRRE C. | E14: =IFERROR(VLOOKUP($B14,[4]NUM2!$H$3:$J$140,2,FALSE),0) -> 272
A15: 04101-LA SERENA | B15: 105313-CES. SCHAFFHAUSER | E15: =IFERROR(VLOOKUP($B15,[4]NUM2!$H$3:$J$140,2,FALSE),0) -> 77
A16: 04101-LA SERENA | B16: 105319-CES. CARDENAL R.S.H. | E16: =IFERROR(VLOOKUP($B16,[4]NUM2!$H$3:$J$140,2,FALSE),0) -> 486
A17: 04101-LA SERENA | B17: 105325-CESFAM JUAN PABLO II | E17: =IFERROR(VLOOKUP($B17,[4]NUM2!$H$3:$J$140,2,FALSE),0) -> 2387
A18: 04101-LA SERENA | B18: 105400-P.S.R. ALGARROBITO | E18: =IFERROR(VLOOKUP($B18,[4]NUM2!$H$3:$J$140,2,FALSE),0) -> 50
A19: 04101-LA SERENA | B19: 105401-P.S.R. LAS ROJAS | E19: =IFERROR(VLOOKUP($B19,[4]NUM2!$H$3:$J$140,2,FALSE),0) -> 49
A20: 04101-LA SERENA | B20: 105402-P.S.R. EL ROMERO | E20: =IFERROR(VLOOKUP($B20,[4]NUM2!$H$3:$J$140,2,FALSE),0) -> 81
A21: 04101-LA SERENA | B21: 105499-P.S.R. LAMBERT | E21: =IFERROR(VLOOKUP($B21,[4]NUM2!$H$3:$J$140,2,FALSE),0) -> 90
A22: 04101-LA SERENA | B22: 105700-CECOF VILLA EL INDIO | E22: =IFERROR(VLOOKUP($B22,[4]NUM2!$H$3:$J$140,2,FALSE),0) -> 1193
A23: 04101-LA SERENA | B23: 105701-CECOF VILLA ALEMANIA | E23: =IFERROR(VLOOKUP($B23,[4]NUM2!$H$3:$J$140,2,FALSE),0) -> 153
A24: 04101-LA SERENA | B24: 105702-CECOF VILLA LAMBERT | E24: =IFERROR(VLOOKUP($B24,[4]NUM2!$H$3:$J$140,2,FALSE),0) -> 96
A25: TOTAL LA SERENA | C25: =+D25/Metas!G69 -> 2.0361371 | D25: =+E25/G25 -> 0.14142074 | E25: =SUM(E12:E24) -> 8228 | F25: =SUM(F12:F24) -> 0 | G25: 58181
A26: 04102-COQUIMBO | B26: 105303-CES. SAN JUAN | E26: =IFERROR(VLOOKUP($B26,[4]NUM2!$H$3:$J$140,2,FALSE),0) -> 246
A27: 04102-COQUIMBO | B27: 105304-CES. SANTA CECILIA | E27: =IFERROR(VLOOKUP($B27,[4]NUM2!$H$3:$J$140,2,FALSE),0) -> 83
A28: 04102-COQUIMBO | B28: 105305-CES. TIERRAS BLANCAS | E28: =IFERROR(VLOOKUP($B28,[4]NUM2!$H$3:$J$140,2,FALSE),0) -> 1025
A29: 04102-COQUIMBO | B29: 105321-CES. RURAL TONGOY | E29: =IFERROR(VLOOKUP($B29,[4]NUM2!$H$3:$J$140,2,FALSE),0) -> 30
A30: 04102-COQUIMBO | B30: 105323-CES. DR. SERGIO AGUILAR | E30: =IFERROR(VLOOKUP($B30,[4]NUM2!$H$3:$J$140,2,FALSE),0) -> 35
A31: 04102-COQUIMBO | B31: 105404-P.S.R. EL TANGUE | E31: =IFERROR(VLOOKUP($B31,[4]NUM2!$H$3:$J$140,2,FALSE),0) -> 0
A32: 04102-COQUIMBO | B32: 105405-P.S.R. GUANAQUEROS | E32: =IFERROR(VLOOKUP($B32,[4]NUM2!$H$3:$J$140,2,FALSE),0) -> 150
A33: 04102-COQUIMBO | B33: 105406-P.S.R. PAN DE AZUCAR | E33: =IFERROR(VLOOKUP($B33,[4]NUM2!$H$3:$J$140,2,FALSE),0) -> 32
A34: 04102-COQUIMBO | B34: 105407-P.S.R. TAMBILLOS | E34: =IFERROR(VLOOKUP($B34,[4]NUM2!$H$3:$J$140,2,FALSE),0) -> 6
A35: 04102-COQUIMBO | B35: 105705-CECOF EL ALBA | E35: =IFERROR(VLOOKUP($B35,[4]NUM2!$H$3:$J$140,2,FALSE),0) -> 1296
A36: 04102-COQUIMBO | B36: 200273-CECOF PUNTA MIRA | E36: =IFERROR(VLOOKUP($B36,[4]NUM2!$H$3:$J$140,2,FALSE),0) -> 61
A37: TOTAL COQUIMBO | C37: =+D37/Metas!G67 -> 0.86603828 | D37: =+E37/G37 -> 0.05279658 | E37: =SUM(E26:E36) -> 2964 | F37: =SUM(F26:F36) -> 0 | G37: 56140
A38: 04106-VICUÑA | B38: 105467-P.S.R. DIAGUITAS | E38: =IFERROR(VLOOKUP($B38,[4]NUM2!$H$3:$J$140,2,FALSE),0) -> 38
A39: 04106-VICUÑA | B39: 105468-P.S.R. EL MOLLE | E39: =IFERROR(VLOOKUP($B39,[4]NUM2!$H$3:$J$140,2,FALSE),0) -> 24
A40: 04106-VICUÑA | B40: 105469-P.S.R. EL TAMBO | E40: =IFERROR(VLOOKUP($B40,[4]NUM2!$H$3:$J$140,2,FALSE),0) -> 168
A41: 04106-VICUÑA | B41: 105470-P.S.R. HUANTA | E41: =IFERROR(VLOOKUP($B41,[4]NUM2!$H$3:$J$140,2,FALSE),0) -> 4
A42: 04106-VICUÑA | B42: 105471-P.S.R. PERALILLO | E42: =IFERROR(VLOOKUP($B42,[4]NUM2!$H$3:$J$140,2,FALSE),0) -> 197
A43: 04106-VICUÑA | B43: 105472-P.S.R. RIVADAVIA | E43: =IFERROR(VLOOKUP($B43,[4]NUM2!$H$3:$J$140,2,FALSE),0) -> 28
A44: 04106-VICUÑA | B44: 105473-P.S.R. TALCUNA | E44: =IFERROR(VLOOKUP($B44,[4]NUM2!$H$3:$J$140,2,FALSE),0) -> 107
A45: 04106-VICUÑA | B45: 105474-P.S.R. CHAPILCA | E45: =IFERROR(VLOOKUP($B45,[4]NUM2!$H$3:$J$140,2,FALSE),0) -> 11
A46: 04106-VICUÑA | B46: 105502-P.S.R. CALINGASTA | E46: =IFERROR(VLOOKUP($B46,[4]NUM2!$H$3:$J$140,2,FALSE),0) -> 83
A47: 04106-VICUÑA | B47: 105509-P.S.R. GUALLIGUAICA | E47: =IFERROR(VLOOKUP($B47,[4]NUM2!$H$3:$J$140,2,FALSE),0) -> 8
...

Sheet META 3.1
A1: COMUNA | B1: ESTABLECIMIENTO | C1: CUMPLIMIENTO | D1: Indicador | E1: META 3.1: GESTION DE RECLAMOS EN APS
E2: NUMERADOR | R2: DENOMINADOR
E10: Nº total de reclamos respondidos con solución dentro de los plazos legales establecidos (15 días hábiles) | R10: Nº total de reclamos
D11: Resultado | E11: ENERO | F11: FEBRERO | G11: MARZO | H11: ABRIL | I11: MAYO | J11: JUNIO | K11: JULIO | L11: AGOSTO | M11: SEPBRE | N11: OCTBRE | O11: NOVBRE | P11: DICBRE | Q11: TOTAL | R11: ENERO | S11: FEBRERO | T11: MARZO | U11: ABRIL | V11: MAYO | W11: JUNIO | X11: JULIO | Y11: AGOSTO | Z11: SEPBRE | AA11: OCTBRE | AB11: NOVBRE | AC11: DICBRE | AD11: TOTAL
A12: 04101-LA SERENA | B12: 105300-CES. CARDENAL CARO | E12: =IFERROR(VLOOKUP($B12,'[4]NUM3.1'!$H$3:$P$104,2,FALSE),0) -> 20 | F12: =IFERROR(VLOOKUP($B12,'[4]NUM3.1'!$H$3:$P$104,3,FALSE),0) -> 33 | G12: =IFERROR(VLOOKUP($B12,'[4]NUM3.1'!$H$3:$P$104,4,FALSE),0) -> 33 | H12: =IFERROR(VLOOKUP($B12,'[4]NUM3.1'!$H$3:$P$104,5,FALSE),0) -> 15 | I12: =IFERROR(VLOOKUP($B12,'[4]NUM3.1'!$H$3:$P$104,6,FALSE),0) -> 9 | J12: =IFERROR(VLOOKUP($B12,'[4]NUM3.1'!$H$3:$P$104,7,FALSE),0) -> 43 | K12: =IFERROR(VLOOKUP($B12,'[4]NUM3.1'!$H$3:$P$104,8,FALSE),0) -> 50 | Q12: =SUM(E12:P12) -> 203 | R12: =IFERROR(VLOOKUP($B12,'[4]DEN3.1'!$H$3:$P$104,2,FALSE),0) -> 20 | S12: =IFERROR(VLOOKUP($B12,'[4]DEN3.1'!$H$3:$P$104,3,FALSE),0) -> 33 | T12: =IFERROR(VLOOKUP($B12,'[4]DEN3.1'!$H$3:$P$104,4,FALSE),0) -> 33 | U12: =IFERROR(VLOOKUP($B12,'[4]DEN3.1'!$H$3:$P$104,5,FALSE),0) -> 15 | V12: =IFERROR(VLOOKUP($B12,'[4]DEN3.1'!$H$3:$P$104,6,FALSE),0) -> 9 | W12: =IFERROR(VLOOKUP($B12,'[4]DEN3.1'!$H$3:$P$104,7,FALSE),0) -> 43 | X12: =IFERROR(VLOOKUP($B12,'[4]DEN3.1'!$H$3:$P$104,8,FALSE),0) -> 50 | AD12: =SUM(R12:AC12) -> 203
A13: 04101-LA SERENA | B13: 105301-CES. LAS COMPAÑIAS | E13: =IFERROR(VLOOKUP($B13,'[4]NUM3.1'!$H$3:$P$104,2,FALSE),0) -> 9 | F13: =IFERROR(VLOOKUP($B13,'[4]NUM3.1'!$H$3:$P$104,3,FALSE),0) -> 4 | G13: =IFERROR(VLOOKUP($B13,'[4]NUM3.1'!$H$3:$P$104,4,FALSE),0) -> 21 | H13: =IFERROR(VLOOKUP($B13,'[4]NUM3.1'!$H$3:$P$104,5,FALSE),0) -> 9 | I13: =IFERROR(VLOOKUP($B13,'[4]NUM3.1'!$H$3:$P$104,6,FALSE),0) -> 2 | J13: =IFERROR(VLOOKUP($B13,'[4]NUM3.1'!$H$3:$P$104,7,FALSE),0) -> 15 | K13: =IFERROR(VLOOKUP($B13,'[4]NUM3.1'!$H$3:$P$104,8,FALSE),0) -> 6 | Q13: =SUM(E13:P13) -> 66 | R13: =IFERROR(VLOOKUP($B13,'[4]DEN3.1'!$H$3:$P$104,2,FALSE),0) -> 9 | S13: =IFERROR(VLOOKUP($B13,'[4]DEN3.1'!$H$3:$P$104,3,FALSE),0) -> 4 | T13: =IFERROR(VLOOKUP($B13,'[4]DEN3.1'!$H$3:$P$104,4,FALSE),0) -> 21 | U13: =IFERROR(VLOOKUP($B13,'[4]DEN3.1'!$H$3:$P$104,5,FALSE),0) -> 9 | V13: =IFERROR(VLOOKUP($B13,'[4]DEN3.1'!$H$3:$P$104,6,FALSE),0) -> 2 | W13: =IFERROR(VLOOKUP($B13,'[4]DEN3.1'!$H$3:$P$104,7,FALSE),0) -> 15 | X13: =IFERROR(VLOOKUP($B13,'[4]DEN3.1'!$H$3:$P$104,8,FALSE),0) -> 6 | AD13: =SUM(R13:AC13) -> 66
A14: 04101-LA SERENA | B14: 105302-CES. PEDRO AGUIRRE C. | E14: =IFERROR(VLOOKUP($B14,'[4]NUM3.1'!$H$3:$P$104,2,FALSE),0) -> 6 | F14: =IFERROR(VLOOKUP($B14,'[4]NUM3.1'!$H$3:$P$104,3,FALSE),0) -> 3 | G14: =IFERROR(VLOOKUP($B14,'[4]NUM3.1'!$H$3:$P$104,4,FALSE),0) -> 6 | H14: =IFERROR(VLOOKUP($B14,'[4]NUM3.1'!$H$3:$P$104,5,FALSE),0) -> 2 | I14: =IFERROR(VLOOKUP($B14,'[4]NUM3.1'!$H$3:$P$104,6,FALSE),0) -> 8 | J14: =IFERROR(VLOOKUP($B14,'[4]NUM3.1'!$H$3:$P$104,7,FALSE),0) -> 4 | K14: =IFERROR(VLOOKUP($B14,'[4]NUM3.1'!$H$3:$P$104,8,FALSE),0) -> 5 | Q14: =SUM(E14:P14) -> 34 | R14: =IFERROR(VLOOKUP($B14,'[4]DEN3.1'!$H$3:$P$104,2,FALSE),0) -> 6 | S14: =IFERROR(VLOOKUP($B14,'[4]DEN3.1'!$H$3:$P$104,3,FALSE),0) -> 3 | T14: =IFERROR(VLOOKUP($B14,'[4]DEN3.1'!$H$3:$P$104,4,FALSE),0) -> 6 | U14: =IFERROR(VLOOKUP($B14,'[4]DEN3.1'!$H$3:$P$104,5,FALSE),0) -> 2 | V14: =IFERROR(VLOOKUP($B14,'[4]DEN3.1'!$H$3:$P$104,6,FALSE),0) -> 8 | W14: =IFERROR(VLOOKUP($B14,'[4]DEN3.1'!$H$3:$P$104,7,FALSE),0) -> 4 | X14: =IFERROR(VLOOKUP($B14,'[4]DEN3.1'!$H$3:$P$104,8,FALSE),0) -> 5 | AD14: =SUM(R14:AC14) -> 34
A15: 04101-LA SERENA | B15: 105313-CES. SCHAFFHAUSER | E15: =IFERROR(VLOOKUP($B15,'[4]NUM3.1'!$H$3:$P$104,2,FALSE),0) -> 9 | F15: =IFERROR(VLOOKUP($B15,'[4]NUM3.1'!$H$3:$P$104,3,FALSE),0) -> 2 | G15: =IFERROR(VLOOKUP($B15,'[4]NUM3.1'!$H$3:$P$104,4,FALSE),0) -> 5 | H15: =IFERROR(VLOOKUP($B15,'[4]NUM3.1'!$H$3:$P$104,5,FALSE),0) -> 10 | I15: =IFERROR(VLOOKUP($B15,'[4]NUM3.1'!$H$3:$P$104,6,FALSE),0) -> 6 | J15: =IFERROR(VLOOKUP($B15,'[4]NUM3.1'!$H$3:$P$104,7,FALSE),0) -> 13 | K15: =IFERROR(VLOOKUP($B15,'[4]NUM3.1'!$H$3:$P$104,8,FALSE),0) -> 4 | Q15: =SUM(E15:P15) -> 49 | R15: =IFERROR(VLOOKUP($B15,'[4]DEN3.1'!$H$3:$P$104,2,FALSE),0) -> 9 | S15: =IFERROR(VLOOKUP($B15,'[4]DEN3.1'!$H$3:$P$104,3,FALSE),0) -> 2 | T15: =IFERROR(VLOOKUP($B15,'[4]DEN3.1'!$H$3:$P$104,4,FALSE),0) -> 5 | U15: =IFERROR(VLOOKUP($B15,'[4]DEN3.1'!$H$3:$P$104,5,FALSE),0) -> 10 | V15: =IFERROR(VLOOKUP($B15,'[4]DEN3.1'!$H$3:$P$104,6,FALSE),0) -> 6 | W15: =IFERROR(VLOOKUP($B15,'[4]DEN3.1'!$H$3:$P$104,7,FALSE),0) -> 13 | X15: =IFERROR(VLOOKUP($B15,'[4]DEN3.1'!$H$3:$P$104,8,FALSE),0) -> 4 | AD15: =SUM(R15:AC15) -> 49
A16: 04101-LA SERENA | B16: 105319-CES. CARDENAL R.S.H. | E16: =IFERROR(VLOOKUP($B16,'[4]NUM3.1'!$H$3:$P$104,2,FALSE),0) -> 4 | F16: =IFERROR(VLOOKUP($B16,'[4]NUM3.1'!$H$3:$P$104,3,FALSE),0) -> 2 | G16: =IFERROR(VLOOKUP($B16,'[4]NUM3.1'!$H$3:$P$104,4,FALSE),0) -> 5 | H16: =IFERROR(VLOOKUP($B16,'[4]NUM3.1'!$H$3:$P$104,5,FALSE),0) -> 2 | I16: =IFERROR(VLOOKUP($B16,'[4]NUM3.1'!$H$3:$P$104,6,FALSE),0) -> 9 | J16: =IFERROR(VLOOKUP($B16,'[4]NUM3.1'!$H$3:$P$104,7,FALSE),0) -> 4 | K16: =IFERROR(VLOOKUP($B16,'[4]NUM3.1'!$H$3:$P$104,8,FALSE),0) -> 4 | Q16: =SUM(E16:P16) -> 30 | R16: =IFERROR(VLOOKUP($B16,'[4]DEN3.1'!$H$3:$P$104,2,FALSE),0) -> 4 | S16: =IFERROR(VLOOKUP($B16,'[4]DEN3.1'!$H$3:$P$104,3,FALSE),0) -> 2 | T16: =IFERROR(VLOOKUP($B16,'[4]DEN3.1'!$H$3:$P$104,4,FALSE),0) -> 5 | U16: =IFERROR(VLOOKUP($B16,'[4]DEN3.1'!$H$3:$P$104,5,FALSE),0) -> 2 | V16: =IFERROR(VLOOKUP($B16,'[4]DEN3.1'!$H$3:$P$104,6,FALSE),0) -> 9 | W16: =IFERROR(VLOOKUP($B16,'[4]DEN3.1'!$H$3:$P$104,7,FALSE),0) -> 4 | X16: =IFERROR(VLOOKUP($B16,'[4]DEN3.1'!$H$3:$P$104,8,FALSE),0) -> 4 | AD16: =SUM(R16:AC16) -> 30
A17: 04101-LA SERENA | B17: 105325-CESFAM JUAN PABLO II | E17: =IFERROR(VLOOKUP($B17,'[4]NUM3.1'!$H$3:$P$104,2,FALSE),0) -> 8 | F17: =IFERROR(VLOOKUP($B17,'[4]NUM3.1'!$H$3:$P$104,3,FALSE),0) -> 5 | G17: =IFERROR(VLOOKUP($B17,'[4]NUM3.1'!$H$3:$P$104,4,FALSE),0) -> 3 | H17: =IFERROR(VLOOKUP($B17,'[4]NUM3.1'!$H$3:$P$104,5,FALSE),0) -> 12 | I17: =IFERROR(VLOOKUP($B17,'[4]NUM3.1'!$H$3:$P$104,6,FALSE),0) -> 12 | J17: =IFERROR(VLOOKUP($B17,'[4]NUM3.1'!$H$3:$P$104,7,FALSE),0) -> 3 | K17: =IFERROR(VLOOKUP($B17,'[4]NUM3.1'!$H$3:$P$104,8,FALSE),0) -> 4 | Q17: =SUM(E17:P17) -> 47 | R17: =IFERROR(VLOOKUP($B17,'[4]DEN3.1'!$H$3:$P$104,2,FALSE),0) -> 8 | S17: =IFERROR(VLOOKUP($B17,'[4]DEN3.1'!$H$3:$P$104,3,FALSE),0) -> 5 | T17: =IFERROR(VLOOKUP($B17,'[4]DEN3.1'!$H$3:$P$104,4,FALSE),0) -> 3 | U17: =IFERROR(VLOOKUP($B17,'[4]DEN3.1'!$H$3:$P$104,5,FALSE),0) -> 12 | V17: =IFERROR(VLOOKUP($B17,'[4]DEN3.1'!$H$3:$P$104,6,FALSE),0) -> 12 | W17: =IFERROR(VLOOKUP($B17,'[4]DEN3.1'!$H$3:$P$104,7,FALSE),0) -> 3 | X17: =IFERROR(VLOOKUP($B17,'[4]DEN3.1'!$H$3:$P$104,8,FALSE),0) -> 4 | AD17: =SUM(R17:AC17) -> 47
A18: 04101-LA SERENA | B18: 105400-P.S.R. ALGARROBITO | E18: =IFERROR(VLOOKUP($B18,'[4]NUM3.1'!$H$3:$P$104,2,FALSE),0) -> 0 | F18: =IFERROR(VLOOKUP($B18,'[4]NUM3.1'!$H$3:$P$104,3,FALSE),0) -> 0 | G18: =IFERROR(VLOOKUP($B18,'[4]NUM3.1'!$H$3:$P$104,4,FALSE),0) -> 0 | H18: =IFERROR(VLOOKUP($B18,'[4]NUM3.1'!$H$3:$P$104,5,FALSE),0) -> 0 | I18: =IFERROR(VLOOKUP($B18,'[4]NUM3.1'!$H$3:$P$104,6,FALSE),0) -> 0 | J18: =IFERROR(VLOOKUP($B18,'[4]NUM3.1'!$H$3:$P$104,7,FALSE),0) -> 1 | K18: =IFERROR(VLOOKUP($B18,'[4]NUM3.1'!$H$3:$P$104,8,FALSE),0) -> 1 | Q18: =SUM(E18:P18) -> 2 | R18: =IFERROR(VLOOKUP($B18,'[4]DEN3.1'!$H$3:$P$104,2,FALSE),0) -> 0 | S18: =IFERROR(VLOOKUP($B18,'[4]DEN3.1'!$H$3:$P$104,3,FALSE),0) -> 0 | T18: =IFERROR(VLOOKUP($B18,'[4]DEN3.1'!$H$3:$P$104,4,FALSE),0) -> 0 | U18: =IFERROR(VLOOKUP($B18,'[4]DEN3.1'!$H$3:$P$104,5,FALSE),0) -> 0 | V18: =IFERROR(VLOOKUP($B18,'[4]DEN3.1'!$H$3:$P$104,6,FALSE),0) -> 0 | W18: =IFERROR(VLOOKUP($B18,'[4]DEN3.1'!$H$3:$P$104,7,FALSE),0) -> 1 | X18: =IFERROR(VLOOKUP($B18,'[4]DEN3.1'!$H$3:$P$104,8,FALSE),0) -> 1 | AD18: =SUM(R18:AC18) -> 2
A19: 04101-LA SERENA | B19: 105401-P.S.R. LAS ROJAS | E19: =IFERROR(VLOOKUP($B19,'[4]NUM3.1'!$H$3:$P$104,2,FALSE),0) -> 0 | F19: =IFERROR(VLOOKUP($B19,'[4]NUM3.1'!$H$3:$P$104,3,FALSE),0) -> 0 | G19: =IFERROR(VLOOKUP($B19,'[4]NUM3.1'!$H$3:$P$104,4,FALSE),0) -> 0 | H19: =IFERROR(VLOOKUP($B19,'[4]NUM3.1'!$H$3:$P$104,5,FALSE),0) -> 0 | I19: =IFERROR(VLOOKUP($B19,'[4]NUM3.1'!$H$3:$P$104,6,FALSE),0) -> 0 | J19: =IFERROR(VLOOKUP($B19,'[4]NUM3.1'!$H$3:$P$104,7,FALSE),0) -> 0 | K19: =IFERROR(VLOOKUP($B19,'[4]NUM3.1'!$H$3:$P$104,8,FALSE),0) -> 0 | Q19: =SUM(E19:P19) -> 0 | R19: =IFERROR(VLOOKUP($B19,'[4]DEN3.1'!$H$3:$P$104,2,FALSE),0) -> 0 | S19: =IFERROR(VLOOKUP($B19,'[4]DEN3.1'!$H$3:$P$104,3,FALSE),0) -> 0 | T19: =IFERROR(VLOOKUP($B19,'[4]DEN3.1'!$H$3:$P$104,4,FALSE),0) -> 0 | U19: =IFERROR(VLOOKUP($B19,'[4]DEN3.1'!$H$3:$P$104,5,FALSE),0) -> 0 | V19: =IFERROR(VLOOKUP($B19,'[4]DEN3.1'!$H$3:$P$104,6,FALSE),0) -> 0 | W19: =IFERROR(VLOOKUP($B19,'[4]DEN3.1'!$H$3:$P$104,7,FALSE),0) -> 0 | X19: =IFERROR(VLOOKUP($B19,'[4]DEN3.1'!$H$3:$P$104,8,FALSE),0) -> 0 | AD19: =SUM(R19:AC19) -> 0
A20: 04101-LA SERENA | B20: 105402-P.S.R. EL ROMERO | E20: =IFERROR(VLOOKUP($B20,'[4]NUM3.1'!$H$3:$P$104,2,FALSE),0) -> 0 | F20: =IFERROR(VLOOKUP($B20,'[4]NUM3.1'!$H$3:$P$104,3,FALSE),0) -> 0 | G20: =IFERROR(VLOOKUP($B20,'[4]NUM3.1'!$H$3:$P$104,4,FALSE),0) -> 0 | H20: =IFERROR(VLOOKUP($B20,'[4]NUM3.1'!$H$3:$P$104,5,FALSE),0) -> 0 | I20: =IFERROR(VLOOKUP($B20,'[4]NUM3.1'!$H$3:$P$104,6,FALSE),0) -> 0 | J20: =IFERROR(VLOOKUP($B20,'[4]NUM3.1'!$H$3:$P$104,7,FALSE),0) -> 0 | K20: =IFERROR(VLOOKUP($B20,'[4]NUM3.1'!$H$3:$P$104,8,FALSE),0) -> 1 | Q20: =SUM(E20:P20) -> 1 | R20: =IFERROR(VLOOKUP($B20,'[4]DEN3.1'!$H$3:$P$104,2,FALSE),0) -> 0 | S20: =IFERROR(VLOOKUP($B20,'[4]DEN3.1'!$H$3:$P$104,3,FALSE),0) -> 0 | T20: =IFERROR(VLOOKUP($B20,'[4]DEN3.1'!$H$3:$P$104,4,FALSE),0) -> 0 | U20: =IFERROR(VLOOKUP($B20,'[4]DEN3.1'!$H$3:$P$104,5,FALSE),0) -> 0 | V20: =IFERROR(VLOOKUP($B20,'[4]DEN3.1'!$H$3:$P$104,6,FALSE),0) -> 0 | W20: =IFERROR(VLOOKUP($B20,'[4]DEN3.1'!$H$3:$P$104,7,FALSE),0) -> 0 | X20: =IFERROR(VLOOKUP($B20,'[4]DEN3.1'!$H$3:$P$104,8,FALSE),0) -> 1 | AD20: =SUM(R20:AC20) -> 1
A21: 04101-LA SERENA | B21: 105499-P.S.R. LAMBERT | E21: =IFERROR(VLOOKUP($B21,'[4]NUM3.1'!$H$3:$P$104,2,FALSE),0) -> 0 | F21: =IFERROR(VLOOKUP($B21,'[4]NUM3.1'!$H$3:$P$104,3,FALSE),0) -> 0 | G21: =IFERROR(VLOOKUP($B21,'[4]NUM3.1'!$H$3:$P$104,4,FALSE),0) -> 0 | H21: =IFERROR(VLOOKUP($B21,'[4]NUM3.1'!$H$3:$P$104,5,FALSE),0) -> 0 | I21: =IFERROR(VLOOKUP($B21,'[4]NUM3.1'!$H$3:$P$104,6,FALSE),0) -> 0 | J21: =IFERROR(VLOOKUP($B21,'[4]NUM3.1'!$H$3:$P$104,7,FALSE),0) -> 0 | K21: =IFERROR(VLOOKUP($B21,'[4]NUM3.1'!$H$3:$P$104,8,FALSE),0) -> 0 | Q21: =SUM(E21:P21) -> 0 | R21: =IFERROR(VLOOKUP($B21,'[4]DEN3.1'!$H$3:$P$104,2,FALSE),0) -> 0 | S21: =IFERROR(VLOOKUP($B21,'[4]DEN3.1'!$H$3:$P$104,3,FALSE),0) -> 0 | T21: =IFERROR(VLOOKUP($B21,'[4]DEN3.1'!$H$3:$P$104,4,FALSE),0) -> 0 | U21: =IFERROR(VLOOKUP($B21,'[4]DEN3.1'!$H$3:$P$104,5,FALSE),0) -> 0 | V21: =IFERROR(VLOOKUP($B21,'[4]DEN3.1'!$H$3:$P$104,6,FALSE),0) -> 0 | W21: =IFERROR(VLOOKUP($B21,'[4]DEN3.1'!$H$3:$P$104,7,FALSE),0) -> 0 | X21: =IFERROR(VLOOKUP($B21,'[4]DEN3.1'!$H$3:$P$104,8,FALSE),0) -> 0 | AD21: =SUM(R21:AC21) -> 0
A22: 04101-LA SERENA | B22: 105700-CECOF VILLA EL INDIO | E22: =IFERROR(VLOOKUP($B22,'[4]NUM3.1'!$H$3:$P$104,2,FALSE),0) -> 0 | F22: =IFERROR(VLOOKUP($B22,'[4]NUM3.1'!$H$3:$P$104,3,FALSE),0) -> 1 | G22: =IFERROR(VLOOKUP($B22,'[4]NUM3.1'!$H$3:$P$104,4,FALSE),0) -> 0 | H22: =IFERROR(VLOOKUP($B22,'[4]NUM3.1'!$H$3:$P$104,5,FALSE),0) -> 2 | I22: =IFERROR(VLOOKUP($B22,'[4]NUM3.1'!$H$3:$P$104,6,FALSE),0) -> 2 | J22: =IFERROR(VLOOKUP($B22,'[4]NUM3.1'!$H$3:$P$104,7,FALSE),0) -> 0 | K22: =IFERROR(VLOOKUP($B22,'[4]NUM3.1'!$H$3:$P$104,8,FALSE),0) -> 0 | Q22: =SUM(E22:P22) -> 5 | R22: =IFERROR(VLOOKUP($B22,'[4]DEN3.1'!$H$3:$P$104,2,FALSE),0) -> 0 | S22: =IFERROR(VLOOKUP($B22,'[4]DEN3.1'!$H$3:$P$104,3,FALSE),0) -> 1 | T22: =IFERROR(VLOOKUP($B22,'[4]DEN3.1'!$H$3:$P$104,4,FALSE),0) -> 0 | U22: =IFERROR(VLOOKUP($B22,'[4]DEN3.1'!$H$3:$P$104,5,FALSE),0) -> 2 | V22: =IFERROR(VLOOKUP($B22,'[4]DEN3.1'!$H$3:$P$104,6,FALSE),0) -> 2 | W22: =IFERROR(VLOOKUP($B22,'[4]DEN3.1'!$H$3:$P$104,7,FALSE),0) -> 0 | X22: =IFERROR(VLOOKUP($B22,'[4]DEN3.1'!$H$3:$P$104,8,FALSE),0) -> 0 | AD22: =SUM(R22:AC22) -> 5
A23: 04101-LA SERENA | B23: 105701-CECOF VILLA ALEMANIA | E23: =IFERROR(VLOOKUP($B23,'[4]NUM3.1'!$H$3:$P$104,2,FALSE),0) -> 0 | F23: =IFERROR(VLOOKUP($B23,'[4]NUM3.1'!$H$3:$P$104,3,FALSE),0) -> 0 | G23: =IFERROR(VLOOKUP($B23,'[4]NUM3.1'!$H$3:$P$104,4,FALSE),0) -> 0 | H23: =IFERROR(VLOOKUP($B23,'[4]NUM3.1'!$H$3:$P$104,5,FALSE),0) -> 0 | I23: =IFERROR(VLOOKUP($B23,'[4]NUM3.1'!$H$3:$P$104,6,FALSE),0) -> 0 | J23: =IFERROR(VLOOKUP($B23,'[4]NUM3.1'!$H$3:$P$104,7,FALSE),0) -> 1 | K23: =IFERROR(VLOOKUP($B23,'[4]NUM3.1'!$H$3:$P$104,8,FALSE),0) -> 1 | Q23: =SUM(E23:P23) -> 2 | R23: =IFERROR(VLOOKUP($B23,'[4]DEN3.1'!$H$3:$P$104,2,FALSE),0) -> 0 | S23: =IFERROR(VLOOKUP($B23,'[4]DEN3.1'!$H$3:$P$104,3,FALSE),0) -> 0 | T23: =IFERROR(VLOOKUP($B23,'[4]DEN3.1'!$H$3:$P$104,4,FALSE),0) -> 0 | U23: =IFERROR(VLOOKUP($B23,'[4]DEN3.1'!$H$3:$P$104,5,FALSE),0) -> 0 | V23: =IFERROR(VLOOKUP($B23,'[4]DEN3.1'!$H$3:$P$104,6,FALSE),0) -> 0 | W23: =IFERROR(VLOOKUP($B23,'[4]DEN3.1'!$H$3:$P$104,7,FALSE),0) -> 1 | X23: =IFERROR(VLOOKUP($B23,'[4]DEN3.1'!$H$3:$P$104,8,FALSE),0) -> 1 | AD23: =SUM(R23:AC23) -> 2
A24: 04101-LA SERENA | B24: 105702-CECOF VILLA LAMBERT | E24: =IFERROR(VLOOKUP($B24,'[4]NUM3.1'!$H$3:$P$104,2,FALSE),0) -> 1 | F24: =IFERROR(VLOOKUP($B24,'[4]NUM3.1'!$H$3:$P$104,3,FALSE),0) -> 0 | G24: =IFERROR(VLOOKUP($B24,'[4]NUM3.1'!$H$3:$P$104,4,FALSE),0) -> 0 | H24: =IFERROR(VLOOKUP($B24,'[4]NUM3.1'!$H$3:$P$104,5,FALSE),0) -> 0 | I24: =IFERROR(VLOOKUP($B24,'[4]NUM3.1'!$H$3:$P$104,6,FALSE),0) -> 0 | J24: =IFERROR(VLOOKUP($B24,'[4]NUM3.1'!$H$3:$P$104,7,FALSE),0) -> 0 | K24: =IFERROR(VLOOKUP($B24,'[4]NUM3.1'!$H$3:$P$104,8,FALSE),0) -> 0 | Q24: =SUM(E24:P24) -> 1 | R24: =IFERROR(VLOOKUP($B24,'[4]DEN3.1'!$H$3:$P$104,2,FALSE),0) -> 1 | S24: =IFERROR(VLOOKUP($B24,'[4]DEN3.1'!$H$3:$P$104,3,FALSE),0) -> 0 | T24: =IFERROR(VLOOKUP($B24,'[4]DEN3.1'!$H$3:$P$104,4,FALSE),0) -> 0 | U24: =IFERROR(VLOOKUP($B24,'[4]DEN3.1'!$H$3:$P$104,5,FALSE),0) -> 0 | V24: =IFERROR(VLOOKUP($B24,'[4]DEN3.1'!$H$3:$P$104,6,FALSE),0) -> 0 | W24: =IFERROR(VLOOKUP($B24,'[4]DEN3.1'!$H$3:$P$104,7,FALSE),0) -> 0 | X24: =IFERROR(VLOOKUP($B24,'[4]DEN3.1'!$H$3:$P$104,8,FALSE),0) -> 0 | AD24: =SUM(R24:AC24) -> 1
A25: TOTAL LA SERENA | C25: =+D25/Metas!H69 -> 1.0201429 | D25: =+Q25/AD25 -> 1 | E25: =SUM(E12:E24) -> 57 | F25: =SUM(F12:F24) -> 50 | G25: =SUM(G12:G24) -> 73 | H25: =SUM(H12:H24) -> 52 | I25: =SUM(I12:I24) -> 48 | J25: =SUM(J12:J24) -> 84 | K25: =SUM(K12:K24) -> 76 | L25: =SUM(L12:L24) -> 0 | ... AD25: =SUM(AD12:AD24) -> 440
A26: 04102-COQUIMBO | B26: 105303-CES. SAN JUAN | E26: =IFERROR(VLOOKUP($B26,'[4]NUM3.1'!$H$3:$P$104,2,FALSE),0) -> 7 | F26: =IFERROR(VLOOKUP($B26,'[4]NUM3.1'!$H$3:$P$104,3,FALSE),0) -> 5 | G26: =IFERROR(VLOOKUP($B26,'[4]NUM3.1'!$H$3:$P$104,4,FALSE),0) -> 15 | H26: =IFERROR(VLOOKUP($B26,'[4]NUM3.1'!$H$3:$P$104,5,FALSE),0) -> 21 | I26: =IFERROR(VLOOKUP($B26,'[4]NUM3.1'!$H$3:$P$104,6,FALSE),0) -> 0 | J26: =IFERROR(VLOOKUP($B26,'[4]NUM3.1'!$H$3:$P$104,7,FALSE),0) -> 7 | K26: =IFERROR(VLOOKUP($B26,'[4]NUM3.1'!$H$3:$P$104,8,FALSE),0) -> 10 | Q26: =SUM(E26:P26) -> 65 | R26: =IFERROR(VLOOKUP($B26,'[4]DEN3.1'!$H$3:$P$104,2,FALSE),0) -> 7 | S26: =IFERROR(VLOOKUP($B26,'[4]DEN3.1'!$H$3:$P$104,3,FALSE),0) -> 5 | T26: =IFERROR(VLOOKUP($B26,'[4]DEN3.1'!$H$3:$P$104,4,FALSE),0) -> 15 | U26: =IFERROR(VLOOKUP($B26,'[4]DEN3.1'!$H$3:$P$104,5,FALSE),0) -> 21 | V26: =IFERROR(VLOOKUP($B26,'[4]DEN3.1'!$H$3:$P$104,6,FALSE),0) -> 0 | W26: =IFERROR(VLOOKUP($B26,'[4]DEN3.1'!$H$3:$P$104,7,FALSE),0) -> 7 | X26: =IFERROR(VLOOKUP($B26,'[4]DEN3.1'!$H$3:$P$104,8,FALSE),0) -> 10 | AD26: =SUM(R26:AC26) -> 65
A27: 04102-COQUIMBO | B27: 105304-CES. SANTA CECILIA | E27: =IFERROR(VLOOKUP($B27,'[4]NUM3.1'!$H$3:$P$104,2,FALSE),0) -> 11 | F27: =IFERROR(VLOOKUP($B27,'[4]NUM3.1'!$H$3:$P$104,3,FALSE),0) -> 5 | G27: =IFERROR(VLOOKUP($B27,'[4]NUM3.1'!$H$3:$P$104,4,FALSE),0) -> 11 | H27: =IFERROR(VLOOKUP($B27,'[4]NUM3.1'!$H$3:$P$104,5,FALSE),0) -> 10 | I27: =IFERROR(VLOOKUP($B27,'[4]NUM3.1'!$H$3:$P$104,6,FALSE),0) -> 17 | J27: =IFERROR(VLOOKUP($B27,'[4]NUM3.1'!$H$3:$P$104,7,FALSE),0) -> 10 | K27: =IFERROR(VLOOKUP($B27,'[4]NUM3.1'!$H$3:$P$104,8,FALSE),0) -> 13 | Q27: =SUM(E27:P27) -> 77 | R27: =IFERROR(VLOOKUP($B27,'[4]DEN3.1'!$H$3:$P$104,2,FALSE),0) -> 11 | S27: =IFERROR(VLOOKUP($B27,'[4]DEN3.1'!$H$3:$P$104,3,FALSE),0) -> 5 | T27: =IFERROR(VLOOKUP($B27,'[4]DEN3.1'!$H$3:$P$104,4,FALSE),0) -> 11 | U27: =IFERROR(VLOOKUP($B27,'[4]DEN3.1'!$H$3:$P$104,5,FALSE),0) -> 10 | V27: =IFERROR(VLOOKUP($B27,'[4]DEN3.1'!$H$3:$P$104,6,FALSE),0) -> 17 | W27: =IFERROR(VLOOKUP($B27,'[4]DEN3.1'!$H$3:$P$104,7,FALSE),0) -> 10 | X27: =IFERROR(VLOOKUP($B27,'[4]DEN3.1'!$H$3:$P$104,8,FALSE),0) -> 13 | AD27: =SUM(R27:AC27) -> 77
A28: 04102-COQUIMBO | B28: 105305-CES. TIERRAS BLANCAS | E28: =IFERROR(VLOOKUP($B28,'[4]NUM3.1'!$H$3:$P$104,2,FALSE),0) -> 1 | F28: =IFERROR(VLOOKUP($B28,'[4]NUM3.1'!$H$3:$P$104,3,FALSE),0) -> 3 | G28: =IFERROR(VLOOKUP($B28,'[4]NUM3.1'!$H$3:$P$104,4,FALSE),0) -> 9 | H28: =IFERROR(VLOOKUP($B28,'[4]NUM3.1'!$H$3:$P$104,5,FALSE),0) -> 3 | I28: =IFERROR(VLOOKUP($B28,'[4]NUM3.1'!$H$3:$P$104,6,FALSE),0) -> 12 | J28: =IFERROR(VLOOKUP($B28,'[4]NUM3.1'!$H$3:$P$104,7,FALSE),0) -> 4 | K28: =IFERROR(VLOOKUP($B28,'[4]NUM3.1'!$H$3:$P$104,8,FALSE),0) -> 3 | Q28: =SUM(E28:P28) -> 35 | R28: =IFERROR(VLOOKUP($B28,'[4]DEN3.1'!$H$3:$P$104,2,FALSE),0) -> 1 | S28: =IFERROR(VLOOKUP($B28,'[4]DEN3.1'!$H$3:$P$104,3,FALSE),0) -> 3 | T28: =IFERROR(VLOOKUP($B28,'[4]DEN3.1'!$H$3:$P$104,4,FALSE),0) -> 9 | U28: =IFERROR(VLOOKUP($B28,'[4]DEN3.1'!$H$3:$P$104,5,FALSE),0) -> 3 | V28: =IFERROR(VLOOKUP($B28,'[4]DEN3.1'!$H$3:$P$104,6,FALSE),0) -> 12 | W28: =IFERROR(VLOOKUP($B28,'[4]DEN3.1'!$H$3:$P$104,7,FALSE),0) -> 4 | X28: =IFERROR(VLOOKUP($B28,'[4]DEN3.1'!$H$3:$P$104,8,FALSE),0) -> 3 | AD28: =SUM(R28:AC28) -> 35
A29: 04102-COQUIMBO | B29: 105321-CES. RURAL TONGOY | E29: =IFERROR(VLOOKUP($B29,'[4]NUM3.1'!$H$3:$P$104,2,FALSE),0) -> 0 | F29: =IFERROR(VLOOKUP($B29,'[4]NUM3.1'!$H$3:$P$104,3,FALSE),0) -> 6 | G29: =IFERROR(VLOOKUP($B29,'[4]NUM3.1'!$H$3:$P$104,4,FALSE),0) -> 2 | H29: =IFERROR(VLOOKUP($B29,'[4]NUM3.1'!$H$3:$P$104,5,FALSE),0) -> 3 | I29: =IFERROR(VLOOKUP($B29,'[4]NUM3.1'!$H$3:$P$104,6,FALSE),0) -> 3 | J29: =IFERROR(VLOOKUP($B29,'[4]NUM3.1'!$H$3:$P$104,7,FALSE),0) -> 0 | K29: =IFERROR(VLOOKUP($B29,'[4]NUM3.1'!$H$3:$P$104,8,FALSE),0) -> 2 | Q29: =SUM(E29:P29) -> 16 | R29: =IFERROR(VLOOKUP($B29,'[4]DEN3.1'!$H$3:$P$104,2,FALSE),0) -> 0 | S29: =IFERROR(VLOOKUP($B29,'[4]DEN3.1'!$H$3:$P$104,3,FALSE),0) -> 6 | T29: =IFERROR(VLOOKUP($B29,'[4]DEN3.1'!$H$3:$P$104,4,FALSE),0) -> 2 | U29: =IFERROR(VLOOKUP($B29,'[4]DEN3.1'!$H$3:$P$104,5,FALSE),0) -> 3 | V29: =IFERROR(VLOOKUP($B29,'[4]DEN3.1'!$H$3:$P$104,6,FALSE),0) -> 3 | W29: =IFERROR(VLOOKUP($B29,'[4]DEN3.1'!$H$3:$P$104,7,FALSE),0) -> 0 | X29: =IFERROR(VLOOKUP($B29,'[4]DEN3.1'!$H$3:$P$104,8,FALSE),0) -> 2 | AD29: =SUM(R29:AC29) -> 16
A30: 04102-COQUIMBO | B30: 105323-CES. DR. SERGIO AGUILAR | E30: =IFERROR(VLOOKUP($B30,'[4]NUM3.1'!$H$3:$P$104,2,FALSE),0) -> 54 | F30: =IFERROR(VLOOKUP($B30,'[4]NUM3.1'!$H$3:$P$104,3,FALSE),0) -> 46 | G30: =IFERROR(VLOOKUP($B30,'[4]NUM3.1'!$H$3:$P$104,4,FALSE),0) -> 57 | H30: =IFERROR(VLOOKUP($B30,'[4]NUM3.1'!$H$3:$P$104,5,FALSE),0) -> 59 | I30: =IFERROR(VLOOKUP($B30,'[4]NUM3.1'!$H$3:$P$104,6,FALSE),0) -> 48 | J30: =IFERROR(VLOOKUP($B30,'[4]NUM3.1'!$H$3:$P$104,7,FALSE),0) -> 47 | K30: =IFERROR(VLOOKUP($B30,'[4]NUM3.1'!$H$3:$P$104,8,FALSE),0) -> 47 | Q30: =SUM(E30:P30) -> 358 | R30: =IFERROR(VLOOKUP($B30,'[4]DEN3.1'!$H$3:$P$104,2,FALSE),0) -> 54 | S30: =IFERROR(VLOOKUP($B30,'[4]DEN3.1'!$H$3:$P$104,3,FALSE),0) -> 46 | T30: =IFERROR(VLOOKUP($B30,'[4]DEN3.1'!$H$3:$P$104,4,FALSE),0) -> 57 | U30: =IFERROR(VLOOKUP($B30,'[4]DEN3.1'!$H$3:$P$104,5,FALSE),0) -> 59 | V30: =IFERROR(VLOOKUP($B30,'[4]DEN3.1'!$H$3:$P$104,6,FALSE),0) -> 49 | W30: =IFERROR(VLOOKUP($B30,'[4]DEN3.1'!$H$3:$P$104,7,FALSE),0) -> 47 | X30: =IFERROR(VLOOKUP($B30,'[4]DEN3.1'!$H$3:$P$104,8,FALSE),0) -> 47 | AD30: =SUM(R30:AC30) -> 359
A31: 04102-COQUIMBO | B31: 105404-P.S.R. EL TANGUE | E31: =IFERROR(VLOOKUP($B31,'[4]NUM3.1'!$H$3:$P$104,2,FALSE),0) -> 0 | F31: =IFERROR(VLOOKUP($B31,'[4]NUM3.1'!$H$3:$P$104,3,FALSE),0) -> 0 | G31: =IFERROR(VLOOKUP($B31,'[4]NUM3.1'!$H$3:$P$104,4,FALSE),0) -> 0 | H31: =IFERROR(VLOOKUP($B31,'[4]NUM3.1'!$H$3:$P$104,5,FALSE),0) -> 0 | I31: =IFERROR(VLOOKUP($B31,'[4]NUM3.1'!$H$3:$P$104,6,FALSE),0) -> 0 | J31: =IFERROR(VLOOKUP($B31,'[4]NUM3.1'!$H$3:$P$104,7,FALSE),0) -> 0 | K31: =IFERROR(VLOOKUP($B31,'[4]NUM3.1'!$H$3:$P$104,8,FALSE),0) -> 0 | Q31: =SUM(E31:P31) -> 0 | R31: =IFERROR(VLOOKUP($B31,'[4]DEN3.1'!$H$3:$P$104,2,FALSE),0) -> 0 | S31: =IFERROR(VLOOKUP($B31,'[4]DEN3.1'!$H$3:$P$104,3,FALSE),0) -> 0 | T31: =IFERROR(VLOOKUP($B31,'[4]DEN3.1'!$H$3:$P$104,4,FALSE),0) -> 0 | U31: =IFERROR(VLOOKUP($B31,'[4]DEN3.1'!$H$3:$P$104,5,FALSE),0) -> 0 | V31: =IFERROR(VLOOKUP($B31,'[4]DEN3.1'!$H$3:$P$104,6,FALSE),0) -> 0 | W31: =IFERROR(VLOOKUP($B31,'[4]DEN3.1'!$H$3:$P$104,7,FALSE),0) -> 0 | X31: =IFERROR(VLOOKUP($B31,'[4]DEN3.1'!$H$3:$P$104,8,FALSE),0) -> 0 | AD31: =SUM(R31:AC31) -> 0
A32: 04102-COQUIMBO | B32: 105405-P.S.R. GUANAQUEROS | E32: =IFERROR(VLOOKUP($B32,'[4]NUM3.1'!$H$3:$P$104,2,FALSE),0) -> 3 | F32: =IFERROR(VLOOKUP($B32,'[4]NUM3.1'!$H$3:$P$104,3,FALSE),0) -> 2 | G32: =IFERROR(VLOOKUP($B32,'[4]NUM3.1'!$H$3:$P$104,4,FALSE),0) -> 1 | H32: =IFERROR(VLOOKUP($B32,'[4]NUM3.1'!$H$3:$P$104,5,FALSE),0) -> 2 | I32: =IFERROR(VLOOKUP($B32,'[4]NUM3.1'!$H$3:$P$104,6,FALSE),0) -> 1 | J32: =IFERROR(VLOOKUP($B32,'[4]NUM3.1'!$H$3:$P$104,7,FALSE),0) -> 0 | K32: =IFERROR(VLOOKUP($B32,'[4]NUM3.1'!$H$3:$P$104,8,FALSE),0) -> 0 | Q32: =SUM(E32:P32) -> 9 | R32: =IFERROR(VLOOKUP($B32,'[4]DEN3.1'!$H$3:$P$104,2,FALSE),0) -> 3 | S32: =IFERROR(VLOOKUP($B32,'[4]DEN3.1'!$H$3:$P$104,3,FALSE),0) -> 2 | T32: =IFERROR(VLOOKUP($B32,'[4]DEN3.1'!$H$3:$P$104,4,FALSE),0) -> 1 | U32: =IFERROR(VLOOKUP($B32,'[4]DEN3.1'!$H$3:$P$104,5,FALSE),0) -> 2 | V32: =IFERROR(VLOOKUP($B32,'[4]DEN3.1'!$H$3:$P$104,6,FALSE),0) -> 1 | W32: =IFERROR(VLOOKUP($B32,'[4]DEN3.1'!$H$3:$P$104,7,FALSE),0) -> 0 | X32: =IFERROR(VLOOKUP($B32,'[4]DEN3.1'!$H$3:$P$104,8,FALSE),0) -> 0 | AD32: =SUM(R32:AC32) -> 9
A33: 04102-COQUIMBO | B33: 105406-P.S.R. PAN DE AZUCAR | E33: =IFERROR(VLOOKUP($B33,'[4]NUM3.1'!$H$3:$P$104,2,FALSE),0) -> 2 | F33: =IFERROR(VLOOKUP($B33,'[4]NUM3.1'!$H$3:$P$104,3,FALSE),0) -> 2 | G33: =IFERROR(VLOOKUP($B33,'[4]NUM3.1'!$H$3:$P$104,4,FALSE),0) -> 0 | H33: =IFERROR(VLOOKUP($B33,'[4]NUM3.1'!$H$3:$P$104,5,FALSE),0) -> 3 | I33: =IFERROR(VLOOKUP($B33,'[4]NUM3.1'!$H$3:$P$104,6,FALSE),0) -> 2 | J33: =IFERROR(VLOOKUP($B33,'[4]NUM3.1'!$H$3:$P$104,7,FALSE),0) -> 3 | K33: =IFERROR(VLOOKUP($B33,'[4]NUM3.1'!$H$3:$P$104,8,FALSE),0) -> 3 | Q33: =SUM(E33:P33) -> 15 | R33: =IFERROR(VLOOKUP($B33,'[4]DEN3.1'!$H$3:$P$104,2,FALSE),0) -> 2 | S33: =IFERROR(VLOOKUP($B33,'[4]DEN3.1'!$H$3:$P$104,3,FALSE),0) -> 2 | T33: =IFERROR(VLOOKUP($B33,'[4]DEN3.1'!$H$3:$P$104,4,FALSE),0) -> 0 | U33: =IFERROR(VLOOKUP($B33,'[4]DEN3.1'!$H$3:$P$104,5,FALSE),0) -> 3 | V33: =IFERROR(VLOOKUP($B33,'[4]DEN3.1'!$H$3:$P$104,6,FALSE),0) -> 2 | W33: =IFERROR(VLOOKUP($B33,'[4]DEN3.1'!$H$3:$P$104,7,FALSE),0) -> 3 | X33: =IFERROR(VLOOKUP($B33,'[4]DEN3.1'!$H$3:$P$104,8,FALSE),0) -> 3 | AD33: =SUM(R33:AC33) -> 15
A34: 04102-COQUIMBO | B34: 105407-P.S.R. TAMBILLOS | E34: =IFERROR(VLOOKUP($B34,'[4]NUM3.1'!$H$3:$P$104,2,FALSE),0) -> 0 | F34: =IFERROR(VLOOKUP($B34,'[4]NUM3.1'!$H$3:$P$104,3,FALSE),0) -> 0 | G34: =IFERROR(VLOOKUP($B34,'[4]NUM3.1'!$H$3:$P$104,4,FALSE),0) -> 0 | H34: =IFERROR(VLOOKUP($B34,'[4]NUM3.1'!$H$3:$P$104,5,FALSE),0) -> 0 | I34: =IFERROR(VLOOKUP($B34,'[4]NUM3.1'!$H$3:$P$104,6,FALSE),0) -> 0 | J34: =IFERROR(VLOOKUP($B34,'[4]NUM3.1'!$H$3:$P$104,7,FALSE),0) -> 0 | K34: =IFERROR(VLOOKUP($B34,'[4]NUM3.1'!$H$3:$P$104,8,FALSE),0) -> 0 | Q34: =SUM(E34:P34) -> 0 | R34: =IFERROR(VLOOKUP($B34,'[4]DEN3.1'!$H$3:$P$104,2,FALSE),0) -> 0 | S34: =IFERROR(VLOOKUP($B34,'[4]DEN3.1'!$H$3:$P$104,3,FALSE),0) -> 0 | T34: =IFERROR(VLOOKUP($B34,'[4]DEN3.1'!$H$3:$P$104,4,FALSE),0) -> 0 | U34: =IFERROR(VLOOKUP($B34,'[4]DEN3.1'!$H$3:$P$104,5,FALSE),0) -> 0 | V34: =IFERROR(VLOOKUP($B34,'[4]DEN3.1'!$H$3:$P$104,6,FALSE),0) -> 0 | W34: =IFERROR(VLOOKUP($B34,'[4]DEN3.1'!$H$3:$P$104,7,FALSE),0) -> 0 | X34: =IFERROR(VLOOKUP($B34,'[4]DEN3.1'!$H$3:$P$104,8,FALSE),0) -> 0 | AD34: =SUM(R34:AC34) -> 0
A35: 04102-COQUIMBO | B35: 105705-CECOF EL ALBA | E35: =IFERROR(VLOOKUP($B35,'[4]NUM3.1'!$H$3:$P$104,2,FALSE),0) -> 2 | F35: =IFERROR(VLOOKUP($B35,'[4]NUM3.1'!$H$3:$P$104,3,FALSE),0) -> 2 | G35: =IFERROR(VLOOKUP($B35,'[4]NUM3.1'!$H$3:$P$104,4,FALSE),0) -> 1 | H35: =IFERROR(VLOOKUP($B35,'[4]NUM3.1'!$H$3:$P$104,5,FALSE),0) -> 3 | I35: =IFERROR(VLOOKUP($B35,'[4]NUM3.1'!$H$3:$P$104,6,FALSE),0) -> 0 | J35: =IFERROR(VLOOKUP($B35,'[4]NUM3.1'!$H$3:$P$104,7,FALSE),0) -> 1 | K35: =IFERROR(VLOOKUP($B35,'[4]NUM3.1'!$H$3:$P$104,8,FALSE),0) -> 1 | Q35: =SUM(E35:P35) -> 10 | R35: =IFERROR(VLOOKUP($B35,'[4]DEN3.1'!$H$3:$P$104,2,FALSE),0) -> 2 | S35: =IFERROR(VLOOKUP($B35,'[4]DEN3.1'!$H$3:$P$104,3,FALSE),0) -> 2 | T35: =IFERROR(VLOOKUP($B35,'[4]DEN3.1'!$H$3:$P$104,4,FALSE),0) -> 1 | U35: =IFERROR(VLOOKUP($B35,'[4]DEN3.1'!$H$3:$P$104,5,FALSE),0) -> 3 | V35: =IFERROR(VLOOKUP($B35,'[4]DEN3.1'!$H$3:$P$104,6,FALSE),0) -> 0 | W35: =IFERROR(VLOOKUP($B35,'[4]DEN3.1'!$H$3:$P$104,7,FALSE),0) -> 1 | X35: =IFERROR(VLOOKUP($B35,'[4]DEN3.1'!$H$3:$P$104,8,FALSE),0) -> 1 | AD35: =SUM(R35:AC35) -> 10
A36: 04102-COQUIMBO | B36: 200273-CECOF PUNTA MIRA | E36: =IFERROR(VLOOKUP($B36,'[4]NUM3.1'!$H$3:$P$104,2,FALSE),0) -> 3 | F36: =IFERROR(VLOOKUP($B36,'[4]NUM3.1'!$H$3:$P$104,3,FALSE),0) -> 4 | G36: =IFERROR(VLOOKUP($B36,'[4]NUM3.1'!$H$3:$P$104,4,FALSE),0) -> 2 | H36: =IFERROR(VLOOKUP($B36,'[4]NUM3.1'!$H$3:$P$104,5,FALSE),0) -> 3 | I36: =IFERROR(VLOOKUP($B36,'[4]NUM3.1'!$H$3:$P$104,6,FALSE),0) -> 5 | J36: =IFERROR(VLOOKUP($B36,'[4]NUM3.1'!$H$3:$P$104,7,FALSE),0) -> 4 | K36: =IFERROR(VLOOKUP($B36,'[4]NUM3.1'!$H$3:$P$104,8,FALSE),0) -> 0 | Q36: =SUM(E36:P36) -> 21 | R36: =IFERROR(VLOOKUP($B36,'[4]DEN3.1'!$H$3:$P$104,2,FALSE),0) -> 3 | S36: =IFERROR(VLOOKUP($B36,'[4]DEN3.1'!$H$3:$P$104,3,FALSE),0) -> 4 | T36: =IFERROR(VLOOKUP($B36,'[4]DEN3.1'!$H$3:$P$104,4,FALSE),0) -> 2 | U36: =IFERROR(VLOOKUP($B36,'[4]DEN3.1'!$H$3:$P$104,5,FALSE),0) -> 3 | V36: =IFERROR(VLOOKUP($B36,'[4]DEN3.1'!$H$3:$P$104,6,FALSE),0) -> 5 | W36: =IFERROR(VLOOKUP($B36,'[4]DEN3.1'!$H$3:$P$104,7,FALSE),0) -> 4 | X36: =IFERROR(VLOOKUP($B36,'[4]DEN3.1'!$H$3:$P$104,8,FALSE),0) -> 0 | AD36: =SUM(R36:AC36) -> 21
A37: TOTAL COQUIMBO | C37: =+D37/Metas!H67 -> 1.0186664 | D37: =+Q37/AD37 -> 0.99835255 | E37: =SUM(E26:E36) -> 83 | F37: =SUM(F26:F36) -> 75 | G37: =SUM(G26:G36) -> 98 | H37: =SUM(H26:H36) -> 107 | I37: =SUM(I26:I36) -> 88 | J37: =SUM(J26:J36) -> 76 | K37: =SUM(K26:K36) -> 79 | L37: =SUM(L26:L36) -> 0 | ... AD37: =SUM(AD26:AD36) -> 607
A38: 04106-VICUÑA | B38: 105467-P.S.R. DIAGUITAS | E38: =IFERROR(VLOOKUP($B38,'[4]NUM3.1'!$H$3:$P$104,2,FALSE),0) -> 1 | F38: =IFERROR(VLOOKUP($B38,'[4]NUM3.1'!$H$3:$P$104,3,FALSE),0) -> 1 | G38: =IFERROR(VLOOKUP($B38,'[4]NUM3.1'!$H$3:$P$104,4,FALSE),0) -> 0 | H38: =IFERROR(VLOOKUP($B38,'[4]NUM3.1'!$H$3:$P$104,5,FALSE),0) -> 1 | I38: =IFERROR(VLOOKUP($B38,'[4]NUM3.1'!$H$3:$P$104,6,FALSE),0) -> 2 | J38: =IFERROR(VLOOKUP($B38,'[4]NUM3.1'!$H$3:$P$104,7,FALSE),0) -> 1 | K38: =IFERROR(VLOOKUP($B38,'[4]NUM3.1'!$H$3:$P$104,8,FALSE),0) -> 1 | Q38: =SUM(E38:P38) -> 7 | R38: =IFERROR(VLOOKUP($B38,'[4]DEN3.1'!$H$3:$P$104,2,FALSE),0) -> 1 | S38: =IFERROR(VLOOKUP($B38,'[4]DEN3.1'!$H$3:$P$104,3,FALSE),0) -> 1 | T38: =IFERROR(VLOOKUP($B38,'[4]DEN3.1'!$H$3:$P$104,4,FALSE),0) -> 0 | U38: =IFERROR(VLOOKUP($B38,'[4]DEN3.1'!$H$3:$P$104,5,FALSE),0) -> 1 | V38: =IFERROR(VLOOKUP($B38,'[4]DEN3.1'!$H$3:$P$104,6,FALSE),0) -> 2 | W38: =IFERROR(VLOOKUP($B38,'[4]DEN3.1'!$H$3:$P$104,7,FALSE),0) -> 1 | X38: =IFERROR(VLOOKUP($B38,'[4]DEN3.1'!$H$3:$P$104,8,FALSE),0) -> 1 | AD38: =SUM(R38:AC38) -> 7
A39: 04106-VICUÑA | B39: 105468-P.S.R. EL MOLLE | E39: =IFERROR(VLOOKUP($B39,'[4]NUM3.1'!$H$3:$P$104,2,FALSE),0) -> 0 | F39: =IFERROR(VLOOKUP($B39,'[4]NUM3.1'!$H$3:$P$104,3,FALSE),0) -> 0 | G39: =IFERROR(VLOOKUP($B39,'[4]NUM3.1'!$H$3:$P$104,4,FALSE),0) -> 0 | H39: =IFERROR(VLOOKUP($B39,'[4]NUM3.1'!$H$3:$P$104,5,FALSE),0) -> 0 | I39: =IFERROR(VLOOKUP($B39,'[4]NUM3.1'!$H$3:$P$104,6,FALSE),0) -> 0 | J39: =IFERROR(VLOOKUP($B39,'[4]NUM3.1'!$H$3:$P$104,7,FALSE),0) -> 0 | K39: =IFERROR(VLOOKUP($B39,'[4]NUM3.1'!$H$3:$P$104,8,FALSE),0) -> 0 | Q39: =SUM(E39:P39) -> 0 | R39: =IFERROR(VLOOKUP($B39,'[4]DEN3.1'!$H$3:$P$104,2,FALSE),0) -> 0 | S39: =IFERROR(VLOOKUP($B39,'[4]DEN3.1'!$H$3:$P$104,3,FALSE),0) -> 0 | T39: =IFERROR(VLOOKUP($B39,'[4]DEN3.1'!$H$3:$P$104,4,FALSE),0) -> 0 | U39: =IFERROR(VLOOKUP($B39,'[4]DEN3.1'!$H$3:$P$104,5,FALSE),0) -> 0 | V39: =IFERROR(VLOOKUP($B39,'[4]DEN3.1'!$H$3:$P$104,6,FALSE),0) -> 0 | W39: =IFERROR(VLOOKUP($B39,'[4]DEN3.1'!$H$3:$P$104,7,FALSE),0) -> 0 | X39: =IFERROR(VLOOKUP($B39,'[4]DEN3.1'!$H$3:$P$104,8,FALSE),0) -> 0 | AD39: =SUM(R39:AC39) -> 0
A40: 04106-VICUÑA | B40: 105469-P.S.R. EL TAMBO | E40: =IFERROR(VLOOKUP($B40,'[4]NUM3.1'!$H$3:$P$104,2,FALSE),0) -> 2 | F40: =IFERROR(VLOOKUP($B40,'[4]NUM3.1'!$H$3:$P$104,3,FALSE),0) -> 2 | G40: =IFERROR(VLOOKUP($B40,'[4]NUM3.1'!$H$3:$P$104,4,FALSE),0) -> 0 | H40: =IFERROR(VLOOKUP($B40,'[4]NUM3.1'!$H$3:$P$104,5,FALSE),0) -> 0 | I40: =IFERROR(VLOOKUP($B40,'[4]NUM3.1'!$H$3:$P$104,6,FALSE),0) -> 0 | J40: =IFERROR(VLOOKUP($B40,'[4]NUM3.1'!$H$3:$P$104,7,FALSE),0) -> 0 | K40: =IFERROR(VLOOKUP($B40,'[4]NUM3.1'!$H$3:$P$104,8,FALSE),0) -> 0 | Q40: =SUM(E40:P40) -> 4 | R40: =IFERROR(VLOOKUP($B40,'[4]DEN3.1'!$H$3:$P$104,2,FALSE),0) -> 2 | S40: =IFERROR(VLOOKUP($B40,'[4]DEN3.1'!$H$3:$P$104,3,FALSE),0) -> 2 | T40: =IFERROR(VLOOKUP($B40,'[4]DEN3.1'!$H$3:$P$104,4,FALSE),0) -> 0 | U40: =IFERROR(VLOOKUP($B40,'[4]DEN3.1'!$H$3:$P$104,5,FALSE),0) -> 0 | V40: =IFERROR(VLOOKUP($B40,'[4]DEN3.1'!$H$3:$P$104,6,FALSE),0) -> 0 | W40: =IFERROR(VLOOKUP($B40,'[4]DEN3.1'!$H$3:$P$104,7,FALSE),0) -> 0 | X40: =IFERROR(VLOOKUP($B40,'[4]DEN3.1'!$H$3:$P$104,8,FALSE),0) -> 0 | AD40: =SUM(R40:AC40) -> 4
A41: 04106-VICUÑA | B41: 105470-P.S.R. HUANTA | E41: =IFERROR(VLOOKUP($B41,'[4]NUM3.1'!$H$3:$P$104,2,FALSE),0) -> 0 | F41: =IFERROR(VLOOKUP($B41,'[4]NUM3.1'!$H$3:$P$104,3,FALSE),0) -> 0 | G41: =IFERROR(VLOOKUP($B41,'[4]NUM3.1'!$H$3:$P$104,4,FALSE),0) -> 0 | H41: =IFERROR(VLOOKUP($B41,'[4]NUM3.1'!$H$3:$P$104,5,FALSE),0) -> 0 | I41: =IFERROR(VLOOKUP($B41,'[4]NUM3.1'!$H$3:$P$104,6,FALSE),0) -> 0 | J41: =IFERROR(VLOOKUP($B41,'[4]NUM3.1'!$H$3:$P$104,7,FALSE),0) -> 0 | K41: =IFERROR(VLOOKUP($B41,'[4]NUM3.1'!$H$3:$P$104,8,FALSE),0) -> 0 | Q41: =SUM(E41:P41) -> 0 | R41: =IFERROR(VLOOKUP($B41,'[4]DEN3.1'!$H$3:$P$104,2,FALSE),0) -> 0 | S41: =IFERROR(VLOOKUP($B41,'[4]DEN3.1'!$H$3:$P$104,3,FALSE),0) -> 0 | T41: =IFERROR(VLOOKUP($B41,'[4]DEN3.1'!$H$3:$P$104,4,FALSE),0) -> 0 | U41: =IFERROR(VLOOKUP($B41,'[4]DEN3.1'!$H$3:$P$104,5,FALSE),0) -> 0 | V41: =IFERROR(VLOOKUP($B41,'[4]DEN3.1'!$H$3:$P$104,6,FALSE),0) -> 0 | W41: =IFERROR(VLOOKUP($B41,'[4]DEN3.1'!$H$3:$P$104,7,FALSE),0) -> 0 | X41: =IFERROR(VLOOKUP($B41,'[4]DEN3.1'!$H$3:$P$104,8,FALSE),0) -> 0 | AD41: =SUM(R41:AC41) -> 0
A42: 04106-VICUÑA | B42: 105471-P.S.R. PERALILLO | E42: =IFERROR(VLOOKUP($B42,'[4]NUM3.1'!$H$3:$P$104,2,FALSE),0) -> 1 | F42: =IFERROR(VLOOKUP($B42,'[4]NUM3.1'!$H$3:$P$104,3,FALSE),0) -> 1 | G42: =IFERROR(VLOOKUP($B42,'[4]NUM3.1'!$H$3:$P$104,4,FALSE),0) -> 0 | H42: =IFERROR(VLOOKUP($B42,'[4]NUM3.1'!$H$3:$P$104,5,FALSE),0) -> 0 | I42: =IFERROR(VLOOKUP($B42,'[4]NUM3.1'!$H$3:$P$104,6,FALSE),0) -> 0 | J42: =IFERROR(VLOOKUP($B42,'[4]NUM3.1'!$H$3:$P$104,7,FALSE),0) -> 0 | K42: =IFERROR(VLOOKUP($B42,'[4]NUM3.1'!$H$3:$P$104,8,FALSE),0) -> 0 | Q42: =SUM(E42:P42) -> 2 | R42: =IFERROR(VLOOKUP($B42,'[4]DEN3.1'!$H$3:$P$104,2,FALSE),0) -> 1 | S42: =IFERROR(VLOOKUP($B42,'[4]DEN3.1'!$H$3:$P$104,3,FALSE),0) -> 1 | T42: =IFERROR(VLOOKUP($B42,'[4]DEN3.1'!$H$3:$P$104,4,FALSE),0) -> 0 | U42: =IFERROR(VLOOKUP($B42,'[4]DEN3.1'!$H$3:$P$104,5,FALSE),0) -> 0 | V42: =IFERROR(VLOOKUP($B42,'[4]DEN3.1'!$H$3:$P$104,6,FALSE),0) -> 0 | W42: =IFERROR(VLOOKUP($B42,'[4]DEN3.1'!$H$3:$P$104,7,FALSE),0) -> 0 | X42: =IFERROR(VLOOKUP($B42,'[4]DEN3.1'!$H$3:$P$104,8,FALSE),0) -> 0 | AD42: =SUM(R42:AC42) -> 2
A43: 04106-VICUÑA | B43: 105472-P.S.R. RIVADAVIA | E43: =IFERROR(VLOOKUP($B43,'[4]NUM3.1'!$H$3:$P$104,2,FALSE),0) -> 0 | F43: =IFERROR(VLOOKUP($B43,'[4]NUM3.1'!$H$3:$P$104,3,FALSE),0) -> 0 | G43: =IFERROR(VLOOKUP($B43,'[4]NUM3.1'!$H$3:$P$104,4,FALSE),0) -> 0 | H43: =IFERROR(VLOOKUP($B43,'[4]NUM3.1'!$H$3:$P$104,5,FALSE),0) -> 0 | I43: =IFERROR(VLOOKUP($B43,'[4]NUM3.1'!$H$3:$P$104,6,FALSE),0) -> 0 | J43: =IFERROR(VLOOKUP($B43,'[4]NUM3.1'!$H$3:$P$104,7,FALSE),0) -> 0 | K43: =IFERROR(VLOOKUP($B43,'[4]NUM3.1'!$H$3:$P$104,8,FALSE),0) -> 0 | Q43: =SUM(E43:P43) -> 0 | R43: =IFERROR(VLOOKUP($B43,'[4]DEN3.1'!$H$3:$P$104,2,FALSE),0) -> 0 | S43: =IFERROR(VLOOKUP($B43,'[4]DEN3.1'!$H$3:$P$104,3,FALSE),0) -> 0 | T43: =IFERROR(VLOOKUP($B43,'[4]DEN3.1'!$H$3:$P$104,4,FALSE),0) -> 0 | U43: =IFERROR(VLOOKUP($B43,'[4]DEN3.1'!$H$3:$P$104,5,FALSE),0) -> 0 | V43: =IFERROR(VLOOKUP($B43,'[4]DEN3.1'!$H$3:$P$104,6,FALSE),0) -> 0 | W43: =IFERROR(VLOOKUP($B43,'[4]DEN3.1'!$H$3:$P$104,7,FALSE),0) -> 0 | X43: =IFERROR(VLOOKUP($B43,'[4]DEN3.1'!$H$3:$P$104,8,FALSE),0) -> 0 | AD43: =SUM(R43:AC43) -> 0
A44: 04106-VICUÑA | B44: 105473-P.S.R. TALCUNA | E44: =IFERROR(VLOOKUP($B44,'[4]NUM3.1'!$H$3:$P$104,2,FALSE),0) -> 0 | F44: =IFERROR(VLOOKUP($B44,'[4]NUM3.1'!$H$3:$P$104,3,FALSE),0) -> 0 | G44: =IFERROR(VLOOKUP($B44,'[4]NUM3.1'!$H$3:$P$104,4,FALSE),0) -> 1 | H44: =IFERROR(VLOOKUP($B44,'[4]NUM3.1'!$H$3:$P$104,5,FALSE),0) -> 1 | I44: =IFERROR(VLOOKUP($B44,'[4]NUM3.1'!$H$3:$P$104,6,FALSE),0) -> 0 | J44: =IFERROR(VLOOKUP($B44,'[4]NUM3.1'!$H$3:$P$104,7,FALSE),0) -> 0 | K44: =IFERROR(VLOOKUP($B44,'[4]NUM3.1'!$H$3:$P$104,8,FALSE),0) -> 1 | Q44: =SUM(E44:P44) -> 3 | R44: =IFERROR(VLOOKUP($B44,'[4]DEN3.1'!$H$3:$P$104,2,FALSE),0) -> 0 | S44: =IFERROR(VLOOKUP($B44,'[4]DEN3.1'!$H$3:$P$104,3,FALSE),0) -> 0 | T44: =IFERROR(VLOOKUP($B44,'[4]DEN3.1'!$H$3:$P$104,4,FALSE),0) -> 1 | U44: =IFERROR(VLOOKUP($B44,'[4]DEN3.1'!$H$3:$P$104,5,FALSE),0) -> 1 | V44: =IFERROR(VLOOKUP($B44,'[4]DEN3.1'!$H$3:$P$104,6,FALSE),0) -> 0 | W44: =IFERROR(VLOOKUP($B44,'[4]DEN3.1'!$H$3:$P$104,7,FALSE),0) -> 0 | X44: =IFERROR(VLOOKUP($B44,'[4]DEN3.1'!$H$3:$P$104,8,FALSE),0) -> 1 | AD44: =SUM(R44:AC44) -> 3
