Workbook

Sheet RESUMEN 
A1: MINISTERIO DE SALUD
A2: SERVICIO DE SALUD COQUIMBO
A3: SUBDIRECCION DE GESTION ASISTENCIAL
A4: SUBDEPTO DE ESTADÍSTICA Y GESTIÓN DE LA INFORMACIÓN
A5: COMUNA | B5: RESUMEN DE CUMPLIMIENTO DE METAS A JULIO 2017
B6: CORTE A JUNIO
B8: METAS COMPONENTE ESTRATEGIA RISS, PRODUCCIÓN,COBERTURA EFECTIVA E IMPACTO SANITARIO
B9: META Nº2 | C9: META Nº3.1 | D9: META Nº5 | E9: META Nº6 | F9: META Nº7 | G9: META Nº8.1 | H9: META Nº8.2 | I9: META Nº8.3 | J9: META Nº9 | K9: META Nº10 | L9: META Nº11 | M9: META Nº12 | N9: META Nº13 | O9: META Nº14 | P9: META Nº17 | Q9: META Nº18 | R9: META Nº19 | S9: META Nº20 | T9: META Nº21 | U9: CUMPLIMIENTO GENERAL | V9: CUMPLIMIENTO META GES
B10: Familias Evaluadas según riesgo (*) | C10: Gestion de Reclamos APS | D10: Consultas de Morbilidad y Controles Médicos | E10: SIC derivadas desde la APS al Nivel Secundario | F10: Visita domiciliaria integral | G10: EMP hombres 20 a 64 años | H10: EMP mujeres de 45 a 64 años | I10: EMP 65 y mas años | J10: Evaluación del desarrollo Psicomotor de niños/as de 12 a 23 meses bajo control | K10: Control de salud integral adolescentes de 10 a 14 años | L10: Alta odontologica menores de 20 años | M10: Cobertura de Atención Integral de trastornos mentales en personas de 5 y más años | N10: Cobertura de Atención de Asma en Población general y EPOC en personas de 40 años y más | O10: Capacitación a Cuidadores de personas con Dependencia Severa con Pago de Estipendio (*) | P10: Control embarazada | Q10: Cobertura de Métodos Anticonceptivos en Adolescentes | R10: Cobertura DM2 en personas de 15 y mas años (*) | S10: Cobertutra HTA en personas de 15 y mas años (*) | T10: Proporción de Niñas y Niños de 3 años libre de Caries
A12: LA SERENA | B12: =+'META 2'!$C$25 -> 2.0361371 | C12: =+'META 3.1'!$C$25 -> 1.0201429 | D12: =+'META 5 '!$C$25 -> 1.2602032 | E12: =+'META 6'!$C$25 -> 1.0855766 | F12: =+'META 7'!$C$25 -> 1.5228181 | G12: =+'META 8.1'!$C$25 -> 1.0112226 | H12: =+'META 8.2'!$C$25 -> 0.95061781 | I12: =+'META 8.3'!$C$25 -> 0.97353389 | J12: =+'META 9'!$C$25 -> 1.1934048 | K12: =+'META 10'!$C$25 -> 0.79690722 | L12: =+'META 11'!$C$25 -> 1.2056142 | M12: =+'META 12'!$C$25 -> 0.97428924 | N12: =+'META 13'!$C$25 -> 0.82284926 | O12: =+'META 14'!$C$25 -> 2.2121212 | P12: =+'META 17'!$C$25 -> 1.0194839 | Q12: =+'META 18'!$C$25 -> 2.109589 | R12: =+'META 19'!$C$25 -> 0.82905983 | S12: =+'META 20'!$C$25 -> 0.76972176 | T12: =+'META 21'!$C$25 -> SI | U12: =C43*3%+D43*6%+E43*3%+F43*5%+G43*5%+H43*5%+I43*5%+J43*4%+K43*4%+L43*4%+M43*4%+N43*4%+P43*4%+T43*3% -> 0.56996941 | V12: =+META_GES!$C$25 -> 1
A13: COQUIMBO | B13: =+'META 2'!$C$37 -> 0.86603828 | C13: =+'META 3.1'!$C$37 -> 1.0186664 | D13: =+'META 5 '!$C$37 -> 1.1787567 | E13: =+'META 6'!$C$37 -> 1.1492065 | F13: =+'META 7'!$C$37 -> 1.2451321 | G13: =+'META 8.1'!$C$37 -> 1.1454877 | H13: =+'META 8.2'!$C$37 -> 1.1777056 | I13: =+'META 8.3'!$C$37 -> 1.2555556 | J13: =+'META 9'!$C$37 -> 1.1507892 | K13: =+'META 10'!$C$37 -> 0.69974425 | L13: =+'META 11'!$C$37 -> 1.2104807 | M13: =+'META 12'!$C$37 -> 0.67031684 | N13: =+'META 13'!$C$37 -> 0.58237594 | O13: =+'META 14'!$C$37 -> 1.9730094 | P13: =+'META 17'!$C$37 -> 0.98221568 | Q13: =+'META 18'!$C$37 -> 1.3822957 | R13: =+'META 19'!$C$37 -> 0.75743349 | S13: =+'META 20'!$C$37 -> 0.49789861 | T13: =+'META 21'!$C$37 -> SI | U13: =C44*3%+D44*6%+E44*3%+F44*5%+G44*5%+H44*5%+I44*5%+J44*4%+K44*4%+L44*4%+M44*4%+N44*4%+P44*4%+T44*3% -> 0.54738611 | V13: =+META_GES!$C$37 -> 1
A14: VICUÑA | B14: =+'META 2'!$C$48 -> 2.6668429 | C14: =+'META 3.1'!$C$48 -> 1.0204082 | D14: =+'META 5 '!$C$48 -> 1.0392805 | E14: =+'META 6'!$C$48 -> 3.9873239 | F14: =+'META 7'!$C$48 -> 1.3429157 | G14: =+'META 8.1'!$C$48 -> 1.5185232 | H14: =+'META 8.2'!$C$48 -> 1.2930158 | I14: =+'META 8.3'!$C$48 -> 1.4972973 | J14: =+'META 9'!$C$48 -> 1.3287317 | K14: =+'META 10'!$C$48 -> 1.8529412 | L14: =+'META 11'!$C$48 -> 1.4069149 | M14: =+'META 12'!$C$48 -> 0.7441707 | N14: =+'META 13'!$C$48 -> 0.85035867 | O14: =+'META 14'!$C$48 -> 1.9638243 | P14: =+'META 17'!$C$48 -> 0.97288136 | Q14: =+'META 18'!$C$48 -> 1.7014925 | R14: =+'META 19'!$C$48 -> 0.95969773 | S14: =+'META 20'!$C$48 -> 0.82220367 | T14: =+'META 21'!$C$48 -> SI | U14: =C45*3%+D45*6%+E45*3%+F45*5%+G45*5%+H45*5%+I45*5%+J45*4%+K45*4%+L45*4%+M45*4%+N45*4%+P45*4%+T45*3% -> 0.57269643 | V14: =+META_GES!$C$48 -> 1
A15: ILLAPEL | B15: =+'META 2'!$C$62 -> 2.1881515 | C15: =+'META 3.1'!$C$62 -> 1.0196078 | D15: =+'META 5 '!$C$62 -> 1.0693866 | E15: =+'META 6'!$C$62 -> 1.4947791 | F15: =+'META 7'!$C$62 -> 1.058276 | G15: =+'META 8.1'!$C$62 -> 0.79596413 | H15: =+'META 8.2'!$C$62 -> 0.75406414 | I15: =+'META 8.3'!$C$62 -> 1.2962025 | J15: =+'META 9'!$C$62 -> 1.250774 | K15: =+'META 10'!$C$62 -> 0.48809524 | L15: =+'META 11'!$C$62 -> 1.6333725 | M15: =+'META 12'!$C$62 -> 0.61262771 | N15: =+'META 13'!$C$62 -> 0.68138299 | O15: =+'META 14'!$C$62 -> 0.64814815 | P15: =+'META 17'!$C$62 -> 0.97038178 | Q15: =+'META 18'!$C$62 -> 1.6931217 | R15: =+'META 19'!$C$62 -> 0.78640777 | S15: =+'META 20'!$C$62 -> 1.0688836 | T15: =+'META 21'!$C$62 -> SI | U15: =C46*3%+D46*6%+E46*3%+F46*5%+G46*5%+H46*5%+I46*5%+J46*4%+K46*4%+L46*4%+M46*4%+N46*4%+P46*4%+T46*3% -> 0.51760092 | V15: =+META_GES!$C$62 -> 1
A16: CANELA | B16: =+'META 2'!$C$73 -> 1.995572 | C16: =+'META 3.1'!$C$73 -> 1.0195228 | D16: =+'META 5 '!$C$73 -> 1.1988576 | E16: =+'META 6'!$C$73 -> 1.241167 | F16: =+'META 7'!$C$73 -> 0.81390642 | G16: =+'META 8.1'!$C$73 -> 1.63543 | H16: =+'META 8.2'!$C$73 -> 1.6054843 | I16: =+'META 8.3'!$C$73 -> 0.94164668 | J16: =+'META 9'!$C$73 -> 1.5957447 | K16: =+'META 10'!$C$73 -> 0.64646465 | L16: =+'META 11'!$C$73 -> 1.0619137 | M16: =+'META 12'!$C$73 -> 0.77819294 | N16: =+'META 13'!$C$73 -> 0.98762311 | O16: =+'META 14'!$C$73 -> 2.2222222 | P16: =+'META 17'!$C$73 -> 1.0316742 | Q16: =+'META 18'!$C$73 -> 1.9607843 | R16: =+'META 19'!$C$73 -> 1.32 | S16: =+'META 20'!$C$73 -> 1.167754 | T16: =+'META 21'!$C$73 -> SI | U16: =C47*3%+D47*6%+E47*3%+F47*5%+G47*5%+H47*5%+I47*5%+J47*4%+K47*4%+L47*4%+M47*4%+N47*4%+P47*4%+T47*3% -> 0.55426888 | V16: =+META_GES!$C$73 -> 1
A17: LOS VILOS | B17: =+'META 2'!$C$79 -> 2.4428751 | C17: =+'META 3.1'!$C$79 -> 1.015625 | D17: =+'META 5 '!$C$79 -> 0.93927126 | E17: =+'META 6'!$C$79 -> 1.7445747 | F17: =+'META 7'!$C$79 -> 1.7915472 | G17: =+'META 8.1'!$C$79 -> 1.1366846 | H17: =+'META 8.2'!$C$79 -> 1.2090859 | I17: =+'META 8.3'!$C$79 -> 1.1501976 | J17: =+'META 9'!$C$79 -> 1.2128146 | K17: =+'META 10'!$C$79 -> 2.5 | L17: =+'META 11'!$C$79 -> 1.0860215 | M17: =+'META 12'!$C$79 -> 0.32414641 | N17: =+'META 13'!$C$79 -> 0.62666045 | O17: =+'META 14'!$C$79 -> 0.27083333 | P17: =+'META 17'!$C$79 -> 0.78333333 | Q17: =+'META 18'!$C$79 -> 2.2222222 | R17: =+'META 19'!$C$79 -> 0.74691358 | S17: =+'META 20'!$C$79 -> 0.92973856 | T17: =+'META 21'!$C$79 -> SI | U17: =C48*3%+D48*6%+E48*3%+F48*5%+G48*5%+H48*5%+I48*5%+J48*4%+K48*4%+L48*4%+M48*4%+N48*4%+P48*4%+T48*3% -> 0.53572188 | V17: =+META_GES!$C$79 -> 1
A18: SALAMANCA | B18: =+'META 2'!$C$90 -> 3.3719518 | C18: =+'META 3.1'!$C$90 -> 1.0204082 | D18: =+'META 5 '!$C$90 -> 0.96887967 | E18: =+'META 6'!$C$90 -> 1.3891294 | F18: =+'META 7'!$C$90 -> 0.90096231 | G18: =+'META 8.1'!$C$90 -> 1.0926388 | H18: =+'META 8.2'!$C$90 -> 1.1634346 | I18: =+'META 8.3'!$C$90 -> 1.2522523 | J18: =+'META 9'!$C$90 -> 1.1709677 | K18: =+'META 10'!$C$90 -> 0.13389121 | L18: =+'META 11'!$C$90 -> 2.7506775 | M18: =+'META 12'!$C$90 -> 1.1782926 | N18: =+'META 13'!$C$90 -> 0.74065325 | O18: =+'META 14'!$C$90 -> 2.2173913 | P18: =+'META 17'!$C$90 -> 1.0512266 | Q18: =+'META 18'!$C$90 -> 2.2054795 | R18: =+'META 19'!$C$90 -> 1.0247253 | S18: =+'META 20'!$C$90 -> 0.93031359 | T18: =+'META 21'!$C$90 -> SI | U18: =C49*3%+D49*6%+E49*3%+F49*5%+G49*5%+H49*5%+I49*5%+J49*4%+K49*4%+L49*4%+M49*4%+N49*4%+P49*4%+T49*3% -> 0.53816267 | V18: =+META_GES!$C$90 -> 1
A19: OVALLE | B19: =+'META 2'!$C$108 -> 2.2501721 | C19: =+'META 3.1'!$C$108 -> 1.0198675 | D19: =+'META 5 '!$C$108 -> 1.4958516 | E19: =+'META 6'!$C$108 -> 1.2237303 | F19: =+'META 7'!$C$108 -> 0.97955767 | G19: =+'META 8.1'!$C$108 -> 1.3271183 | H19: =+'META 8.2'!$C$108 -> 1.5873552 | I19: =+'META 8.3'!$C$108 -> 1.4764785 | J19: =+'META 9'!$C$108 -> 1.1674021 | K19: =+'META 10'!$C$108 -> 1.4795821 | L19: =+'META 11'!$C$108 -> 1.0213147 | M19: =+'META 12'!$C$108 -> 0.99138206 | N19: =+'META 13'!$C$108 -> 0.85365853 | O19: =+'META 14'!$C$108 -> 1.0770186 | P19: =+'META 17'!$C$108 -> 1.0315896 | Q19: =+'META 18'!$C$108 -> 1.8431373 | R19: =+'META 19'!$C$108 -> 1.0060048 | S19: =+'META 20'!$C$108 -> 0.94191981 | T19: =+'META 21'!$C$108 -> SI | U19: =C50*3%+D50*6%+E50*3%+F50*5%+G50*5%+H50*5%+I50*5%+J50*4%+K50*4%+L50*4%+M50*4%+N50*4%+P50*4%+T50*3% -> 0.58277951 | V19: =+META_GES!$C$108 -> 0.99925429
A20: COMBARBALÁ | B20: =+'META 2'!$C$121 -> 3.3855466 | C20: =+'META 3.1'!$C$121 -> 1.0160428 | D20: =+'META 5 '!$C$121 -> 0.9171705 | E20: =+'META 6'!$C$121 -> 1.3734885 | F20: =+'META 7'!$C$121 -> 1.1584826 | G20: =+'META 8.1'!$C$121 -> 1.2412858 | H20: =+'META 8.2'!$C$121 -> 1.2905623 | I20: =+'META 8.3'!$C$121 -> 1.0516432 | J20: =+'META 9'!$C$121 -> 1.1750306 | K20: =+'META 10'!$C$121 -> 0.93333333 | L20: =+'META 11'!$C$121 -> 1.8032787 | M20: =+'META 12'!$C$121 -> 0.89412766 | N20: =+'META 13'!$C$121 -> 0.9879736 | O20: =+'META 14'!$C$121 -> 1.8272013 | P20: =+'META 17'!$C$121 -> 1.1111111 | Q20: =+'META 18'!$C$121 -> 1.3777778 | R20: =+'META 19'!$C$121 -> 0.68306011 | S20: =+'META 20'!$C$121 -> 0.77038896 | T20: =+'META 21'!$C$121 -> SI | U20: =C51*3%+D51*6%+E51*3%+F51*5%+G51*5%+H51*5%+I51*5%+J51*4%+K51*4%+L51*4%+M51*4%+N51*4%+P51*4%+T51*3% -> 0.57764761 | V20: =+META_GES!$C$121 -> 1
A21: MONTE PATRIA | B21: =+'META 2'!$C$135 -> 2.4719061 | C21: =+'META 3.1'!$C$135 -> 1.0189983 | D21: =+'META 5 '!$C$135 -> 1.1754293 | E21: =+'META 6'!$C$135 -> 1.4852494 | F21: =+'META 7'!$C$135 -> 1.0129442 | G21: =+'META 8.1'!$C$135 -> 0.77850059 | H21: =+'META 8.2'!$C$135 -> 0.78662754 | I21: =+'META 8.3'!$C$135 -> 1.0773967 | J21: =+'META 9'!$C$135 -> 1.1373119 | K21: =+'META 10'!$C$135 -> 1.3152174 | L21: =+'META 11'!$C$135 -> 1.0753525 | M21: =+'META 12'!$C$135 -> 0.82429727 | N21: =+'META 13'!$C$135 -> 0.80846386 | O21: =+'META 14'!$C$135 -> 2.2222222 | P21: =+'META 17'!$C$135 -> 0.97234117 | Q21: =+'META 18'!$C$135 -> 2.0617284 | R21: =+'META 19'!$C$135 -> 0.91345029 | S21: =+'META 20'!$C$135 -> 0.78569018 | T21: =+'META 21'!$C$135 -> SI | U21: =C52*3%+D52*6%+E52*3%+F52*5%+G52*5%+H52*5%+I52*5%+J52*4%+K52*4%+L52*4%+M52*4%+N52*4%+P52*4%+T52*3% -> 0.5524605 | V21: =+META_GES!$C$135 -> 1
A22: PUNITAQUI | B22: =+'META 2'!$C$140 -> 1.0581949 | C22: =+'META 3.1'!$C$140 -> 0.8812616 | D22: =+'META 5 '!$C$140 -> 1.1336428 | E22: =+'META 6'!$C$140 -> 0.96515336 | F22: =+'META 7'!$C$140 -> 1.4136485 | G22: =+'META 8.1'!$C$140 -> 1.7036447 | H22: =+'META 8.2'!$C$140 -> 0.96202105 | I22: =+'META 8.3'!$C$140 -> 1.3361463 | J22: =+'META 9'!$C$140 -> 1.1534341 | K22: =+'META 10'!$C$140 -> 0.67153285 | L22: =+'META 11'!$C$140 -> 0.73257288 | M22: =+'META 12'!$C$140 -> 1.0691628 | N22: =+'META 13'!$C$140 -> 0.92840216 | O22: =+'META 14'!$C$140 -> 2.2162162 | P22: =+'META 17'!$C$140 -> 0.9173962 | Q22: =+'META 18'!$C$140 -> 1.497076 | R22: =+'META 19'!$C$140 -> 0.97878788 | S22: =+'META 20'!$C$140 -> 0.81128748 | T22: =+'META 21'!$C$140 -> SI | U22: =C53*3%+D53*6%+E53*3%+F53*5%+G53*5%+H53*5%+I53*5%+J53*4%+K53*4%+L53*4%+M53*4%+N53*4%+P53*4%+T53*3% -> 0.55348966 | V22: =+META_GES!$C$140 -> 1
A23: RIO HURTADO | B23: =+'META 2'!$C$148 -> 0.81689087 | C23: =+'META 3.1'!$C$148 -> 1.0204082 | D23: =+'META 5 '!$C$148 -> 0.88072976 | E23: =+'META 6'!$C$148 -> 1.420215 | F23: =+'META 7'!$C$148 -> 1.0120548 | G23: =+'META 8.1'!$C$148 -> 1.1058824 | H23: =+'META 8.2'!$C$148 -> 0.73695154 | I23: =+'META 8.3'!$C$148 -> 1.1145374 | J23: =+'META 9'!$C$148 -> 0.90779959 | K23: =+'META 10'!$C$148 -> 0.4137931 | L23: =+'META 11'!$C$148 -> 1.4297189 | M23: =+'META 12'!$C$148 -> 1.0323449 | N23: =+'META 13'!$C$148 -> 1.2172986 | O23: =+'META 14'!$C$148 -> 2.2222222 | P23: =+'META 17'!$C$148 -> 0.96103896 | Q23: =+'META 18'!$C$148 -> 1.8928571 | R23: =+'META 19'!$C$148 -> 0.94 | S23: =+'META 20'!$C$148 -> 0.79059181 | T23: =+'META 21'!$C$148 -> SI | U23: =C54*3%+D54*6%+E54*3%+F54*5%+G54*5%+H54*5%+I54*5%+J54*4%+K54*4%+L54*4%+M54*4%+N54*4%+P54*4%+T54*3% -> 0.54099663 | V23: =+META_GES!$C$148 -> 1
A24: (*) Metas a Evaluar con Serie P de Junio 2017
A31: MINISTERIO DE SALUD
A32: SERVICIO DE SALUD COQUIMBO
A33: SUBDIRECCION DE GESTION ASISTENCIAL
A34: SUBDEPTO DE ESTADÍSTICA Y GESTIÓN DE LA INFORMACIÓN
A36: COMUNA | B36: RESUMEN DE CUMPLIMIENTO DE METAS A ABRIL 2017
B37: CORTE A MARZO
B39: METAS COMPONENTE ESTRATEGIA RISS, PRODUCCIÓN,COBERTURA EFECTIVA E IMPACTO SANITARIO
B40: META Nº2 | C40: META Nº3.1 | D40: META Nº5 | E40: META Nº6 | F40: META Nº7 | G40: META Nº8.1 | H40: META Nº8.2 | I40: META Nº8.3 | J40: META Nº9 | K40: META Nº10 | L40: META Nº11 | M40: META Nº12 | N40: META Nº13 | O40: META Nº14 | P40: META Nº17 | Q40: META Nº18 | R40: META Nº19 | S40: META Nº20 | T40: META Nº21
B41: Familias Evaluadas según riesgo | C41: Gestion de Reclamos APS | D41: Consultas de Morbilidad y Controles Médicos | E41: SIC derivadas desde la APS al Nivel Secundario | F41: Visita domiciliaria integral | G41: EMP hombres 20 a 64 años | H41: EMP mujeres de 45 a 64 años | I41: EMP 65 y mas años | J41: Evaluación del desarrollo Psicomotor de niños/as de 12 a 23 meses bajo control | K41: Control de salud integral adolescentes de 10 a 14 años | L41: Alta odontologica menores de 20 años | M41: Cobertura de Atención Integral de trastornos mentales en personas de 5 y más años | N41: Cobertura de Atención de Asma en Población general y EPOC en personas de 40 años y más | O41: Capacitación a Cuidadores de personas con Dependencia Severa con Pago de Estipendio | P41: Control embarazada | Q41: Cobertura de Métodos Anticonceptivos en Adolescentes | R41: Cobertura DM2 en personas de 15 y mas años | S41: Cobertutra HTA en personas de 15 y mas años | T41: Proporción de Niñas y Niños de 3 años libre de Caries
A43: LA SERENA | B43: =IF(B12="n/a","n/a",IF(B12="","",IF(B12>1,1,B12))) -> 1 | C43: =IF(C12="n/a","n/a",IF(C12="","",IF(C12>1,1,C12))) -> 1 | D43: =IF(D12="n/a","n/a",IF(D12="","",IF(D12>1,1,D12))) -> 1 | E43: =IF(E12="n/a","n/a",IF(E12="","",IF(E12>1,1,E12))) -> 1 | F43: =IF(F12="n/a","n/a",IF(F12="","",IF(F12>1,1,F12))) -> 1 | G43: =IF(G12="n/a","n/a",IF(G12="","",IF(G12>1,1,G12))) -> 1 | H43: =IF(H12="n/a","n/a",IF(H12="","",IF(H12>1,1,H12))) -> 0.95061781 | I43: =IF(I12="n/a","n/a",IF(I12="","",IF(I12>1,1,I12))) -> 0.97353389 | ... S43: =IF(S12="n/a","n/a",IF(S12="","",IF(S12>1,1,S12))) -> 0.76972176 | T43: =IF(T12="n/a","n/a",IF(T12="SI",1,0)) -> 1
A44: COQUIMBO | B44: =IF(B13="n/a","n/a",IF(B13="","",IF(B13>1,1,B13))) -> 0.86603828 | C44: =IF(C13="n/a","n/a",IF(C13="","",IF(C13>1,1,C13))) -> 1 | D44: =IF(D13="n/a","n/a",IF(D13="","",IF(D13>1,1,D13))) -> 1 | E44: =IF(E13="n/a","n/a",IF(E13="","",IF(E13>1,1,E13))) -> 1 | F44: =IF(F13="n/a","n/a",IF(F13="","",IF(F13>1,1,F13))) -> 1 | G44: =IF(G13="n/a","n/a",IF(G13="","",IF(G13>1,1,G13))) -> 1 | H44: =IF(H13="n/a","n/a",IF(H13="","",IF(H13>1,1,H13))) -> 1 | I44: =IF(I13="n/a","n/a",IF(I13="","",IF(I13>1,1,I13))) -> 1 | ... S44: =IF(S13="n/a","n/a",IF(S13="","",IF(S13>1,1,S13))) -> 0.49789861 | T44: =IF(T13="n/a","n/a",IF(T13="SI",1,0)) -> 1
A45: VICUÑA | B45: =IF(B14="n/a","n/a",IF(B14="","",IF(B14>1,1,B14))) -> 1 | C45: =IF(C14="n/a","n/a",IF(C14="","",IF(C14>1,1,C14))) -> 1 | D45: =IF(D14="n/a","n/a",IF(D14="","",IF(D14>1,1,D14))) -> 1 | E45: =IF(E14="n/a","n/a",IF(E14="","",IF(E14>1,1,E14))) -> 1 | F45: =IF(F14="n/a","n/a",IF(F14="","",IF(F14>1,1,F14))) -> 1 | G45: =IF(G14="n/a","n/a",IF(G14="","",IF(G14>1,1,G14))) -> 1 | H45: =IF(H14="n/a","n/a",IF(H14="","",IF(H14>1,1,H14))) -> 1 | I45: =IF(I14="n/a","n/a",IF(I14="","",IF(I14>1,1,I14))) -> 1 | ... S45: =IF(S14="n/a","n/a",IF(S14="","",IF(S14>1,1,S14))) -> 0.82220367 | T45: =IF(T14="n/a","n/a",IF(T14="SI",1,0)) -> 1
A46: ILLAPEL | B46: =IF(B15="n/a","n/a",IF(B15="","",IF(B15>1,1,B15))) -> 1 | C46: =IF(C15="n/a","n/a",IF(C15="","",IF(C15>1,1,C15))) -> 1 | D46: =IF(D15="n/a","n/a",IF(D15="","",IF(D15>1,1,D15))) -> 1 | E46: =IF(E15="n/a","n/a",IF(E15="","",IF(E15>1,1,E15))) -> 1 | F46: =IF(F15="n/a","n/a",IF(F15="","",IF(F15>1,1,F15))) -> 1 | G46: =IF(G15="n/a","n/a",IF(G15="","",IF(G15>1,1,G15))) -> 0.79596413 | H46: =IF(H15="n/a","n/a",IF(H15="","",IF(H15>1,1,H15))) -> 0.75406414 | I46: =IF(I15="n/a","n/a",IF(I15="","",IF(I15>1,1,I15))) -> 1 | ... S46: =IF(S15="n/a","n/a",IF(S15="","",IF(S15>1,1,S15))) -> 1 | T46: =IF(T15="n/a","n/a",IF(T15="SI",1,0)) -> 1
A47: CANELA | B47: =IF(B16="n/a","n/a",IF(B16="","",IF(B16>1,1,B16))) -> 1 | C47: =IF(C16="n/a","n/a",IF(C16="","",IF(C16>1,1,C16))) -> 1 | D47: =IF(D16="n/a","n/a",IF(D16="","",IF(D16>1,1,D16))) -> 1 | E47: =IF(E16="n/a","n/a",IF(E16="","",IF(E16>1,1,E16))) -> 1 | F47: =IF(F16="n/a","n/a",IF(F16="","",IF(F16>1,1,F16))) -> 0.81390642 | G47: =IF(G16="n/a","n/a",IF(G16="","",IF(G16>1,1,G16))) -> 1 | H47: =IF(H16="n/a","n/a",IF(H16="","",IF(H16>1,1,H16))) -> 1 | I47: =IF(I16="n/a","n/a",IF(I16="","",IF(I16>1,1,I16))) -> 0.94164668 | ... S47: =IF(S16="n/a","n/a",IF(S16="","",IF(S16>1,1,S16))) -> 1 | T47: =IF(T16="n/a","n/a",IF(T16="SI",1,0)) -> 1
A48: LOS VILOS | B48: =IF(B17="n/a","n/a",IF(B17="","",IF(B17>1,1,B17))) -> 1 | C48: =IF(C17="n/a","n/a",IF(C17="","",IF(C17>1,1,C17))) -> 1 | D48: =IF(D17="n/a","n/a",IF(D17="","",IF(D17>1,1,D17))) -> 0.93927126 | E48: =IF(E17="n/a","n/a",IF(E17="","",IF(E17>1,1,E17))) -> 1 | F48: =IF(F17="n/a","n/a",IF(F17="","",IF(F17>1,1,F17))) -> 1 | G48: =IF(G17="n/a","n/a",IF(G17="","",IF(G17>1,1,G17))) -> 1 | H48: =IF(H17="n/a","n/a",IF(H17="","",IF(H17>1,1,H17))) -> 1 | I48: =IF(I17="n/a","n/a",IF(I17="","",IF(I17>1,1,I17))) -> 1 | ... S48: =IF(S17="n/a","n/a",IF(S17="","",IF(S17>1,1,S17))) -> 0.92973856 | T48: =IF(T17="n/a","n/a",IF(T17="SI",1,0)) -> 1
A49: SALAMANCA | B49: =IF(B18="n/a","n/a",IF(B18="","",IF(B18>1,1,B18))) -> 1 | C49: =IF(C18="n/a","n/a",IF(C18="","",IF(C18>1,1,C18))) -> 1 | D49: =IF(D18="n/a","n/a",IF(D18="","",IF(D18>1,1,D18))) -> 0.96887967 | E49: =IF(E18="n/a","n/a",IF(E18="","",IF(E18>1,1,E18))) -> 1 | F49: =IF(F18="n/a","n/a",IF(F18="","",IF(F18>1,1,F18))) -> 0.90096231 | G49: =IF(G18="n/a","n/a",IF(G18="","",IF(G18>1,1,G18))) -> 1 | H49: =IF(H18="n/a","n/a",IF(H18="","",IF(H18>1,1,H18))) -> 1 | I49: =IF(I18="n/a","n/a",IF(I18="","",IF(I18>1,1,I18))) -> 1 | ... S49: =IF(S18="n/a","n/a",IF(S18="","",IF(S18>1,1,S18))) -> 0.93031359 | T49: =IF(T18="n/a","n/a",IF(T18="SI",1,0)) -> 1
A50: OVALLE | B50: =IF(B19="n/a","n/a",IF(B19="","",IF(B19>1,1,B19))) -> 1 | C50: =IF(C19="n/a","n/a",IF(C19="","",IF(C19>1,1,C19))) -> 1 | D50: =IF(D19="n/a","n/a",IF(D19="","",IF(D19>1,1,D19))) -> 1 | E50: =IF(E19="n/a","n/a",IF(E19="","",IF(E19>1,1,E19))) -> 1 | F50: =IF(F19="n/a","n/a",IF(F19="","",IF(F19>1,1,F19))) -> 0.97955767 | G50: =IF(G19="n/a","n/a",IF(G19="","",IF(G19>1,1,G19))) -> 1 | H50: =IF(H19="n/a","n/a",IF(H19="","",IF(H19>1,1,H19))) -> 1 | I50: =IF(I19="n/a","n/a",IF(I19="","",IF(I19>1,1,I19))) -> 1 | ... S50: =IF(S19="n/a","n/a",IF(S19="","",IF(S19>1,1,S19))) -> 0.94191981 | T50: =IF(T19="n/a","n/a",IF(T19="SI",1,0)) -> 1
A51: COMBARBALÁ | B51: =IF(B20="n/a","n/a",IF(B20="","",IF(B20>1,1,B20))) -> 1 | C51: =IF(C20="n/a","n/a",IF(C20="","",IF(C20>1,1,C20))) -> 1 | D51: =IF(D20="n/a","n/a",IF(D20="","",IF(D20>1,1,D20))) -> 0.9171705 | E51: =IF(E20="n/a","n/a",IF(E20="","",IF(E20>1,1,E20))) -> 1 | F51: =IF(F20="n/a","n/a",IF(F20="","",IF(F20>1,1,F20))) -> 1 | G51: =IF(G20="n/a","n/a",IF(G20="","",IF(G20>1,1,G20))) -> 1 | H51: =IF(H20="n/a","n/a",IF(H20="","",IF(H20>1,1,H20))) -> 1 | I51: =IF(I20="n/a","n/a",IF(I20="","",IF(I20>1,1,I20))) -> 1 | ... S51: =IF(S20="n/a","n/a",IF(S20="","",IF(S20>1,1,S20))) -> 0.77038896 | T51: =IF(T20="n/a","n/a",IF(T20="SI",1,0)) -> 1
A52: MONTE PATRIA | B52: =IF(B21="n/a","n/a",IF(B21="","",IF(B21>1,1,B21))) -> 1 | C52: =IF(C21="n/a","n/a",IF(C21="","",IF(C21>1,1,C21))) -> 1 | D52: =IF(D21="n/a","n/a",IF(D21="","",IF(D21>1,1,D21))) -> 1 | E52: =IF(E21="n/a","n/a",IF(E21="","",IF(E21>1,1,E21))) -> 1 | F52: =IF(F21="n/a","n/a",IF(F21="","",IF(F21>1,1,F21))) -> 1 | G52: =IF(G21="n/a","n/a",IF(G21="","",IF(G21>1,1,G21))) -> 0.77850059 | H52: =IF(H21="n/a","n/a",IF(H21="","",IF(H21>1,1,H21))) -> 0.78662754 | I52: =IF(I21="n/a","n/a",IF(I21="","",IF(I21>1,1,I21))) -> 1 | ... S52: =IF(S21="n/a","n/a",IF(S21="","",IF(S21>1,1,S21))) -> 0.78569018 | T52: =IF(T21="n/a","n/a",IF(T21="SI",1,0)) -> 1
A53: PUNITAQUI | B53: =IF(B22="n/a","n/a",IF(B22="","",IF(B22>1,1,B22))) -> 1 | C53: =IF(C22="n/a","n/a",IF(C22="","",IF(C22>1,1,C22))) -> 0.8812616 | D53: =IF(D22="n/a","n/a",IF(D22="","",IF(D22>1,1,D22))) -> 1 | E53: =IF(E22="n/a","n/a",IF(E22="","",IF(E22>1,1,E22))) -> 0.96515336 | F53: =IF(F22="n/a","n/a",IF(F22="","",IF(F22>1,1,F22))) -> 1 | G53: =IF(G22="n/a","n/a",IF(G22="","",IF(G22>1,1,G22))) -> 1 | H53: =IF(H22="n/a","n/a",IF(H22="","",IF(H22>1,1,H22))) -> 0.96202105 | I53: =IF(I22="n/a","n/a",IF(I22="","",IF(I22>1,1,I22))) -> 1 | ... S53: =IF(S22="n/a","n/a",IF(S22="","",IF(S22>1,1,S22))) -> 0.81128748 | T53: =IF(T22="n/a","n/a",IF(T22="SI",1,0)) -> 1
A54: RIO HURTADO | B54: =IF(B23="n/a","n/a",IF(B23="","",IF(B23>1,1,B23))) -> 0.81689087 | C54: =IF(C23="n/a","n/a",IF(C23="","",IF(C23>1,1,C23))) -> 1 | D54: =IF(D23="n/a","n/a",IF(D23="","",IF(D23>1,1,D23))) -> 0.88072976 | E54: =IF(E23="n/a","n/a",IF(E23="","",IF(E23>1,1,E23))) -> 1 | F54: =IF(F23="n/a","n/a",IF(F23="","",IF(F23>1,1,F23))) -> 1 | G54: =IF(G23="n/a","n/a",IF(G23="","",IF(G23>1,1,G23))) -> 1 | H54: =IF(H23="n/a","n/a",IF(H23="","",IF(H23>1,1,H23))) -> 0.73695154 | I54: =IF(I23="n/a","n/a",IF(I23="","",IF(I23>1,1,I23))) -> 1 | ... S54: =IF(S23="n/a","n/a",IF(S23="","",IF(S23>1,1,S23))) -> 0.79059181 | T54: =IF(T23="n/a","n/a",IF(T23="SI",1,0)) -> 1

Sheet META 2
A1: COMUNA | B1: ESTABLECIMIENTO | C1: CUMPLIMIENTO | D1: Indicador | E1: META 2 : FAMILIAS EVALUADAS SEGÚN RIESGO FAMILIAR
E2: NUMERADOR | G2: DENOMINADOR
E10: Nº de familias evaluadas según riesgo familiar | G10: Total de familias Insciritas (población inscrita/3,3)
D11: Resultado | E11: A JUNIO | F11: A DICBRE
A12: 04101-LA SERENA | B12: 105300-CES. CARDENAL CARO | E12: =IFERROR(VLOOKUP($B12,[4]NUM2!$H$3:$J$140,2,FALSE),0) -> 2745
A13: 04101-LA SERENA | B13: 105301-CES. LAS COMPAÑIAS | E13: =IFERROR(VLOOKUP($B13,[4]NUM2!$H$3:$J$140,2,FALSE),0) -> 549
A14: 04101-LA SERENA | B14: 105302-CES. PEDRO AGUIRRE C. | E14: =IFERROR(VLOOKUP($B14,[4]NUM2!$H$3:$J$140,2,FALSE),0) -> 272
A15: 04101-LA SERENA | B15: 105313-CES. SCHAFFHAUSER | E15: =IFERROR(VLOOKUP($B15,[4]NUM2!$H$3:$J$140,2,FALSE),0) -> 77
A16: 04101-LA SERENA | B16: 105319-CES. CARDENAL R.S.H. | E16: =IFERROR(VLOOKUP($B16,[4]NUM2!$H$3:$J$140,2,FALSE),0) -> 486
A17: 04101-LA SERENA | B17: 105325-CESFAM JUAN PABLO II | E17: =IFERROR(VLOOKUP($B17,[4]NUM2!$H$3:$J$140,2,FALSE),0) -> 2387
A18: 04101-LA SERENA | B18: 105400-P.S.R. ALGARROBITO | E18: =IFERROR(VLOOKUP($B18,[4]NUM2!$H$3:$J$140,2,FALSE),0) -> 50
A19: 04101-LA SERENA | B19: 105401-P.S.R. LAS ROJAS | E19: =IFERROR(VLOOKUP($B19,[4]NUM2!$H$3:$J$140,2,FALSE),0) -> 49
A20: 04101-LA SERENA | B20: 105402-P.S.R. EL ROMERO | E20: =IFERROR(VLOOKUP($B20,[4]NUM2!$H$3:$J$140,2,FALSE),0) -> 81
A21: 04101-LA SERENA | B21: 105499-P.S.R. LAMBERT | E21: =IFERROR(VLOOKUP($B21,[4]NUM2!$H$3:$J$140,2,FALSE),0) -> 90
A22: 04101-LA SERENA | B22: 105700-CECOF VILLA EL INDIO | E22: =IFERROR(VLOOKUP($B22,[4]NUM2!$H$3:$J$140,2,FALSE),0) -> 1193
A23: 04101-LA SERENA | B23: 105701-CECOF VILLA ALEMANIA | E23: =IFERROR(VLOOKUP($B23,[4]NUM2!$H$3:$J$140,2,FALSE),0) -> 153
A24: 04101-LA SERENA | B24: 105702-CECOF VILLA LAMBERT | E24: =IFERROR(VLOOKUP($B24,[4]NUM2!$H$3:$J$140,2,FALSE),0) -> 96
A25: TOTAL LA SERENA | C25: =+D25/Metas!G69 -> 2.0361371 | D25: =+E25/G25 -> 0.14142074 | E25: =SUM(E12:E24) -> 8228 | F25: =SUM(F12:F24) -> 0 | G25: 58181
A26: 04102-COQUIMBO | B26: 105303-CES. SAN JUAN | E26: =IFERROR(VLOOKUP($B26,[4]NUM2!$H$3:$J$140,2,FALSE),0) -> 246
A27: 04102-COQUIMBO | B27: 105304-CES. SANTA CECILIA | E27: =IFERROR(VLOOKUP($B27,[4]NUM2!$H$3:$J$140,2,FALSE),0) -> 83
A28: 04102-COQUIMBO | B28: 105305-CES. TIERRAS BLANCAS | E28: =IFERROR(VLOOKUP($B28,[4]NUM2!$H$3:$J$140,2,FALSE),0) -> 1025
A29: 04102-COQUIMBO | B29: 105321-CES. RURAL TONGOY | E29: =IFERROR(VLOOKUP($B29,[4]NUM2!$H$3:$J$140,2,FALSE),0) -> 30
A30: 04102-COQUIMBO | B30: 105323-CES. DR. SERGIO AGUILAR | E30: =IFERROR(VLOOKUP($B30,[4]NUM2!$H$3:$J$140,2,FALSE),0) -> 35
A31: 04102-COQUIMBO | B31: 105404-P.S.R. EL TANGUE | E31: =IFERROR(VLOOKUP($B31,[4]NUM2!$H$3:$J$140,2,FALSE),0) -> 0
A32: 04102-COQUIMBO | B32: 105405-P.S.R. GUANAQUEROS | E32: =IFERROR(VLOOKUP($B32,[4]NUM2!$H$3:$J$140,2,FALSE),0) -> 150
A33: 04102-COQUIMBO | B33: 105406-P.S.R. PAN DE AZUCAR | E33: =IFERROR(VLOOKUP($B33,[4]NUM2!$H$3:$J$140,2,FALSE),0) -> 32
A34: 04102-COQUIMBO | B34: 105407-P.S.R. TAMBILLOS | E34: =IFERROR(VLOOKUP($B34,[4]NUM2!$H$3:$J$140,2,FALSE),0) -> 6
A35: 04102-COQUIMBO | B35: 105705-CECOF EL ALBA | E35: =IFERROR(VLOOKUP($B35,[4]NUM2!$H$3:$J$140,2,FALSE),0) -> 1296
A36: 04102-COQUIMBO | B36: 200273-CECOF PUNTA MIRA | E36: =IFERROR(VLOOKUP($B36,[4]NUM2!$H$3:$J$140,2,FALSE),0) -> 61
A37: TOTAL COQUIMBO | C37: =+D37/Metas!G67 -> 0.86603828 | D37: =+E37/G37 -> 0.05279658 | E37: =SUM(E26:E36) -> 2964 | F37: =SUM(F26:F36) -> 0 | G37: 56140
A38: 04106-VICUÑA | B38: 105467-P.S.R. DIAGUITAS | E38: =IFERROR(VLOOKUP($B38,[4]NUM2!$H$3:$J$140,2,FALSE),0) -> 38
A39: 04106-VICUÑA | B39: 105468-P.S.R. EL MOLLE | E39: =IFERROR(VLOOKUP($B39,[4]NUM2!$H$3:$J$140,2,FALSE),0) -> 24
A40: 04106-VICUÑA | B40: 105469-P.S.R. EL TAMBO | E40: =IFERROR(VLOOKUP($B40,[4]NUM2!$H$3:$J$140,2,FALSE),0) -> 168
A41: 04106-VICUÑA | B41: 105470-P.S.R. HUANTA | E41: =IFERROR(VLOOKUP($B41,[4]NUM2!$H$3:$J$140,2,FALSE),0) -> 4
A42: 04106-VICUÑA | B42: 105471-P.S.R. PERALILLO | E42: =IFERROR(VLOOKUP($B42,[4]NUM2!$H$3:$J$140,2,FALSE),0) -> 197
A43: 04106-VICUÑA | B43: 105472-P.S.R. RIVADAVIA | E43: =IFERROR(VLOOKUP($B43,[4]NUM2!$H$3:$J$140,2,FALSE),0) -> 28
A44: 04106-VICUÑA | B44: 105473-P.S.R. TALCUNA | E44: =IFERROR(VLOOKUP($B44,[4]NUM2!$H$3:$J$140,2,FALSE),0) -> 107
A45: 04106-VICUÑA | B45: 105474-P.S.R. CHAPILCA | E45: =IFERROR(VLOOKUP($B45,[4]NUM2!$H$3:$J$140,2,FALSE),0) -> 11
A46: 04106-VICUÑA | B46: 105502-P.S.R. CALINGASTA | E46: =IFERROR(VLOOKUP($B46,[4]NUM2!$H$3:$J$140,2,FALSE),0) -> 83
A47: 04106-VICUÑA | B47: 105509-P.S.R. GUALLIGUAICA | E47: =IFERROR(VLOOKUP($B47,[4]NUM2!$H$3:$J$140,2,FALSE),0) -> 8
A48: TOTAL VICUÑA | C48: =+D48/Metas!G76 -> 2.6668429 | D48: =+E48/G48 -> 0.16186092 | E48: =SUM(E38:E47) -> 668 | F48: =SUM(F38:F47) -> 0 | G48: 4127
A49: 04201-ILLAPEL | B49: 105326-CESFAM SAN RAFAEL | E49: =IFERROR(VLOOKUP($B49,[4]NUM2!$H$3:$J$140,2,FALSE),0) -> 72
A50: 04201-ILLAPEL | B50: 105443-P.S.R. CARCAMO | E50: =IFERROR(VLOOKUP($B50,[4]NUM2!$H$3:$J$140,2,FALSE),0) -> 201
A51: 04201-ILLAPEL | B51: 105444-P.S.R. HUINTIL | E51: =IFERROR(VLOOKUP($B51,[4]NUM2!$H$3:$J$140,2,FALSE),0) -> 20
A52: 04201-ILLAPEL | B52: 105445-P.S.R. LIMAHUIDA | E52: =IFERROR(VLOOKUP($B52,[4]NUM2!$H$3:$J$140,2,FALSE),0) -> 18
A53: 04201-ILLAPEL | B53: 105446-P.S.R. MATANCILLA | E53: =IFERROR(VLOOKUP($B53,[4]NUM2!$H$3:$J$140,2,FALSE),0) -> 17
A54: 04201-ILLAPEL | B54: 105447-P.S.R. PERALILLO | E54: =IFERROR(VLOOKUP($B54,[4]NUM2!$H$3:$J$140,2,FALSE),0) -> 25
A55: 04201-ILLAPEL | B55: 105448-P.S.R. SANTA VIRGINIA | E55: =IFERROR(VLOOKUP($B55,[4]NUM2!$H$3:$J$140,2,FALSE),0) -> 22
A56: 04201-ILLAPEL | B56: 105449-P.S.R. TUNGA NORTE | E56: =IFERROR(VLOOKUP($B56,[4]NUM2!$H$3:$J$140,2,FALSE),0) -> 33
A57: 04201-ILLAPEL | B57: 105485-P.S.R. PLAN DE HORNOS | E57: =IFERROR(VLOOKUP($B57,[4]NUM2!$H$3:$J$140,2,FALSE),0) -> 14
A58: 04201-ILLAPEL | B58: 105486-P.S.R. TUNGA SUR | E58: =IFERROR(VLOOKUP($B58,[4]NUM2!$H$3:$J$140,2,FALSE),0) -> 12
A59: 04201-ILLAPEL | B59: 105487-P.S.R. CAÑAS UNO | E59: =IFERROR(VLOOKUP($B59,[4]NUM2!$H$3:$J$140,2,FALSE),0) -> 68
A60: 04201-ILLAPEL | B60: 105496-P.S.R. PINTACURA SUR | E60: =IFERROR(VLOOKUP($B60,[4]NUM2!$H$3:$J$140,2,FALSE),0) -> 5
A61: 04201-ILLAPEL | B61: 105504-P.S.R. SOCAVON | E61: =IFERROR(VLOOKUP($B61,[4]NUM2!$H$3:$J$140,2,FALSE),0) -> 98
A62: TOTAL ILLAPEL | C62: =+D62/Metas!G68 -> 2.1881515 | D62: =+E62/G62 -> 0.1577575 | E62: =SUM(E49:E61) -> 605 | F62: =SUM(F49:F61) -> 0 | G62: 3835
A63: 04202-CANELA | B63: 105309-CES. RURAL CANELA | E63: =IFERROR(VLOOKUP($B63,[4]NUM2!$H$3:$J$140,2,FALSE),0) -> 212
A64: 04202-CANELA | B64: 105450-P.S.R. MINCHA NORTE | E64: =IFERROR(VLOOKUP($B64,[4]NUM2!$H$3:$J$140,2,FALSE),0) -> 0
A65: 04202-CANELA | B65: 105451-P.S.R. AGUA FRIA | E65: =IFERROR(VLOOKUP($B65,[4]NUM2!$H$3:$J$140,2,FALSE),0) -> 0
A66: 04202-CANELA | B66: 105482-P.S.R. CANELA ALTA | E66: =IFERROR(VLOOKUP($B66,[4]NUM2!$H$3:$J$140,2,FALSE),0) -> 0
A67: 04202-CANELA | B67: 105483-P.S.R. LOS RULOS | E67: =IFERROR(VLOOKUP($B67,[4]NUM2!$H$3:$J$140,2,FALSE),0) -> 0
A68: 04202-CANELA | B68: 105484-P.S.R. HUENTELAUQUEN | E68: =IFERROR(VLOOKUP($B68,[4]NUM2!$H$3:$J$140,2,FALSE),0) -> 0
A69: 04202-CANELA | B69: 105488-P.S.R. ESPIRITU SANTO | E69: =IFERROR(VLOOKUP($B69,[4]NUM2!$H$3:$J$140,2,FALSE),0) -> 0
A70: 04202-CANELA | B70: 105493-P.S.R. MINCHA SUR | E70: =IFERROR(VLOOKUP($B70,[4]NUM2!$H$3:$J$140,2,FALSE),0) -> 0
A71: 04202-CANELA | B71: 105497-P.S.R. JABONERIA | E71: =IFERROR(VLOOKUP($B71,[4]NUM2!$H$3:$J$140,2,FALSE),0) -> 0
A72: 04202-CANELA | B72: 105498-P.S.R. QUEBRADA DE LINARES | E72: =IFERROR(VLOOKUP($B72,[4]NUM2!$H$3:$J$140,2,FALSE),0) -> 0
A73: TOTAL CANELA | C73: =+D73/Metas!G65 -> 1.995572 | D73: =+E73/G73 -> 0.074938141 | E73: =SUM(E63:E72) -> 212 | F73: =SUM(F63:F72) -> 0 | G73: 2829
A74: 04203-LOS VILOS | B74: 105478-P.S.R. CAIMANES | E74: =IFERROR(VLOOKUP($B74,[4]NUM2!$H$3:$J$140,2,FALSE),0) -> 40
A75: 04203-LOS VILOS | B75: 105479-P.S.R. GUANGUALI | E75: =IFERROR(VLOOKUP($B75,[4]NUM2!$H$3:$J$140,2,FALSE),0) -> 70
A76: 04203-LOS VILOS | B76: 105480-P.S.R. QUILIMARI | E76: =IFERROR(VLOOKUP($B76,[4]NUM2!$H$3:$J$140,2,FALSE),0) -> 70
A77: 04203-LOS VILOS | B77: 105481-P.S.R. TILAMA | E77: =IFERROR(VLOOKUP($B77,[4]NUM2!$H$3:$J$140,2,FALSE),0) -> 3
A78: 04203-LOS VILOS | B78: 105511-P.S.R. LOS CONDORES | E78: =IFERROR(VLOOKUP($B78,[4]NUM2!$H$3:$J$140,2,FALSE),0) -> 10
A79: TOTAL LOS VILOS | C79: =+D79/Metas!G70 -> 2.4428751 | D79: =+E79/G79 -> 0.10616062 | E79: =SUM(E74:E78) -> 193 | F79: =SUM(F74:F78) -> 0 | G79: 1818
A80: 04204-SALAMANCA | B80: 105452-P.S.R. CUNCUMEN | E80: =IFERROR(VLOOKUP($B80,[4]NUM2!$H$3:$J$140,2,FALSE),0) -> 248
A81: 04204-SALAMANCA | B81: 105453-P.S.R. TRANQUILLA | E81: =IFERROR(VLOOKUP($B81,[4]NUM2!$H$3:$J$140,2,FALSE),0) -> 268
A82: 04204-SALAMANCA | B82: 105454-P.S.R. CUNLAGUA | E82: =IFERROR(VLOOKUP($B82,[4]NUM2!$H$3:$J$140,2,FALSE),0) -> 0
A83: 04204-SALAMANCA | B83: 105455-P.S.R. CHILLEPIN | E83: =IFERROR(VLOOKUP($B83,[4]NUM2!$H$3:$J$140,2,FALSE),0) -> 736
A84: 04204-SALAMANCA | B84: 105456-P.S.R. LLIMPO | E84: =IFERROR(VLOOKUP($B84,[4]NUM2!$H$3:$J$140,2,FALSE),0) -> 0
A85: 04204-SALAMANCA | B85: 105457-P.S.R. SAN AGUSTIN | E85: =IFERROR(VLOOKUP($B85,[4]NUM2!$H$3:$J$140,2,FALSE),0) -> 0
A86: 04204-SALAMANCA | B86: 105458-P.S.R. TAHUINCO | E86: =IFERROR(VLOOKUP($B86,[4]NUM2!$H$3:$J$140,2,FALSE),0) -> 0
A87: 04204-SALAMANCA | B87: 105491-P.S.R. QUELEN BAJO | E87: =IFERROR(VLOOKUP($B87,[4]NUM2!$H$3:$J$140,2,FALSE),0) -> 247
A88: 04204-SALAMANCA | B88: 105492-P.S.R. CAMISA | E88: =IFERROR(VLOOKUP($B88,[4]NUM2!$H$3:$J$140,2,FALSE),0) -> 0
A89: 04204-SALAMANCA | B89: 105501-P.S.R. ARBOLEDA GRANDE | E89: =IFERROR(VLOOKUP($B89,[4]NUM2!$H$3:$J$140,2,FALSE),0) -> 0
A90: TOTAL SALAMANCA | C90: =+D90/Metas!G75 -> 3.3719518 | D90: =+E90/G90 -> 0.39468141 | E90: =SUM(E80:E89) -> 1499 | F90: =SUM(F80:F89) -> 0 | G90: 3798
A91: 04301-OVALLE | B91: 105315-CES. RURAL C. DE TAMAYA | E91: =IFERROR(VLOOKUP($B91,[4]NUM2!$H$3:$J$140,2,FALSE),0) -> 120
A92: 04301-OVALLE | B92: 105317-CES. JORGE JORDAN D. | E92: =IFERROR(VLOOKUP($B92,[4]NUM2!$H$3:$J$140,2,FALSE),0) -> 178
A93: 04301-OVALLE | B93: 105322-CES. MARCOS MACUADA | E93: =IFERROR(VLOOKUP($B93,[4]NUM2!$H$3:$J$140,2,FALSE),0) -> 545
A94: 04301-OVALLE | B94: 105324-CES. SOTAQUI | E94: =IFERROR(VLOOKUP($B94,[4]NUM2!$H$3:$J$140,2,FALSE),0) -> 57
A95: 04301-OVALLE | B95: 105415-P.S.R. BARRAZA | E95: =IFERROR(VLOOKUP($B95,[4]NUM2!$H$3:$J$140,2,FALSE),0) -> 601
A96: 04301-OVALLE | B96: 105416-P.S.R. CAMARICO | E96: =IFERROR(VLOOKUP($B96,[4]NUM2!$H$3:$J$140,2,FALSE),0) -> 145
A97: 04301-OVALLE | B97: 105417-P.S.R. ALCONES BAJOS | E97: =IFERROR(VLOOKUP($B97,[4]NUM2!$H$3:$J$140,2,FALSE),0) -> 21
A98: 04301-OVALLE | B98: 105419-P.S.R. LAS SOSSAS | E98: =IFERROR(VLOOKUP($B98,[4]NUM2!$H$3:$J$140,2,FALSE),0) -> 623
A99: 04301-OVALLE | B99: 105420-P.S.R. LIMARI | E99: =IFERROR(VLOOKUP($B99,[4]NUM2!$H$3:$J$140,2,FALSE),0) -> 736
A100: 04301-OVALLE | B100: 105422-P.S.R. HORNILLOS | E100: =IFERROR(VLOOKUP($B100,[4]NUM2!$H$3:$J$140,2,FALSE),0) -> 3
A101: 04301-OVALLE | B101: 105437-P.S.R. CHALINGA | E101: =IFERROR(VLOOKUP($B101,[4]NUM2!$H$3:$J$140,2,FALSE),0) -> 23
A102: 04301-OVALLE | B102: 105439-P.S.R. CERRO BLANCO | E102: =IFERROR(VLOOKUP($B102,[4]NUM2!$H$3:$J$140,2,FALSE),0) -> 0
... A107: 04301-OVALLE | B107: 200258-CECOF LOS COPIHUES | E107: =IFERROR(VLOOKUP($B107,[4]NUM2!$H$3:$J$140,2,FALSE),0) -> 102
A108: TOTAL OVALLE | C108: =+D108/Metas!G72 -> 2.2501721 | D108: =+E108/G108 -> 0.11824899 | E108: =SUM(E91:E107) -> 3409 | F108: =SUM(F91:F107) -> 0 | G108: 28829
A109: 04302-COMBARBALÁ | B109: 105433-P.S.R. SAN LORENZO | E109: =IFERROR(VLOOKUP($B109,[4]NUM2!$H$3:$J$140,2,FALSE),0) -> 17
A110: 04302-COMBARBALÁ | B110: 105434-P.S.R. SAN MARCOS | E110: =IFERROR(VLOOKUP($B110,[4]NUM2!$H$3:$J$140,2,FALSE),0) -> 117
A111: 04302-COMBARBALÁ | B111: 105441-P.S.R. MANQUEHUA | E111: =IFERROR(VLOOKUP($B111,[4]NUM2!$H$3:$J$140,2,FALSE),0) -> 116
...

Sheet META 3.1
A1: COMUNA | B1: ESTABLECIMIENTO | C1: CUMPLIMIENTO | D1: Indicador | E1: META 3.1: GESTION DE RECLAMOS EN APS
E2: NUMERADOR | R2: DENOMINADOR
E10: Nº total de reclamos respondidos con solución dentro de los plazos legales establecidos (15 días hábiles) | R10: Nº total de reclamos
D11: Resultado | E11: ENERO | F11: FEBRERO | G11: MARZO | H11: ABRIL | I11: MAYO | J11: JUNIO | K11: JULIO | L11: AGOSTO | M11: SEPBRE | N11: OCTBRE | O11: NOVBRE | P11: DICBRE | Q11: TOTAL | R11: ENERO | S11: FEBRERO | T11: MARZO | U11: ABRIL | V11: MAYO | W11: JUNIO | X11: JULIO | Y11: AGOSTO | Z11: SEPBRE | AA11: OCTBRE | AB11: NOVBRE | AC11: DICBRE | AD11: TOTAL
A12: 04101-LA SERENA | B12: 105300-CES. CARDENAL CARO | E12: =IFERROR(VLOOKUP($B12,'[4]NUM3.1'!$H$3:$P$104,2,FALSE),0) -> 20 | F12: =IFERROR(VLOOKUP($B12,'[4]NUM3.1'!$H$3:$P$104,3,FALSE),0) -> 33 | G12: =IFERROR(VLOOKUP($B12,'[4]NUM3.1'!$H$3:$P$104,4,FALSE),0) -> 33 | H12: =IFERROR(VLOOKUP($B12,'[4]NUM3.1'!$H$3:$P$104,5,FALSE),0) -> 15 | I12: =IFERROR(VLOOKUP($B12,'[4]NUM3.1'!$H$3:$P$104,6,FALSE),0) -> 9 | J12: =IFERROR(VLOOKUP($B12,'[4]NUM3.1'!$H$3:$P$104,7,FALSE),0) -> 43 | K12: =IFERROR(VLOOKUP($B12,'[4]NUM3.1'!$H$3:$P$104,8,FALSE),0) -> 50 | Q12: =SUM(E12:P12) -> 203 | R12: =IFERROR(VLOOKUP($B12,'[4]DEN3.1'!$H$3:$P$104,2,FALSE),0) -> 20 | S12: =IFERROR(VLOOKUP($B12,'[4]DEN3.1'!$H$3:$P$104,3,FALSE),0) -> 33 | T12: =IFERROR(VLOOKUP($B12,'[4]DEN3.1'!$H$3:$P$104,4,FALSE),0) -> 33 | U12: =IFERROR(VLOOKUP($B12,'[4]DEN3.1'!$H$3:$P$104,5,FALSE),0) -> 15 | V12: =IFERROR(VLOOKUP($B12,'[4]DEN3.1'!$H$3:$P$104,6,FALSE),0) -> 9 | W12: =IFERROR(VLOOKUP($B12,'[4]DEN3.1'!$H$3:$P$104,7,FALSE),0) -> 43 | X12: =IFERROR(VLOOKUP($B12,'[4]DEN3.1'!$H$3:$P$104,8,FALSE),0) -> 50 | AD12: =SUM(R12:AC12) -> 203
A13: 04101-LA SERENA | B13: 105301-CES. LAS COMPAÑIAS | E13: =IFERROR(VLOOKUP($B13,'[4]NUM3.1'!$H$3:$P$104,2,FALSE),0) -> 9 | F13: =IFERROR(VLOOKUP($B13,'[4]NUM3.1'!$H$3:$P$104,3,FALSE),0) -> 4 | G13: =IFERROR(VLOOKUP($B13,'[4]NUM3.1'!$H$3:$P$104,4,FALSE),0) -> 21 | H13: =IFERROR(VLOOKUP($B13,'[4]NUM3.1'!$H$3:$P$104,5,FALSE),0) -> 9 | I13: =IFERROR(VLOOKUP($B13,'[4]NUM3.1'!$H$3:$P$104,6,FALSE),0) -> 2 | J13: =IFERROR(VLOOKUP($B13,'[4]NUM3.1'!$H$3:$P$104,7,FALSE),0) -> 15 | K13: =IFERROR(VLOOKUP($B13,'[4]NUM3.1'!$H$3:$P$104,8,FALSE),0) -> 6 | Q13: =SUM(E13:P13) -> 66 | R13: =IFERROR(VLOOKUP($B13,'[4]DEN3.1'!$H$3:$P$104,2,FALSE),0) -> 9 | S13: =IFERROR(VLOOKUP($B13,'[4]DEN3.1'!$H$3:$P$104,3,FALSE),0) -> 4 | T13: =IFERROR(VLOOKUP($B13,'[4]DEN3.1'!$H$3:$P$104,4,FALSE),0) -> 21 | U13: =IFERROR(VLOOKUP($B13,'[4]DEN3.1'!$H$3:$P$104,5,FALSE),0) -> 9 | V13: =IFERROR(VLOOKUP($B13,'[4]DEN3.1'!$H$3:$P$104,6,FALSE),0) -> 2 | W13: =IFERROR(VLOOKUP($B13,'[4]DEN3.1'!$H$3:$P$104,7,FALSE),0) -> 15 | X13: =IFERROR(VLOOKUP($B13,'[4]DEN3.1'!$H$3:$P$104,8,FALSE),0) -> 6 | AD13: =SUM(R13:AC13) -> 66
A14: 04101-LA SERENA | B14: 105302-CES. PEDRO AGUIRRE C. | E14: =IFERROR(VLOOKUP($B14,'[4]NUM3.1'!$H$3:$P$104,2,FALSE),0) -> 6 | F14: =IFERROR(VLOOKUP($B14,'[4]NUM3.1'!$H$3:$P$104,3,FALSE),0) -> 3 | G14: =IFERROR(VLOOKUP($B14,'[4]NUM3.1'!$H$3:$P$104,4,FALSE),0) -> 6 | H14: =IFERROR(VLOOKUP($B14,'[4]NUM3.1'!$H$3:$P$104,5,FALSE),0) -> 2 | I14: =IFERROR(VLOOKUP($B14,'[4]NUM3.1'!$H$3:$P$104,6,FALSE),0) -> 8 | J14: =IFERROR(VLOOKUP($B14,'[4]NUM3.1'!$H$3:$P$104,7,FALSE),0) -> 4 | K14: =IFERROR(VLOOKUP($B14,'[4]NUM3.1'!$H$3:$P$104,8,FALSE),0) -> 5 | Q14: =SUM(E14:P14) -> 34 | R14: =IFERROR(VLOOKUP($B14,'[4]DEN3.1'!$H$3:$P$104,2,FALSE),0) -> 6 | S14: =IFERROR(VLOOKUP($B14,'[4]DEN3.1'!$H$3:$P$104,3,FALSE),0) -> 3 | T14: =IFERROR(VLOOKUP($B14,'[4]DEN3.1'!$H$3:$P$104,4,FALSE),0) -> 6 | U14: =IFERROR(VLOOKUP($B14,'[4]DEN3.1'!$H$3:$P$104,5,FALSE),0) -> 2 | V14: =IFERROR(VLOOKUP($B14,'[4]DEN3.1'!$H$3:$P$104,6,FALSE),0) -> 8 | W14: =IFERROR(VLOOKUP($B14,'[4]DEN3.1'!$H$3:$P$104,7,FALSE),0) -> 4 | X14: =IFERROR(VLOOKUP($B14,'[4]DEN3.1'!$H$3:$P$104,8,FALSE),0) -> 5 | AD14: =SUM(R14:AC14) -> 34
A15: 04101-LA SERENA | B15: 105313-CES. SCHAFFHAUSER | E15: =IFERROR(VLOOKUP($B15,'[4]NUM3.1'!$H$3:$P$104,2,FALSE),0) -> 9 | F15: =IFERROR(VLOOKUP($B15,'[4]NUM3.1'!$H$3:$P$104,3,FALSE),0) -> 2 | G15: =IFERROR(VLOOKUP($B15,'[4]NUM3.1'!$H$3:$P$104,4,FALSE),0) -> 5 | H15: =IFERROR(VLOOKUP($B15,'[4]NUM3.1'!$H$3:$P$104,5,FALSE),0) -> 10 | I15: =IFERROR(VLOOKUP($B15,'[4]NUM3.1'!$H$3:$P$104,6,FALSE),0) -> 6 | J15: =IFERROR(VLOOKUP($B15,'[4]NUM3.1'!$H$3:$P$104,7,FALSE),0) -> 13 | K15: =IFERROR(VLOOKUP($B15,'[4]NUM3.1'!$H$3:$P$104,8,FALSE),0) -> 4 | Q15: =SUM(E15:P15) -> 49 | R15: =IFERROR(VLOOKUP($B15,'[4]DEN3.1'!$H$3:$P$104,2,FALSE),0) -> 9 | S15: =IFERROR(VLOOKUP($B15,'[4]DEN3.1'!$H$3:$P$104,3,FALSE),0) -> 2 | T15: =IFERROR(VLOOKUP($B15,'[4]DEN3.1'!$H$3:$P$104,4,FALSE),0) -> 5 | U15: =IFERROR(VLOOKUP($B15,'[4]DEN3.1'!$H$3:$P$104,5,FALSE),0) -> 10 | V15: =IFERROR(VLOOKUP($B15,'[4]DEN3.1'!$H$3:$P$104,6,FALSE),0) -> 6 | W15: =IFERROR(VLOOKUP($B15,'[4]DEN3.1'!$H$3:$P$104,7,FALSE),0) -> 13 | X15: =IFERROR(VLOOKUP($B15,'[4]DEN3.1'!$H$3:$P$104,8,FALSE),0) -> 4 | AD15: =SUM(R15:AC15) -> 49
A16: 04101-LA SERENA | B16: 105319-CES. CARDENAL R.S.H. | E16: =IFERROR(VLOOKUP($B16,'[4]NUM3.1'!$H$3:$P$104,2,FALSE),0) -> 4 | F16: =IFERROR(VLOOKUP($B16,'[4]NUM3.1'!$H$3:$P$104,3,FALSE),0) -> 2 | G16: =IFERROR(VLOOKUP($B16,'[4]NUM3.1'!$H$3:$P$104,4,FALSE),0) -> 5 | H16: =IFERROR(VLOOKUP($B16,'[4]NUM3.1'!$H$3:$P$104,5,FALSE),0) -> 2 | I16: =IFERROR(VLOOKUP($B16,'[4]NUM3.1'!$H$3:$P$104,6,FALSE),0) -> 9 | J16: =IFERROR(VLOOKUP($B16,'[4]NUM3.1'!$H$3:$P$104,7,FALSE),0) -> 4 | K16: =IFERROR(VLOOKUP($B16,'[4]NUM3.1'!$H$3:$P$104,8,FALSE),0) -> 4 | Q16: =SUM(E16:P16) -> 30 | R16: =IFERROR(VLOOKUP($B16,'[4]DEN3.1'!$H$3:$P$104,2,FALSE),0) -> 4 | S16: =IFERROR(VLOOKUP($B16,'[4]DEN3.1'!$H$3:$P$104,3,FALSE),0) -> 2 | T16: =IFERROR(VLOOKUP($B16,'[4]DEN3.1'!$H$3:$P$104,4,FALSE),0) -> 5 | U16: =IFERROR(VLOOKUP($B16,'[4]DEN3.1'!$H$3:$P$104,5,FALSE),0) -> 2 | V16: =IFERROR(VLOOKUP($B16,'[4]DEN3.1'!$H$3:$P$104,6,FALSE),0) -> 9 | W16: =IFERROR(VLOOKUP($B16,'[4]DEN3.1'!$H$3:$P$104,7,FALSE),0) -> 4 | X16: =IFERROR(VLOOKUP($B16,'[4]DEN3.1'!$H$3:$P$104,8,FALSE),0) -> 4 | AD16: =SUM(R16:AC16) -> 30
A17: 04101-LA SERENA | B17: 105325-CESFAM JUAN PABLO II | E17: =IFERROR(VLOOKUP($B17,'[4]NUM3.1'!$H$3:$P$104,2,FALSE),0) -> 8 | F17: =IFERROR(VLOOKUP($B17,'[4]NUM3.1'!$H$3:$P$104,3,FALSE),0) -> 5 | G17: =IFERROR(VLOOKUP($B17,'[4]NUM3.1'!$H$3:$P$104,4,FALSE),0) -> 3 | H17: =IFERROR(VLOOKUP($B17,'[4]NUM3.1'!$H$3:$P$104,5,FALSE),0) -> 12 | I17: =IFERROR(VLOOKUP($B17,'[4]NUM3.1'!$H$3:$P$104,6,FALSE),0) -> 12 | J17: =IFERROR(VLOOKUP($B17,'[4]NUM3.1'!$H$3:$P$104,7,FALSE),0) -> 3 | K17: =IFERROR(VLOOKUP($B17,'[4]NUM3.1'!$H$3:$P$104,8,FALSE),0) -> 4 | Q17: =SUM(E17:P17) -> 47 | R17: =IFERROR(VLOOKUP($B17,'[4]DEN3.1'!$H$3:$P$104,2,FALSE),0) -> 8 | S17: =IFERROR(VLOOKUP($B17,'[4]DEN3.1'!$H$3:$P$104,3,FALSE),0) -> 5 | T17: =IFERROR(VLOOKUP($B17,'[4]DEN3.1'!$H$3:$P$104,4,FALSE),0) -> 3 | U17: =IFERROR(VLOOKUP($B17,'[4]DEN3.1'!$H$3:$P$104,5,FALSE),0) -> 12 | V17: =IFERROR(VLOOKUP($B17,'[4]DEN3.1'!$H$3:$P$104,6,FALSE),0) -> 12 | W17: =IFERROR(VLOOKUP($B17,'[4]DEN3.1'!$H$3:$P$104,7,FALSE),0) -> 3 | X17: =IFERROR(VLOOKUP($B17,'[4]DEN3.1'!$H$3:$P$104,8,FALSE),0) -> 4 | AD17: =SUM(R17:AC17) -> 47
A18: 04101-LA SERENA | B18: 105400-P.S.R. ALGARROBITO | E18: =IFERROR(VLOOKUP($B18,'[4]NUM3.1'!$H$3:$P$104,2,FALSE),0) -> 0 | F18: =IFERROR(VLOOKUP($B18,'[4]NUM3.1'!$H$3:$P$104,3,FALSE),0) -> 0 | G18: =IFERROR(VLOOKUP($B18,'[4]NUM3.1'!$H$3:$P$104,4,FALSE),0) -> 0 | H18: =IFERROR(VLOOKUP($B18,'[4]NUM3.1'!$H$3:$P$104,5,FALSE),0) -> 0 | I18: =IFERROR(VLOOKUP($B18,'[4]NUM3.1'!$H$3:$P$104,6,FALSE),0) -> 0 | J18: =IFERROR(VLOOKUP($B18,'[4]NUM3.1'!$H$3:$P$104,7,FALSE),0) -> 1 | K18: =IFERROR(VLOOKUP($B18,'[4]NUM3.1'!$H$3:$P$104,8,FALSE),0) -> 1 | Q18: =SUM(E18:P18) -> 2 | R18: =IFERROR(VLOOKUP($B18,'[4]DEN3.1'!$H$3:$P$104,2,FALSE),0) -> 0 | S18: =IFERROR(VLOOKUP($B18,'[4]DEN3.1'!$H$3:$P$104,3,FALSE),0) -> 0 | T18: =IFERROR(VLOOKUP($B18,'[4]DEN3.1'!$H$3:$P$104,4,FALSE),0) -> 0 | U18: =IFERROR(VLOOKUP($B18,'[4]DEN3.1'!$H$3:$P$104,5,FALSE),0) -> 0 | V18: =IFERROR(VLOOKUP($B18,'[4]DEN3.1'!$H$3:$P$104,6,FALSE),0) -> 0 | W18: =IFERROR(VLOOKUP($B18,'[4]DEN3.1'!$H$3:$P$104,7,FALSE),0) -> 1 | X18: =IFERROR(VLOOKUP($B18,'[4]DEN3.1'!$H$3:$P$104,8,FALSE),0) -> 1 | AD18: =SUM(R18:AC18) -> 2
A19: 04101-LA SERENA | B19: 105401-P.S.R. LAS ROJAS | E19: =IFERROR(VLOOKUP($B19,'[4]NUM3.1'!$H$3:$P$104,2,FALSE),0) -> 0 | F19: =IFERROR(VLOOKUP($B19,'[4]NUM3.1'!$H$3:$P$104,3,FALSE),0) -> 0 | G19: =IFERROR(VLOOKUP($B19,'[4]NUM3.1'!$H$3:$P$104,4,FALSE),0) -> 0 | H19: =IFERROR(VLOOKUP($B19,'[4]NUM3.1'!$H$3:$P$104,5,FALSE),0) -> 0 | I19: =IFERROR(VLOOKUP($B19,'[4]NUM3.1'!$H$3:$P$104,6,FALSE),0) -> 0 | J19: =IFERROR(VLOOKUP($B19,'[4]NUM3.1'!$H$3:$P$104,7,FALSE),0) -> 0 | K19: =IFERROR(VLOOKUP($B19,'[4]NUM3.1'!$H$3:$P$104,8,FALSE),0) -> 0 | Q19: =SUM(E19:P19) -> 0 | R19: =IFERROR(VLOOKUP($B19,'[4]DEN3.1'!$H$3:$P$104,2,FALSE),0) -> 0 | S19: =IFERROR(VLOOKUP($B19,'[4]DEN3.1'!$H$3:$P$104,3,FALSE),0) -> 0 | T19: =IFERROR(VLOOKUP($B19,'[4]DEN3.1'!$H$3:$P$104,4,FALSE),0) -> 0 | U19: =IFERROR(VLOOKUP($B19,'[4]DEN3.1'!$H$3:$P$104,5,FALSE),0) -> 0 | V19: =IFERROR(VLOOKUP($B19,'[4]DEN3.1'!$H$3:$P$104,6,FALSE),0) -> 0 | W19: =IFERROR(VLOOKUP($B19,'[4]DEN3.1'!$H$3:$P$104,7,FALSE),0) -> 0 | X19: =IFERROR(VLOOKUP($B19,'[4]DEN3.1'!$H$3:$P$104,8,FALSE),0) -> 0 | AD19: =SUM(R19:AC19) -> 0
A20: 04101-LA SERENA | B20: 105402-P.S.R. EL ROMERO | E20: =IFERROR(VLOOKUP($B20,'[4]NUM3.1'!$H$3:$P$104,2,FALSE),0) -> 0 | F20: =IFERROR(VLOOKUP($B20,'[4]NUM3.1'!$H$3:$P$104,3,FALSE),0) -> 0 | G20: =IFERROR(VLOOKUP($B20,'[4]NUM3.1'!$H$3:$P$104,4,FALSE),0) -> 0 | H20: =IFERROR(VLOOKUP($B20,'[4]NUM3.1'!$H$3:$P$104,5,FALSE),0) -> 0 | I20: =IFERROR(VLOOKUP($B20,'[4]NUM3.1'!$H$3:$P$104,6,FALSE),0) -> 0 | J20: =IFERROR(VLOOKUP($B20,'[4]NUM3.1'!$H$3:$P$104,7,FALSE),0) -> 0 | K20: =IFERROR(VLOOKUP($B20,'[4]NUM3.1'!$H$3:$P$104,8,FALSE),0) -> 1 | Q20: =SUM(E20:P20) -> 1 | R20: =IFERROR(VLOOKUP($B20,'[4]DEN3.1'!$H$3:$P$104,2,FALSE),0) -> 0 | S20: =IFERROR(VLOOKUP($B20,'[4]DEN3.1'!$H$3:$P$104,3,FALSE),0) -> 0 | T20: =IFERROR(VLOOKUP($B20,'[4]DEN3.1'!$H$3:$P$104,4,FALSE),0) -> 0 | U20: =IFERROR(VLOOKUP($B20,'[4]DEN3.1'!$H$3:$P$104,5,FALSE),0) -> 0 | V20: =IFERROR(VLOOKUP($B20,'[4]DEN3.1'!$H$3:$P$104,6,FALSE),0) -> 0 | W20: =IFERROR(VLOOKUP($B20,'[4]DEN3.1'!$H$3:$P$104,7,FALSE),0) -> 0 | X20: =IFERROR(VLOOKUP($B20,'[4]DEN3.1'!$H$3:$P$104,8,FALSE),0) -> 1 | AD20: =SUM(R20:AC20) -> 1
A21: 04101-LA SERENA | B21: 105499-P.S.R. LAMBERT | E21: =IFERROR(VLOOKUP($B21,'[4]NUM3.1'!$H$3:$P$104,2,FALSE),0) -> 0 | F21: =IFERROR(VLOOKUP($B21,'[4]NUM3.1'!$H$3:$P$104,3,FALSE),0) -> 0 | G21: =IFERROR(VLOOKUP($B21,'[4]NUM3.1'!$H$3:$P$104,4,FALSE),0) -> 0 | H21: =IFERROR(VLOOKUP($B21,'[4]NUM3.1'!$H$3:$P$104,5,FALSE),0) -> 0 | I21: =IFERROR(VLOOKUP($B21,'[4]NUM3.1'!$H$3:$P$104,6,FALSE),0) -> 0 | J21: =IFERROR(VLOOKUP($B21,'[4]NUM3.1'!$H$3:$P$104,7,FALSE),0) -> 0 | K21: =IFERROR(VLOOKUP($B21,'[4]NUM3.1'!$H$3:$P$104,8,FALSE),0) -> 0 | Q21: =SUM(E21:P21) -> 0 | R21: =IFERROR(VLOOKUP($B21,'[4]DEN3.1'!$H$3:$P$104,2,FALSE),0) -> 0 | S21: =IFERROR(VLOOKUP($B21,'[4]DEN3.1'!$H$3:$P$104,3,FALSE),0) -> 0 | T21: =IFERROR(VLOOKUP($B21,'[4]DEN3.1'!$H$3:$P$104,4,FALSE),0) -> 0 | U21: =IFERROR(VLOOKUP($B21,'[4]DEN3.1'!$H$3:$P$104,5,FALSE),0) -> 0 | V21: =IFERROR(VLOOKUP($B21,'[4]DEN3.1'!$H$3:$P$104,6,FALSE),0) -> 0 | W21: =IFERROR(VLOOKUP($B21,'[4]DEN3.1'!$H$3:$P$104,7,FALSE),0) -> 0 | X21: =IFERROR(VLOOKUP($B21,'[4]DEN3.1'!$H$3:$P$104,8,FALSE),0) -> 0 | AD21: =SUM(R21:AC21) -> 0
A22: 04101-LA SERENA | B22: 105700-CECOF VILLA EL INDIO | E22: =IFERROR(VLOOKUP($B22,'[4]NUM3.1'!$H$3:$P$104,2,FALSE),0) -> 0 | F22: =IFERROR(VLOOKUP($B22,'[4]NUM3.1'!$H$3:$P$104,3,FALSE),0) -> 1 | G22: =IFERROR(VLOOKUP($B22,'[4]NUM3.1'!$H$3:$P$104,4,FALSE),0) -> 0 | H22: =IFERROR(VLOOKUP($B22,'[4]NUM3.1'!$H$3:$P$104,5,FALSE),0) -> 2 | I22: =IFERROR(VLOOKUP($B22,'[4]NUM3.1'!$H$3:$P$104,6,FALSE),0) -> 2 | J22: =IFERROR(VLOOKUP($B22,'[4]NUM3.1'!$H$3:$P$104,7,FALSE),0) -> 0 | K22: =IFERROR(VLOOKUP($B22,'[4]NUM3.1'!$H$3:$P$104,8,FALSE),0) -> 0 | Q22: =SUM(E22:P22) -> 5 | R22: =IFERROR(VLOOKUP($B22,'[4]DEN3.1'!$H$3:$P$104,2,FALSE),0) -> 0 | S22: =IFERROR(VLOOKUP($B22,'[4]DEN3.1'!$H$3:$P$104,3,FALSE),0) -> 1 | T22: =IFERROR(VLOOKUP($B22,'[4]DEN3.1'!$H$3:$P$104,4,FALSE),0) -> 0 | U22: =IFERROR(VLOOKUP($B22,'[4]DEN3.1'!$H$3:$P$104,5,FALSE),0) -> 2 | V22: =IFERROR(VLOOKUP($B22,'[4]DEN3.1'!$H$3:$P$104,6,FALSE),0) -> 2 | W22: =IFERROR(VLOOKUP($B22,'[4]DEN3.1'!$H$3:$P$104,7,FALSE),0) -> 0 | X22: =IFERROR(VLOOKUP($B22,'[4]DEN3.1'!$H$3:$P$104,8,FALSE),0) -> 0 | AD22: =SUM(R22:AC22) -> 5
A23: 04101-LA SERENA | B23: 105701-CECOF VILLA ALEMANIA | E23: =IFERROR(VLOOKUP($B23,'[4]NUM3.1'!$H$3:$P$104,2,FALSE),0) -> 0 | F23: =IFERROR(VLOOKUP($B23,'[4]NUM3.1'!$H$3:$P$104,3,FALSE),0) -> 0 | G23: =IFERROR(VLOOKUP($B23,'[4]NUM3.1'!$H$3:$P$104,4,FALSE),0) -> 0 | H23: =IFERROR(VLOOKUP($B23,'[4]NUM3.1'!$H$3:$P$104,5,FALSE),0) -> 0 | I23: =IFERROR(VLOOKUP($B23,'[4]NUM3.1'!$H$3:$P$104,6,FALSE),0) -> 0 | J23: =IFERROR(VLOOKUP($B23,'[4]NUM3.1'!$H$3:$P$104,7,FALSE),0) -> 1 | K23: =IFERROR(VLOOKUP($B23,'[4]NUM3.1'!$H$3:$P$104,8,FALSE),0) -> 1 | Q23: =SUM(E23:P23) -> 2 | R23: =IFERROR(VLOOKUP($B23,'[4]DEN3.1'!$H$3:$P$104,2,FALSE),0) -> 0 | S23: =IFERROR(VLOOKUP($B23,'[4]DEN3.1'!$H$3:$P$104,3,FALSE),0) -> 0 | T23: =IFERROR(VLOOKUP($B23,'[4]DEN3.1'!$H$3:$P$104,4,FALSE),0) -> 0 | U23: =IFERROR(VLOOKUP($B23,'[4]DEN3.1'!$H$3:$P$104,5,FALSE),0) -> 0 | V23: =IFERROR(VLOOKUP($B23,'[4]DEN3.1'!$H$3:$P$104,6,FALSE),0) -> 0 | W23: =IFERROR(VLOOKUP($B23,'[4]DEN3.1'!$H$3:$P$104,7,FALSE),0) -> 1 | X23: =IFERROR(VLOOKUP($B23,'[4]DEN3.1'!$H$3:$P$104,8,FALSE),0) -> 1 | AD23: =SUM(R23:AC23) -> 2
A24: 04101-LA SERENA | B24: 105702-CECOF VILLA LAMBERT | E24: =IFERROR(VLOOKUP($B24,'[4]NUM3.1'!$H$3:$P$104,2,FALSE),0) -> 1 | F24: =IFERROR(VLOOKUP($B24,'[4]NUM3.1'!$H$3:$P$104,3,FALSE),0) -> 0 | G24: =IFERROR(VLOOKUP($B24,'[4]NUM3.1'!$H$3:$P$104,4,FALSE),0) -> 0 | H24: =IFERROR(VLOOKUP($B24,'[4]NUM3.1'!$H$3:$P$104,5,FALSE),0) -> 0 | I24: =IFERROR(VLOOKUP($B24,'[4]NUM3.1'!$H$3:$P$104,6,FALSE),0) -> 0 | J24: =IFERROR(VLOOKUP($B24,'[4]NUM3.1'!$H$3:$P$104,7,FALSE),0) -> 0 | K24: =IFERROR(VLOOKUP($B24,'[4]NUM3.1'!$H$3:$P$104,8,FALSE),0) -> 0 | Q24: =SUM(E24:P24) -> 1 | R24: =IFERROR(VLOOKUP($B24,'[4]DEN3.1'!$H$3:$P$104,2,FALSE),0) -> 1 | S24: =IFERROR(VLOOKUP($B24,'[4]DEN3.1'!$H$3:$P$104,3,FALSE),0) -> 0 | T24: =IFERROR(VLOOKUP($B24,'[4]DEN3.1'!$H$3:$P$104,4,FALSE),0) -> 0 | U24: =IFERROR(VLOOKUP($B24,'[4]DEN3.1'!$H$3:$P$104,5,FALSE),0) -> 0 | V24: =IFERROR(VLOOKUP($B24,'[4]DEN3.1'!$H$3:$P$104,6,FALSE),0) -> 0 | W24: =IFERROR(VLOOKUP($B24,'[4]DEN3.1'!$H$3:$P$104,7,FALSE),0) -> 0 | X24: =IFERROR(VLOOKUP($B24,'[4]DEN3.1'!$H$3:$P$104,8,FALSE),0) -> 0 | AD24: =SUM(R24:AC24) -> 1
A25: TOTAL LA SERENA | C25: =+D25/Metas!H69 -> 1.0201429 | D25: =+Q25/AD25 -> 1 | E25: =SUM(E12:E24) -> 57 | F25: =SUM(F12:F24) -> 50 | G25: =SUM(G12:G24) -> 73 | H25: =SUM(H12:H24) -> 52 | I25: =SUM(I12:I24) -> 48 | J25: =SUM(J12:J24) -> 84 | K25: =SUM(K12:K24) -> 76 | L25: =SUM(L12:L24) -> 0 | ... AD25: =SUM(AD12:AD24) -> 440
A26: 04102-COQUIMBO | B26: 105303-CES. SAN JUAN | E26: =IFERROR(VLOOKUP($B26,'[4]NUM3.1'!$H$3:$P$104,2,FALSE),0) -> 7 | F26: =IFERROR(VLOOKUP($B26,'[4]NUM3.1'!$H$3:$P$104,3,FALSE),0) -> 5 | G26: =IFERROR(VLOOKUP($B26,'[4]NUM3.1'!$H$3:$P$104,4,FALSE),0) -> 15 | H26: =IFERROR(VLOOKUP($B26,'[4]NUM3.1'!$H$3:$P$104,5,FALSE),0) -> 21 | I26: =IFERROR(VLOOKUP($B26,'[4]NUM3.1'!$H$3:$P$104,6,FALSE),0) -> 0 | J26: =IFERROR(VLOOKUP($B26,'[4]NUM3.1'!$H$3:$P$104,7,FALSE),0) -> 7 | K26: =IFERROR(VLOOKUP($B26,'[4]NUM3.1'!$H$3:$P$104,8,FALSE),0) -> 10 | Q26: =SUM(E26:P26) -> 65 | R26: =IFERROR(VLOOKUP($B26,'[4]DEN3.1'!$H$3:$P$104,2,FALSE),0) -> 7 | S26: =IFERROR(VLOOKUP($B26,'[4]DEN3.1'!$H$3:$P$104,3,FALSE),0) -> 5 | T26: =IFERROR(VLOOKUP($B26,'[4]DEN3.1'!$H$3:$P$104,4,FALSE),0) -> 15 | U26: =IFERROR(VLOOKUP($B26,'[4]DEN3.1'!$H$3:$P$104,5,FALSE),0) -> 21 | V26: =IFERROR(VLOOKUP($B26,'[4]DEN3.1'!$H$3:$P$104,6,FALSE),0) -> 0 | W26: =IFERROR(VLOOKUP($B26,'[4]DEN3.1'!$H$3:$P$104,7,FALSE),0) -> 7 | X26: =IFERROR(VLOOKUP($B26,'[4]DEN3.1'!$H$3:$P$104,8,FALSE),0) -> 10 | AD26: =SUM(R26:AC26) -> 65
A27: 04102-COQUIMBO | B27: 105304-CES. SANTA CECILIA | E27: =IFERROR(VLOOKUP($B27,'[4]NUM3.1'!$H$3:$P$104,2,FALSE),0) -> 11 | F27: =IFERROR(VLOOKUP($B27,'[4]NUM3.1'!$H$3:$P$104,3,FALSE),0) -> 5 | G27: =IFERROR(VLOOKUP($B27,'[4]NUM3.1'!$H$3:$P$104,4,FALSE),0) -> 11 | H27: =IFERROR(VLOOKUP($B27,'[4]NUM3.1'!$H$3:$P$104,5,FALSE),0) -> 10 | I27: =IFERROR(VLOOKUP($B27,'[4]NUM3.1'!$H$3:$P$104,6,FALSE),0) -> 17 | J27: =IFERROR(VLOOKUP($B27,'[4]NUM3.1'!$H$3:$P$104,7,FALSE),0) -> 10 | K27: =IFERROR(VLOOKUP($B27,'[4]NUM3.1'!$H$3:$P$104,8,FALSE),0) -> 13 | Q27: =SUM(E27:P27) -> 77 | R27: =IFERROR(VLOOKUP($B27,'[4]DEN3.1'!$H$3:$P$104,2,FALSE),0) -> 11 | S27: =IFERROR(VLOOKUP($B27,'[4]DEN3.1'!$H$3:$P$104,3,FALSE),0) -> 5 | T27: =IFERROR(VLOOKUP($B27,'[4]DEN3.1'!$H$3:$P$104,4,FALSE),0) -> 11 | U27: =IFERROR(VLOOKUP($B27,'[4]DEN3.1'!$H$3:$P$104,5,FALSE),0) -> 10 | V27: =IFERROR(VLOOKUP($B27,'[4]DEN3.1'!$H$3:$P$104,6,FALSE),0) -> 17 | W27: =IFERROR(VLOOKUP($B27,'[4]DEN3.1'!$H$3:$P$104,7,FALSE),0) -> 10 | X27: =IFERROR(VLOOKUP($B27,'[4]DEN3.1'!$H$3:$P$104,8,FALSE),0) -> 13 | AD27: =SUM(R27:AC27) -> 77
A28: 04102-COQUIMBO | B28: 105305-CES. TIERRAS BLANCAS | E28: =IFERROR(VLOOKUP($B28,'[4]NUM3.1'!$H$3:$P$104,2,FALSE),0) -> 1 | F28: =IFERROR(VLOOKUP($B28,'[4]NUM3.1'!$H$3:$P$104,3,FALSE),0) -> 3 | G28: =IFERROR(VLOOKUP($B28,'[4]NUM3.1'!$H$3:$P$104,4,FALSE),0) -> 9 | H28: =IFERROR(VLOOKUP($B28,'[4]NUM3.1'!$H$3:$P$104,5,FALSE),0) -> 3 | I28: =IFERROR(VLOOKUP($B28,'[4]NUM3.1'!$H$3:$P$104,6,FALSE),0) -> 12 | J28: =IFERROR(VLOOKUP($B28,'[4]NUM3.1'!$H$3:$P$104,7,FALSE),0) -> 4 | K28: =IFERROR(VLOOKUP($B28,'[4]NUM3.1'!$H$3:$P$104,8,FALSE),0) -> 3 | Q28: =SUM(E28:P28) -> 35 | R28: =IFERROR(VLOOKUP($B28,'[4]DEN3.1'!$H$3:$P$104,2,FALSE),0) -> 1 | S28: =IFERROR(VLOOKUP($B28,'[4]DEN3.1'!$H$3:$P$104,3,FALSE),0) -> 3 | T28: =IFERROR(VLOOKUP($B28,'[4]DEN3.1'!$H$3:$P$104,4,FALSE),0) -> 9 | U28: =IFERROR(VLOOKUP($B28,'[4]DEN3.1'!$H$3:$P$104,5,FALSE),0) -> 3 | V28: =IFERROR(VLOOKUP($B28,'[4]DEN3.1'!$H$3:$P$104,6,FALSE),0) -> 12 | W28: =IFERROR(VLOOKUP($B28,'[4]DEN3.1'!$H$3:$P$104,7,FALSE),0) -> 4 | X28: =IFERROR(VLOOKUP($B28,'[4]DEN3.1'!$H$3:$P$104,8,FALSE),0) -> 3 | AD28: =SUM(R28:AC28) -> 35
A29: 04102-COQUIMBO | B29: 105321-CES. RURAL TONGOY | E29: =IFERROR(VLOOKUP($B29,'[4]NUM3.1'!$H$3:$P$104,2,FALSE),0) -> 0 | F29: =IFERROR(VLOOKUP($B29,'[4]NUM3.1'!$H$3:$P$104,3,FALSE),0) -> 6 | G29: =IFERROR(VLOOKUP($B29,'[4]NUM3.1'!$H$3:$P$104,4,FALSE),0) -> 2 | H29: =IFERROR(VLOOKUP($B29,'[4]NUM3.1'!$H$3:$P$104,5,FALSE),0) -> 3 | I29: =IFERROR(VLOOKUP($B29,'[4]NUM3.1'!$H$3:$P$104,6,FALSE),0) -> 3 | J29: =IFERROR(VLOOKUP($B29,'[4]NUM3.1'!$H$3:$P$104,7,FALSE),0) -> 0 | K29: =IFERROR(VLOOKUP($B29,'[4]NUM3.1'!$H$3:$P$104,8,FALSE),0) -> 2 | Q29: =SUM(E29:P29) -> 16 | R29: =IFERROR(VLOOKUP($B29,'[4]DEN3.1'!$H$3:$P$104,2,FALSE),0) -> 0 | S29: =IFERROR(VLOOKUP($B29,'[4]DEN3.1'!$H$3:$P$104,3,FALSE),0) -> 6 | T29: =IFERROR(VLOOKUP($B29,'[4]DEN3.1'!$H$3:$P$104,4,FALSE),0) -> 2 | U29: =IFERROR(VLOOKUP($B29,'[4]DEN3.1'!$H$3:$P$104,5,FALSE),0) -> 3 | V29: =IFERROR(VLOOKUP($B29,'[4]DEN3.1'!$H$3:$P$104,6,FALSE),0) -> 3 | W29: =IFERROR(VLOOKUP($B29,'[4]DEN3.1'!$H$3:$P$104,7,FALSE),0) -> 0 | X29: =IFERROR(VLOOKUP($B29,'[4]DEN3.1'!$H$3:$P$104,8,FALSE),0) -> 2 | AD29: =SUM(R29:AC29) -> 16
A30: 04102-COQUIMBO | B30: 105323-CES. DR. SERGIO AGUILAR | E30: =IFERROR(VLOOKUP($B30,'[4]NUM3.1'!$H$3:$P$104,2,FALSE),0) -> 54 | F30: =IFERROR(VLOOKUP($B30,'[4]NUM3.1'!$H$3:$P$104,3,FALSE),0) -> 46 | G30: =IFERROR(VLOOKUP($B30,'[4]NUM3.1'!$H$3:$P$104,4,FALSE),0) -> 57 | H30: =IFERROR(VLOOKUP($B30,'[4]NUM3.1'!$H$3:$P$104,5,FALSE),0) -> 59 | I30: =IFERROR(VLOOKUP($B30,'[4]NUM3.1'!$H$3:$P$104,6,FALSE),0) -> 48 | J30: =IFERROR(VLOOKUP($B30,'[4]NUM3.1'!$H$3:$P$104,7,FALSE),0) -> 47 | K30: =IFERROR(VLOOKUP($B30,'[4]NUM3.1'!$H$3:$P$104,8,FALSE),0) -> 47 | Q30: =SUM(E30:P30) -> 358 | R30: =IFERROR(VLOOKUP($B30,'[4]DEN3.1'!$H$3:$P$104,2,FALSE),0) -> 54 | S30: =IFERROR(VLOOKUP($B30,'[4]DEN3.1'!$H$3:$P$104,3,FALSE),0) -> 46 | T30: =IFERROR(VLOOKUP($B30,'[4]DEN3.1'!$H$3:$P$104,4,FALSE),0) -> 57 | U30: =IFERROR(VLOOKUP($B30,'[4]DEN3.1'!$H$3:$P$104,5,FALSE),0) -> 59 | V30: =IFERROR(VLOOKUP($B30,'[4]DEN3.1'!$H$3:$P$104,6,FALSE),0) -> 49 | W30: =IFERROR(VLOOKUP($B30,'[4]DEN3.1'!$H$3:$P$104,7,FALSE),0) -> 47 | X30: =IFERROR(VLOOKUP($B30,'[4]DEN3.1'!$H$3:$P$104,8,FALSE),0) -> 47 | AD30: =SUM(R30:AC30) -> 359
A31: 04102-COQUIMBO | B31: 105404-P.S.R. EL TANGUE | E31: =IFERROR(VLOOKUP($B31,'[4]NUM3.1'!$H$3:$P$104,2,FALSE),0) -> 0 | F31: =IFERROR(VLOOKUP($B31,'[4]NUM3.1'!$H$3:$P$104,3,FALSE),0) -> 0 | G31: =IFERROR(VLOOKUP($B31,'[4]NUM3.1'!$H$3:$P$104,4,FALSE),0) -> 0 | H31: =IFERROR(VLOOKUP($B31,'[4]NUM3.1'!$H$3:$P$104,5,FALSE),0) -> 0 | I31: =IFERROR(VLOOKUP($B31,'[4]NUM3.1'!$H$3:$P$104,6,FALSE),0) -> 0 | J31: =IFERROR(VLOOKUP($B31,'[4]NUM3.1'!$H$3:$P$104,7,FALSE),0) -> 0 | K31: =IFERROR(VLOOKUP($B31,'[4]NUM3.1'!$H$3:$P$104,8,FALSE),0) -> 0 | Q31: =SUM(E31:P31) -> 0 | R31: =IFERROR(VLOOKUP($B31,'[4]DEN3.1'!$H$3:$P$104,2,FALSE),0) -> 0 | S31: =IFERROR(VLOOKUP($B31,'[4]DEN3.1'!$H$3:$P$104,3,FALSE),0) -> 0 | T31: =IFERROR(VLOOKUP($B31,'[4]DEN3.1'!$H$3:$P$104,4,FALSE),0) -> 0 | U31: =IFERROR(VLOOKUP($B31,'[4]DEN3.1'!$H$3:$P$104,5,FALSE),0) -> 0 | V31: =IFERROR(VLOOKUP($B31,'[4]DEN3.1'!$H$3:$P$104,6,FALSE),0) -> 0 | W31: =IFERROR(VLOOKUP($B31,'[4]DEN3.1'!$H$3:$P$104,7,FALSE),0) -> 0 | X31: =IFERROR(VLOOKUP($B31,'[4]DEN3.1'!$H$3:$P$104,8,FALSE),0) -> 0 | AD31: =SUM(R31:AC31) -> 0
A32: 04102-COQUIMBO | B32: 105405-P.S.R. GUANAQUEROS | E32: =IFERROR(VLOOKUP($B32,'[4]NUM3.1'!$H$3:$P$104,2,FALSE),0) -> 3 | F32: =IFERROR(VLOOKUP($B32,'[4]NUM3.1'!$H$3:$P$104,3,FALSE),0) -> 2 | G32: =IFERROR(VLOOKUP($B32,'[4]NUM3.1'!$H$3:$P$104,4,FALSE),0) -> 1 | H32: =IFERROR(VLOOKUP($B32,'[4]NUM3.1'!$H$3:$P$104,5,FALSE),0) -> 2 | I32: =IFERROR(VLOOKUP($B32,'[4]NUM3.1'!$H$3:$P$104,6,FALSE),0) -> 1 | J32: =IFERROR(VLOOKUP($B32,'[4]NUM3.1'!$H$3:$P$104,7,FALSE),0) -> 0 | K32: =IFERROR(VLOOKUP($B32,'[4]NUM3.1'!$H$3:$P$104,8,FALSE),0) -> 0 | Q32: =SUM(E32:P32) -> 9 | R32: =IFERROR(VLOOKUP($B32,'[4]DEN3.1'!$H$3:$P$104,2,FALSE),0) -> 3 | S32: =IFERROR(VLOOKUP($B32,'[4]DEN3.1'!$H$3:$P$104,3,FALSE),0) -> 2 | T32: =IFERROR(VLOOKUP($B32,'[4]DEN3.1'!$H$3:$P$104,4,FALSE),0) -> 1 | U32: =IFERROR(VLOOKUP($B32,'[4]DEN3.1'!$H$3:$P$104,5,FALSE),0) -> 2 | V32: =IFERROR(VLOOKUP($B32,'[4]DEN3.1'!$H$3:$P$104,6,FALSE),0) -> 1 | W32: =IFERROR(VLOOKUP($B32,'[4]DEN3.1'!$H$3:$P$104,7,FALSE),0) -> 0 | X32: =IFERROR(VLOOKUP($B32,'[4]DEN3.1'!$H$3:$P$104,8,FALSE),0) -> 0 | AD32: =SUM(R32:AC32) -> 9
A33: 04102-COQUIMBO | B33: 105406-P.S.R. PAN DE AZUCAR | E33: =IFERROR(VLOOKUP($B33,'[4]NUM3.1'!$H$3:$P$104,2,FALSE),0) -> 2 | F33: =IFERROR(VLOOKUP($B33,'[4]NUM3.1'!$H$3:$P$104,3,FALSE),0) -> 2 | G33: =IFERROR(VLOOKUP($B33,'[4]NUM3.1'!$H$3:$P$104,4,FALSE),0) -> 0 | H33: =IFERROR(VLOOKUP($B33,'[4]NUM3.1'!$H$3:$P$104,5,FALSE),0) -> 3 | I33: =IFERROR(VLOOKUP($B33,'[4]NUM3.1'!$H$3:$P$104,6,FALSE),0) -> 2 | J33: =IFERROR(VLOOKUP($B33,'[4]NUM3.1'!$H$3:$P$104,7,FALSE),0) -> 3 | K33: =IFERROR(VLOOKUP($B33,'[4]NUM3.1'!$H$3:$P$104,8,FALSE),0) -> 3 | Q33: =SUM(E33:P33) -> 15 | R33: =IFERROR(VLOOKUP($B33,'[4]DEN3.1'!$H$3:$P$104,2,FALSE),0) -> 2 | S33: =IFERROR(VLOOKUP($B33,'[4]DEN3.1'!$H$3:$P$104,3,FALSE),0) -> 2 | T33: =IFERROR(VLOOKUP($B33,'[4]DEN3.1'!$H$3:$P$104,4,FALSE),0) -> 0 | U33: =IFERROR(VLOOKUP($B33,'[4]DEN3.1'!$H$3:$P$104,5,FALSE),0) -> 3 | V33: =IFERROR(VLOOKUP($B33,'[4]DEN3.1'!$H$3:$P$104,6,FALSE),0) -> 2 | W33: =IFERROR(VLOOKUP($B33,'[4]DEN3.1'!$H$3:$P$104,7,FALSE),0) -> 3 | X33: =IFERROR(VLOOKUP($B33,'[4]DEN3.1'!$H$3:$P$104,8,FALSE),0) -> 3 | AD33: =SUM(R33:AC33) -> 15
A34: 04102-COQUIMBO | B34: 105407-P.S.R. TAMBILLOS | E34: =IFERROR(VLOOKUP($B34,'[4]NUM3.1'!$H$3:$P$104,2,FALSE),0) -> 0 | F34: =IFERROR(VLOOKUP($B34,'[4]NUM3.1'!$H$3:$P$104,3,FALSE),0) -> 0 | G34: =IFERROR(VLOOKUP($B34,'[4]NUM3.1'!$H$3:$P$104,4,FALSE),0) -> 0 | H34: =IFERROR(VLOOKUP($B34,'[4]NUM3.1'!$H$3:$P$104,5,FALSE),0) -> 0 | I34: =IFERROR(VLOOKUP($B34,'[4]NUM3.1'!$H$3:$P$104,6,FALSE),0) -> 0 | J34: =IFERROR(VLOOKUP($B34,'[4]NUM3.1'!$H$3:$P$104,7,FALSE),0) -> 0 | K34: =IFERROR(VLOOKUP($B34,'[4]NUM3.1'!$H$3:$P$104,8,FALSE),0) -> 0 | Q34: =SUM(E34:P34) -> 0 | R34: =IFERROR(VLOOKUP($B34,'[4]DEN3.1'!$H$3:$P$104,2,FALSE),0) -> 0 | S34: =IFERROR(VLOOKUP($B34,'[4]DEN3.1'!$H$3:$P$104,3,FALSE),0) -> 0 | T34: =IFERROR(VLOOKUP($B34,'[4]DEN3.1'!$H$3:$P$104,4,FALSE),0) -> 0 | U34: =IFERROR(VLOOKUP($B34,'[4]DEN3.1'!$H$3:$P$104,5,FALSE),0) -> 0 | V34: =IFERROR(VLOOKUP($B34,'[4]DEN3.1'!$H$3:$P$104,6,FALSE),0) -> 0 | W34: =IFERROR(VLOOKUP($B34,'[4]DEN3.1'!$H$3:$P$104,7,FALSE),0) -> 0 | X34: =IFERROR(VLOOKUP($B34,'[4]DEN3.1'!$H$3:$P$104,8,FALSE),0) -> 0 | AD34: =SUM(R34:AC34) -> 0
A35: 04102-COQUIMBO | B35: 105705-CECOF EL ALBA | E35: =IFERROR(VLOOKUP($B35,'[4]NUM3.1'!$H$3:$P$104,2,FALSE),0) -> 2 | F35: =IFERROR(VLOOKUP($B35,'[4]NUM3.1'!$H$3:$P$104,3,FALSE),0) -> 2 | G35: =IFERROR(VLOOKUP($B35,'[4]NUM3.1'!$H$3:$P$104,4,FALSE),0) -> 1 | H35: =IFERROR(VLOOKUP($B35,'[4]NUM3.1'!$H$3:$P$104,5,FALSE),0) -> 3 | I35: =IFERROR(VLOOKUP($B35,'[4]NUM3.1'!$H$3:$P$104,6,FALSE),0) -> 0 | J35: =IFERROR(VLOOKUP($B35,'[4]NUM3.1'!$H$3:$P$104,7,FALSE),0) -> 1 | K35: =IFERROR(VLOOKUP($B35,'[4]NUM3.1'!$H$3:$P$104,8,FALSE),0) -> 1 | Q35: =SUM(E35:P35) -> 10 | R35: =IFERROR(VLOOKUP($B35,'[4]DEN3.1'!$H$3:$P$104,2,FALSE),0) -> 2 | S35: =IFERROR(VLOOKUP($B35,'[4]DEN3.1'!$H$3:$P$104,3,FALSE),0) -> 2 | T35: =IFERROR(VLOOKUP($B35,'[4]DEN3.1'!$H$3:$P$104,4,FALSE),0) -> 1 | U35: =IFERROR(VLOOKUP($B35,'[4]DEN3.1'!$H$3:$P$104,5,FALSE),0) -> 3 | V35: =IFERROR(VLOOKUP($B35,'[4]DEN3.1'!$H$3:$P$104,6,FALSE),0) -> 0 | W35: =IFERROR(VLOOKUP($B35,'[4]DEN3.1'!$H$3:$P$104,7,FALSE),0) -> 1 | X35: =IFERROR(VLOOKUP($B35,'[4]DEN3.1'!$H$3:$P$104,8,FALSE),0) -> 1 | AD35: =SUM(R35:AC35) -> 10
A36: 04102-COQUIMBO | B36: 200273-CECOF PUNTA MIRA | E36: =IFERROR(VLOOKUP($B36,'[4]NUM3.1'!$H$3:$P$104,2,FALSE),0) -> 3 | F36: =IFERROR(VLOOKUP($B36,'[4]NUM3.1'!$H$3:$P$104,3,FALSE),0) -> 4 | G36: =IFERROR(VLOOKUP($B36,'[4]NUM3.1'!$H$3:$P$104,4,FALSE),0) -> 2 | H36: =IFERROR(VLOOKUP($B36,'[4]NUM3.1'!$H$3:$P$104,5,FALSE),0) -> 3 | I36: =IFERROR(VLOOKUP($B36,'[4]NUM3.1'!$H$3:$P$104,6,FALSE),0) -> 5 | J36: =IFERROR(VLOOKUP($B36,'[4]NUM3.1'!$H$3:$P$104,7,FALSE),0) -> 4 | K36: =IFERROR(VLOOKUP($B36,'[4]NUM3.1'!$H$3:$P$104,8,FALSE),0) -> 0 | Q36: =SUM(E36:P36) -> 21 | R36: =IFERROR(VLOOKUP($B36,'[4]DEN3.1'!$H$3:$P$104,2,FALSE),0) -> 3 | S36: =IFERROR(VLOOKUP($B36,'[4]DEN3.1'!$H$3:$P$104,3,FALSE),0) -> 4 | T36: =IFERROR(VLOOKUP($B36,'[4]DEN3.1'!$H$3:$P$104,4,FALSE),0) -> 2 | U36: =IFERROR(VLOOKUP($B36,'[4]DEN3.1'!$H$3:$P$104,5,FALSE),0) -> 3 | V36: =IFERROR(VLOOKUP($B36,'[4]DEN3.1'!$H$3:$P$104,6,FALSE),0) -> 5 | W36: =IFERROR(VLOOKUP($B36,'[4]DEN3.1'!$H$3:$P$104,7,FALSE),0) -> 4 | X36: =IFERROR(VLOOKUP($B36,'[4]DEN3.1'!$H$3:$P$104,8,FALSE),0) -> 0 | AD36: =SUM(R36:AC36) -> 21
A37: TOTAL COQUIMBO | C37: =+D37/Metas!H67 -> 1.0186664 | D37: =+Q37/AD37 -> 0.99835255 | E37: =SUM(E26:E36) -> 83 | F37: =SUM(F26:F36) -> 75 | G37: =SUM(G26:G36) -> 98 | H37: =SUM(H26:H36) -> 107 | I37: =SUM(I26:I36) -> 88 | J37: =SUM(J26:J36) -> 76 | K37: =SUM(K26:K36) -> 79 | L37: =SUM(L26:L36) -> 0 | ... AD37: =SUM(AD26:AD36) -> 607
A38: 04106-VICUÑA | B38: 105467-P.S.R. DIAGUITAS | E38: =IFERROR(VLOOKUP($B38,'[4]NUM3.1'!$H$3:$P$104,2,FALSE),0) -> 1 | F38: =IFERROR(VLOOKUP($B38,'[4]NUM3.1'!$H$3:$P$104,3,FALSE),0) -> 1 | G38: =IFERROR(VLOOKUP($B38,'[4]NUM3.1'!$H$3:$P$104,4,FALSE),0) -> 0 | H38: =IFERROR(VLOOKUP($B38,'[4]NUM3.1'!$H$3:$P$104,5,FALSE),0) -> 1 | I38: =IFERROR(VLOOKUP($B38,'[4]NUM3.1'!$H$3:$P$104,6,FALSE),0) -> 2 | J38: =IFERROR(VLOOKUP($B38,'[4]NUM3.1'!$H$3:$P$104,7,FALSE),0) -> 1 | K38: =IFERROR(VLOOKUP($B38,'[4]NUM3.1'!$H$3:$P$104,8,FALSE),0) -> 1 | Q38: =SUM(E38:P38) -> 7 | R38: =IFERROR(VLOOKUP($B38,'[4]DEN3.1'!$H$3:$P$104,2,FALSE),0) -> 1 | S38: =IFERROR(VLOOKUP($B38,'[4]DEN3.1'!$H$3:$P$104,3,FALSE),0) -> 1 | T38: =IFERROR(VLOOKUP($B38,'[4]DEN3.1'!$H$3:$P$104,4,FALSE),0) -> 0 | U38: =IFERROR(VLOOKUP($B38,'[4]DEN3.1'!$H$3:$P$104,5,FALSE),0) -> 1 | V38: =IFERROR(VLOOKUP($B38,'[4]DEN3.1'!$H$3:$P$104,6,FALSE),0) -> 2 | W38: =IFERROR(VLOOKUP($B38,'[4]DEN3.1'!$H$3:$P$104,7,FALSE),0) -> 1 | X38: =IFERROR(VLOOKUP($B38,'[4]DEN3.1'!$H$3:$P$104,8,FALSE),0) -> 1 | AD38: =SUM(R38:AC38) -> 7
A39: 04106-VICUÑA | B39: 105468-P.S.R. EL MOLLE | E39: =IFERROR(VLOOKUP($B39,'[4]NUM3.1'!$H$3:$P$104,2,FALSE),0) -> 0 | F39: =IFERROR(VLOOKUP($B39,'[4]NUM3.1'!$H$3:$P$104,3,FALSE),0) -> 0 | G39: =IFERROR(VLOOKUP($B39,'[4]NUM3.1'!$H$3:$P$104,4,FALSE),0) -> 0 | H39: =IFERROR(VLOOKUP($B39,'[4]NUM3.1'!$H$3:$P$104,5,FALSE),0) -> 0 | I39: =IFERROR(VLOOKUP($B39,'[4]NUM3.1'!$H$3:$P$104,6,FALSE),0) -> 0 | J39: =IFERROR(VLOOKUP($B39,'[4]NUM3.1'!$H$3:$P$104,7,FALSE),0) -> 0 | K39: =IFERROR(VLOOKUP($B39,'[4]NUM3.1'!$H$3:$P$104,8,FALSE),0) -> 0 | Q39: =SUM(E39:P39) -> 0 | R39: =IFERROR(VLOOKUP($B39,'[4]DEN3.1'!$H$3:$P$104,2,FALSE),0) -> 0 | S39: =IFERROR(VLOOKUP($B39,'[4]DEN3.1'!$H$3:$P$104,3,FALSE),0) -> 0 | T39: =IFERROR(VLOOKUP($B39,'[4]DEN3.1'!$H$3:$P$104,4,FALSE),0) -> 0 | U39: =IFERROR(VLOOKUP($B39,'[4]DEN3.1'!$H$3:$P$104,5,FALSE),0) -> 0 | V39: =IFERROR(VLOOKUP($B39,'[4]DEN3.1'!$H$3:$P$104,6,FALSE),0) -> 0 | W39: =IFERROR(VLOOKUP($B39,'[4]DEN3.1'!$H$3:$P$104,7,FALSE),0) -> 0 | X39: =IFERROR(VLOOKUP($B39,'[4]DEN3.1'!$H$3:$P$104,8,FALSE),0) -> 0 | AD39: =SUM(R39:AC39) -> 0
A40: 04106-VICUÑA | B40: 105469-P.S.R. EL TAMBO | E40: =IFERROR(VLOOKUP($B40,'[4]NUM3.1'!$H$3:$P$104,2,FALSE),0) -> 2 | F40: =IFERROR(VLOOKUP($B40,'[4]NUM3.1'!$H$3:$P$104,3,FALSE),0) -> 2 | G40: =IFERROR(VLOOKUP($B40,'[4]NUM3.1'!$H$3:$P$104,4,FALSE),0) -> 0 | H40: =IFERROR(VLOOKUP($B40,'[4]NUM3.1'!$H$3:$P$104,5,FALSE),0) -> 0 | I40: =IFERROR(VLOOKUP($B40,'[4]NUM3.1'!$H$3:$P$104,6,FALSE),0) -> 0 | J40: =IFERROR(VLOOKUP($B40,'[4]NUM3.1'!$H$3:$P$104,7,FALSE),0) -> 0 | K40: =IFERROR(VLOOKUP($B40,'[4]NUM3.1'!$H$3:$P$104,8,FALSE),0) -> 0 | Q40: =SUM(E40:P40) -> 4 | R40: =IFERROR(VLOOKUP($B40,'[4]DEN3.1'!$H$3:$P$104,2,FALSE),0) -> 2 | S40: =IFERROR(VLOOKUP($B40,'[4]DEN3.1'!$H$3:$P$104,3,FALSE),0) -> 2 | T40: =IFERROR(VLOOKUP($B40,'[4]DEN3.1'!$H$3:$P$104,4,FALSE),0) -> 0 | U40: =IFERROR(VLOOKUP($B40,'[4]DEN3.1'!$H$3:$P$104,5,FALSE),0) -> 0 | V40: =IFERROR(VLOOKUP($B40,'[4]DEN3.1'!$H$3:$P$104,6,FALSE),0) -> 0 | W40: =IFERROR(VLOOKUP($B40,'[4]DEN3.1'!$H$3:$P$104,7,FALSE),0) -> 0 | X40: =IFERROR(VLOOKUP($B40,'[4]DEN3.1'!$H$3:$P$104,8,FALSE),0) -> 0 | AD40: =SUM(R40:AC40) -> 4
A41: 04106-VICUÑA | B41: 105470-P.S.R. HUANTA | E41: =IFERROR(VLOOKUP($B41,'[4]NUM3.1'!$H$3:$P$104,2,FALSE),0) -> 0 | F41: =IFERROR(VLOOKUP($B41,'[4]NUM3.1'!$H$3:$P$104,3,FALSE),0) -> 0 | G41: =IFERROR(VLOOKUP($B41,'[4]NUM3.1'!$H$3:$P$104,4,FALSE),0) -> 0 | H41: =IFERROR(VLOOKUP($B41,'[4]NUM3.1'!$H$3:$P$104,5,FALSE),0) -> 0 | I41: =IFERROR(VLOOKUP($B41,'[4]NUM3.1'!$H$3:$P$104,6,FALSE),0) -> 0 | J41: =IFERROR(VLOOKUP($B41,'[4]NUM3.1'!$H$3:$P$104,7,FALSE),0) -> 0 | K41: =IFERROR(VLOOKUP($B41,'[4]NUM3.1'!$H$3:$P$104,8,FALSE),0) -> 0 | Q41: =SUM(E41:P41) -> 0 | R41: =IFERROR(VLOOKUP($B41,'[4]DEN3.1'!$H$3:$P$104,2,FALSE),0) -> 0 | S41: =IFERROR(VLOOKUP($B41,'[4]DEN3.1'!$H$3:$P$104,3,FALSE),0) -> 0 | T41: =IFERROR(VLOOKUP($B41,'[4]DEN3.1'!$H$3:$P$104,4,FALSE),0) -> 0 | U41: =IFERROR(VLOOKUP($B41,'[4]DEN3.1'!$H$3:$P$104,5,FALSE),0) -> 0 | V41: =IFERROR(VLOOKUP($B41,'[4]DEN3.1'!$H$3:$P$104,6,FALSE),0) -> 0 | W41: =IFERROR(VLOOKUP($B41,'[4]DEN3.1'!$H$3:$P$104,7,FALSE),0) -> 0 | X41: =IFERROR(VLOOKUP($B41,'[4]DEN3.1'!$H$3:$P$104,8,FALSE),0) -> 0 | AD41: =SUM(R41:AC41) -> 0
A42: 04106-VICUÑA | B42: 105471-P.S.R. PERALILLO | E42: =IFERROR(VLOOKUP($B42,'[4]NUM3.1'!$H$3:$P$104,2,FALSE),0) -> 1 | F42: =IFERROR(VLOOKUP($B42,'[4]NUM3.1'!$H$3:$P$104,3,FALSE),0) -> 1 | G42: =IFERROR(VLOOKUP($B42,'[4]NUM3.1'!$H$3:$P$104,4,FALSE),0) -> 0 | H42: =IFERROR(VLOOKUP($B42,'[4]NUM3.1'!$H$3:$P$104,5,FALSE),0) -> 0 | I42: =IFERROR(VLOOKUP($B42,'[4]NUM3.1'!$H$3:$P$104,6,FALSE),0) -> 0 | J42: =IFERROR(VLOOKUP($B42,'[4]NUM3.1'!$H$3:$P$104,7,FALSE),0) -> 0 | K42: =IFERROR(VLOOKUP($B42,'[4]NUM3.1'!$H$3:$P$104,8,FALSE),0) -> 0 | Q42: =SUM(E42:P42) -> 2 | R42: =IFERROR(VLOOKUP($B42,'[4]DEN3.1'!$H$3:$P$104,2,FALSE),0) -> 1 | S42: =IFERROR(VLOOKUP($B42,'[4]DEN3.1'!$H$3:$P$104,3,FALSE),0) -> 1 | T42: =IFERROR(VLOOKUP($B42,'[4]DEN3.1'!$H$3:$P$104,4,FALSE),0) -> 0 | U42: =IFERROR(VLOOKUP($B42,'[4]DEN3.1'!$H$3:$P$104,5,FALSE),0) -> 0 | V42: =IFERROR(VLOOKUP($B42,'[4]DEN3.1'!$H$3:$P$104,6,FALSE),0) -> 0 | W42: =IFERROR(VLOOKUP($B42,'[4]DEN3.1'!$H$3:$P$104,7,FALSE),0) -> 0 | X42: =IFERROR(VLOOKUP($B42,'[4]DEN3.1'!$H$3:$P$104,8,FALSE),0) -> 0 | AD42: =SUM(R42:AC42) -> 2
A43: 04106-VICUÑA | B43: 105472-P.S.R. RIVADAVIA | E43: =IFERROR(VLOOKUP($B43,'[4]NUM3.1'!$H$3:$P$104,2,FALSE),0) -> 0 | F43: =IFERROR(VLOOKUP($B43,'[4]NUM3.1'!$H$3:$P$104,3,FALSE),0) -> 0 | G43: =IFERROR(VLOOKUP($B43,'[4]NUM3.1'!$H$3:$P$104,4,FALSE),0) -> 0 | H43: =IFERROR(VLOOKUP($B43,'[4]NUM3.1'!$H$3:$P$104,5,FALSE),0) -> 0 | I43: =IFERROR(VLOOKUP($B43,'[4]NUM3.1'!$H$3:$P$104,6,FALSE),0) -> 0 | J43: =IFERROR(VLOOKUP($B43,'[4]NUM3.1'!$H$3:$P$104,7,FALSE),0) -> 0 | K43: =IFERROR(VLOOKUP($B43,'[4]NUM3.1'!$H$3:$P$104,8,FALSE),0) -> 0 | Q43: =SUM(E43:P43) -> 0 | R43: =IFERROR(VLOOKUP($B43,'[4]DEN3.1'!$H$3:$P$104,2,FALSE),0) -> 0 | S43: =IFERROR(VLOOKUP($B43,'[4]DEN3.1'!$H$3:$P$104,3,FALSE),0) -> 0 | T43: =IFERROR(VLOOKUP($B43,'[4]DEN3.1'!$H$3:$P$104,4,FALSE),0) -> 0 | U43: =IFERROR(VLOOKUP($B43,'[4]DEN3.1'!$H$3:$P$104,5,FALSE),0) -> 0 | V43: =IFERROR(VLOOKUP($B43,'[4]DEN3.1'!$H$3:$P$104,6,FALSE),0) -> 0 | W43: =IFERROR(VLOOKUP($B43,'[4]DEN3.1'!$H$3:$P$104,7,FALSE),0) -> 0 | X43: =IFERROR(VLOOKUP($B43,'[4]DEN3.1'!$H$3:$P$104,8,FALSE),0) -> 0 | AD43: =SUM(R43:AC43) -> 0
A44: 04106-VICUÑA | B44: 105473-P.S.R. TALCUNA | E44: =IFERROR(VLOOKUP($B44,'[4]NUM3.1'!$H$3:$P$104,2,FALSE),0) -> 0 | F44: =IFERROR(VLOOKUP($B44,'[4]NUM3.1'!$H$3:$P$104,3,FALSE),0) -> 0 | G44: =IFERROR(VLOOKUP($B44,'[4]NUM3.1'!$H$3:$P$104,4,FALSE),0) -> 1 | H44: =IFERROR(VLOOKUP($B44,'[4]NUM3.1'!$H$3:$P$104,5,FALSE),0) -> 1 | I44: =IFERROR(VLOOKUP($B44,'[4]NUM3.1'!$H$3:$P$104,6,FALSE),0) -> 0 | J44: =IFERROR(VLOOKUP($B44,'[4]NUM3.1'!$H$3:$P$104,7,FALSE),0) -> 0 | K44: =IFERROR(VLOOKUP($B44,'[4]NUM3.1'!$H$3:$P$104,8,FALSE),0) -> 1 | Q44: =SUM(E44:P44) -> 3 | R44: =IFERROR(VLOOKUP($B44,'[4]DEN3.1'!$H$3:$P$104,2,FALSE),0) -> 0 | S44: =IFERROR(VLOOKUP($B44,'[4]DEN3.1'!$H$3:$P$104,3,FALSE),0) -> 0 | T44: =IFERROR(VLOOKUP($B44,'[4]DEN3.1'!$H$3:$P$104,4,FALSE),0) -> 1 | U44: =IFERROR(VLOOKUP($B44,'[4]DEN3.1'!$H$3:$P$104,5,FALSE),0) -> 1 | V44: =IFERROR(VLOOKUP($B44,'[4]DEN3.1'!$H$3:$P$104,6,FALSE),0) -> 0 | W44: =IFERROR(VLOOKUP($B44,'[4]DEN3.1'!$H$3:$P$104,7,FALSE),0) -> 0 | X44: =IFERROR(VLOOKUP($B44,'[4]DEN3.1'!$H$3:$P$104,8,FALSE),0) -> 1 | AD44: =SUM(R44:AC44) -> 3
A45: 04106-VICUÑA | B45: 105474-P.S.R. CHAPILCA | E45: =IFERROR(VLOOKUP($B45,'[4]NUM3.1'!$H$3:$P$104,2,FALSE),0) -> 0 | F45: =IFERROR(VLOOKUP($B45,'[4]NUM3.1'!$H$3:$P$104,3,FALSE),0) -> 0 | G45: =IFERROR(VLOOKUP($B45,'[4]NUM3.1'!$H$3:$P$104,4,FALSE),0) -> 0 | H45: =IFERROR(VLOOKUP($B45,'[4]NUM3.1'!$H$3:$P$104,5,FALSE),0) -> 0 | I45: =IFERROR(VLOOKUP($B45,'[4]NUM3.1'!$H$3:$P$104,6,FALSE),0) -> 0 | J45: =IFERROR(VLOOKUP($B45,'[4]NUM3.1'!$H$3:$P$104,7,FALSE),0) -> 0 | K45: =IFERROR(VLOOKUP($B45,'[4]NUM3.1'!$H$3:$P$104,8,FALSE),0) -> 0 | Q45: =SUM(E45:P45) -> 0 | R45: =IFERROR(VLOOKUP($B45,'[4]DEN3.1'!$H$3:$P$104,2,FALSE),0) -> 0 | S45: =IFERROR(VLOOKUP($B45,'[4]DEN3.1'!$H$3:$P$104,3,FALSE),0) -> 0 | T45: =IFERROR(VLOOKUP($B45,'[4]DEN3.1'!$H$3:$P$104,4,FALSE),0) -> 0 | U45: =IFERROR(VLOOKUP($B45,'[4]DEN3.1'!$H$3:$P$104,5,FALSE),0) -> 0 | V45: =IFERROR(VLOOKUP($B45,'[4]DEN3.1'!$H$3:$P$104,6,FALSE),0) -> 0 | W45: =IFERROR(VLOOKUP($B45,'[4]DEN3.1'!$H$3:$P$104,7,FALSE),0) -> 0 | X45: =IFERROR(VLOOKUP($B45,'[4]DEN3.1'!$H$3:$P$104,8,FALSE),0) -> 0 | AD45: =SUM(R45:AC45) -> 0
A46: 04106-VICUÑA | B46: 105502-P.S.R. CALINGASTA | E46: =IFERROR(VLOOKUP($B46,'[4]NUM3.1'!$H$3:$P$104,2,FALSE),0) -> 0 | F46: =IFERROR(VLOOKUP($B46,'[4]NUM3.1'!$H$3:$P$104,3,FALSE),0) -> 0 | G46: =IFERROR(VLOOKUP($B46,'[4]NUM3.1'!$H$3:$P$104,4,FALSE),0) -> 2 | H46: =IFERROR(VLOOKUP($B46,'[4]NUM3.1'!$H$3:$P$104,5,FALSE),0) -> 2 | I46: =IFERROR(VLOOKUP($B46,'[4]NUM3.1'!$H$3:$P$104,6,FALSE),0) -> 0 | J46: =IFERROR(VLOOKUP($B46,'[4]NUM3.1'!$H$3:$P$104,7,FALSE),0) -> 1 | K46: =IFERROR(VLOOKUP($B46,'[4]NUM3.1'!$H$3:$P$104,8,FALSE),0) -> 2 | Q46: =SUM(E46:P46) -> 7 | R46: =IFERROR(VLOOKUP($B46,'[4]DEN3.1'!$H$3:$P$104,2,FALSE),0) -> 0 | S46: =IFERROR(VLOOKUP($B46,'[4]DEN3.1'!$H$3:$P$104,3,FALSE),0) -> 0 | T46: =IFERROR(VLOOKUP($B46,'[4]DEN3.1'!$H$3:$P$104,4,FALSE),0) -> 2 | U46: =IFERROR(VLOOKUP($B46,'[4]DEN3.1'!$H$3:$P$104,5,FALSE),0) -> 2 | V46: =IFERROR(VLOOKUP($B46,'[4]DEN3.1'!$H$3:$P$104,6,FALSE),0) -> 0 | W46: =IFERROR(VLOOKUP($B46,'[4]DEN3.1'!$H$3:$P$104,7,FALSE),0) -> 1 | X46: =IFERROR(VLOOKUP($B46,'[4]DEN3.1'!$H$3:$P$104,8,FALSE),0) -> 2 | AD46: =SUM(R46:AC46) -> 7
A47: 04106-VICUÑA | B47: 105509-P.S.R. GUALLIGUAICA | E47: =IFERROR(VLOOKUP($B47,'[4]NUM3.1'!$H$3:$P$104,2,FALSE),0) -> 0 | F47: =IFERROR(VLOOKUP($B47,'[4]NUM3.1'!$H$3:$P$104,3,FALSE),0) -> 0 | G47: =IFERROR(VLOOKUP($B47,'[4]NUM3.1'!$H$3:$P$104,4,FALSE),0) -> 0 | H47: =IFERROR(VLOOKUP($B47,'[4]NUM3.1'!$H$3:$P$104,5,FALSE),0) -> 0 | I47: =IFERROR(VLOOKUP($B47,'[4]NUM3.1'!$H$3:$P$104,6,FALSE),0) -> 0 | J47: =IFERROR(VLOOKUP($B47,'[4]NUM3.1'!$H$3:$P$104,7,FALSE),0) -> 0 | K47: =IFERROR(VLOOKUP($B47,'[4]NUM3.1'!$H$3:$P$104,8,FALSE),0) -> 0 | Q47: =SUM(E47:P47) -> 0 | R47: =IFERROR(VLOOKUP($B47,'[4]DEN3.1'!$H$3:$P$104,2,FALSE),0) -> 0 | S47: =IFERROR(VLOOKUP($B47,'[4]DEN3.1'!$H$3:$P$104,3,FALSE),0) -> 0 | T47: =IFERROR(VLOOKUP($B47,'[4]DEN3.1'!$H$3:$P$104,4,FALSE),0) -> 0 | U47: =IFERROR(VLOOKUP($B47,'[4]DEN3.1'!$H$3:$P$104,5,FALSE),0) -> 0 | V47: =IFERROR(VLOOKUP($B47,'[4]DEN3.1'!$H$3:$P$104,6,FALSE),0) -> 0 | W47: =IFERROR(VLOOKUP($B47,'[4]DEN3.1'!$H$3:$P$104,7,FALSE),0) -> 0 | X47: =IFERROR(VLOOKUP($B47,'[4]DEN3.1'!$H$3:$P$104,8,FALSE),0) -> 0 | AD47: =SUM(R47:AC47) -> 0
A48: TOTAL VICUÑA | C48: =+D48/Metas!H76 -> 1.0204082 | D48: =+Q48/AD48 -> 1 | E48: =SUM(E38:E47) -> 4 | F48: =SUM(F38:F47) -> 4 | G48: =SUM(G38:G47) -> 3 | H48: =SUM(H38:H47) -> 4 | I48: =SUM(I38:I47) -> 2 | J48: =SUM(J38:J47) -> 2 | K48: =SUM(K38:K47) -> 4 | L48: =SUM(L38:L47) -> 0 | ... AD48: =SUM(AD38:AD47) -> 23
A49: 04201-ILLAPEL | B49: 105326-CESFAM SAN RAFAEL | E49: =IFERROR(VLOOKUP($B49,'[4]NUM3.1'!$H$3:$P$104,2,FALSE),0) -> 3 | F49: =IFERROR(VLOOKUP($B49,'[4]NUM3.1'!$H$3:$P$104,3,FALSE),0) -> 2 | G49: =IFERROR(VLOOKUP($B49,'[4]NUM3.1'!$H$3:$P$104,4,FALSE),0) -> 0 | H49: =IFERROR(VLOOKUP($B49,'[4]NUM3.1'!$H$3:$P$104,5,FALSE),0) -> 0 | I49: =IFERROR(VLOOKUP($B49,'[4]NUM3.1'!$H$3:$P$104,6,FALSE),0) -> 0 | J49: =IFERROR(VLOOKUP($B49,'[4]NUM3.1'!$H$3:$P$104,7,FALSE),0) -> 6 | K49: =IFERROR(VLOOKUP($B49,'[4]NUM3.1'!$H$3:$P$104,8,FALSE),0) -> 0 | Q49: =SUM(E49:P49) -> 11 | R49: =IFERROR(VLOOKUP($B49,'[4]DEN3.1'!$H$3:$P$104,2,FALSE),0) -> 3 | S49: =IFERROR(VLOOKUP($B49,'[4]DEN3.1'!$H$3:$P$104,3,FALSE),0) -> 2 | T49: =IFERROR(VLOOKUP($B49,'[4]DEN3.1'!$H$3:$P$104,4,FALSE),0) -> 0 | U49: =IFERROR(VLOOKUP($B49,'[4]DEN3.1'!$H$3:$P$104,5,FALSE),0) -> 0 | V49: =IFERROR(VLOOKUP($B49,'[4]DEN3.1'!$H$3:$P$104,6,FALSE),0) -> 0 | W49: =IFERROR(VLOOKUP($B49,'[4]DEN3.1'!$H$3:$P$104,7,FALSE),0) -> 6 | X49: =IFERROR(VLOOKUP($B49,'[4]DEN3.1'!$H$3:$P$104,8,FALSE),0) -> 0 | AD49: =SUM(R49:AC49) -> 11
A50: 04201-ILLAPEL | B50: 105443-P.S.R. CARCAMO | E50: =IFERROR(VLOOKUP($B50,'[4]NUM3.1'!$H$3:$P$104,2,FALSE),0) -> 0 | F50: =IFERROR(VLOOKUP($B50,'[4]NUM3.1'!$H$3:$P$104,3,FALSE),0) -> 0 | G50: =IFERROR(VLOOKUP($B50,'[4]NUM3.1'!$H$3:$P$104,4,FALSE),0) -> 0 | H50: =IFERROR(VLOOKUP($B50,'[4]NUM3.1'!$H$3:$P$104,5,FALSE),0) -> 0 | I50: =IFERROR(VLOOKUP($B50,'[4]NUM3.1'!$H$3:$P$104,6,FALSE),0) -> 0 | J50: =IFERROR(VLOOKUP($B50,'[4]NUM3.1'!$H$3:$P$104,7,FALSE),0) -> 0 | K50: =IFERROR(VLOOKUP($B50,'[4]NUM3.1'!$H$3:$P$104,8,FALSE),0) -> 0 | Q50: =SUM(E50:P50) -> 0 | R50: =IFERROR(VLOOKUP($B50,'[4]DEN3.1'!$H$3:$P$104,2,FALSE),0) -> 0 | S50: =IFERROR(VLOOKUP($B50,'[4]DEN3.1'!$H$3:$P$104,3,FALSE),0) -> 0 | T50: =IFERROR(VLOOKUP($B50,'[4]DEN3.1'!$H$3:$P$104,4,FALSE),0) -> 0 | U50: =IFERROR(VLOOKUP($B50,'[4]DEN3.1'!$H$3:$P$104,5,FALSE),0) -> 0 | V50: =IFERROR(VLOOKUP($B50,'[4]DEN3.1'!$H$3:$P$104,6,FALSE),0) -> 0 | W50: =IFERROR(VLOOKUP($B50,'[4]DEN3.1'!$H$3:$P$104,7,FALSE),0) -> 0 | X50: =IFERROR(VLOOKUP($B50,'[4]DEN3.1'!$H$3:$P$104,8,FALSE),0) -> 0 | AD50: =SUM(R50:AC50) -> 0
A51: 04201-ILLAPEL | B51: 105444-P.S.R. HUINTIL | E51: =IFERROR(VLOOKUP($B51,'[4]NUM3.1'!$H$3:$P$104,2,FALSE),0) -> 0 | F51: =IFERROR(VLOOKUP($B51,'[4]NUM3.1'!$H$3:$P$104,3,FALSE),0) -> 0 | G51: =IFERROR(VLOOKUP($B51,'[4]NUM3.1'!$H$3:$P$104,4,FALSE),0) -> 0 | H51: =IFERROR(VLOOKUP($B51,'[4]NUM3.1'!$H$3:$P$104,5,FALSE),0) -> 0 | I51: =IFERROR(VLOOKUP($B51,'[4]NUM3.1'!$H$3:$P$104,6,FALSE),0) -> 0 | J51: =IFERROR(VLOOKUP($B51,'[4]NUM3.1'!$H$3:$P$104,7,FALSE),0) -> 0 | K51: =IFERROR(VLOOKUP($B51,'[4]NUM3.1'!$H$3:$P$104,8,FALSE),0) -> 0 | Q51: =SUM(E51:P51) -> 0 | R51: =IFERROR(VLOOKUP($B51,'[4]DEN3.1'!$H$3:$P$104,2,FALSE),0) -> 0 | S51: =IFERROR(VLOOKUP($B51,'[4]DEN3.1'!$H$3:$P$104,3,FALSE),0) -> 0 | T51: =IFERROR(VLOOKUP($B51,'[4]DEN3.1'!$H$3:$P$104,4,FALSE),0) -> 0 | U51: =IFERROR(VLOOKUP($B51,'[4]DEN3.1'!$H$3:$P$104,5,FALSE),0) -> 0 | V51: =IFERROR(VLOOKUP($B51,'[4]DEN3.1'!$H$3:$P$104,6,FALSE),0) -> 0 | W51: =IFERROR(VLOOKUP($B51,'[4]DEN3.1'!$H$3:$P$104,7,FALSE),0) -> 0 | X51: =IFERROR(VLOOKUP($B51,'[4]DEN3.1'!$H$3:$P$104,8,FALSE),0) -> 0 | AD51: =SUM(R51:AC51) -> 0
A52: 04201-ILLAPEL | B52: 105445-P.S.R. LIMAHUIDA | E52: =IFERROR(VLOOKUP($B52,'[4]NUM3.1'!$H$3:$P$104,2,FALSE),0) -> 0 | F52: =IFERROR(VLOOKUP($B52,'[4]NUM3.1'!$H$3:$P$104,3,FALSE),0) -> 0 | G52: =IFERROR(VLOOKUP($B52,'[4]NUM3.1'!$H$3:$P$104,4,FALSE),0) -> 0 | H52: =IFERROR(VLOOKUP($B52,'[4]NUM3.1'!$H$3:$P$104,5,FALSE),0) -> 0 | I52: =IFERROR(VLOOKUP($B52,'[4]NUM3.1'!$H$3:$P$104,6,FALSE),0) -> 0 | J52: =IFERROR(VLOOKUP($B52,'[4]NUM3.1'!$H$3:$P$104,7,FALSE),0) -> 0 | K52: =IFERROR(VLOOKUP($B52,'[4]NUM3.1'!$H$3:$P$104,8,FALSE),0) -> 0 | Q52: =SUM(E52:P52) -> 0 | R52: =IFERROR(VLOOKUP($B52,'[4]DEN3.1'!$H$3:$P$104,2,FALSE),0) -> 0 | S52: =IFERROR(VLOOKUP($B52,'[4]DEN3.1'!$H$3:$P$104,3,FALSE),0) -> 0 | T52: =IFERROR(VLOOKUP($B52,'[4]DEN3.1'!$H$3:$P$104,4,FALSE),0) -> 0 | U52: =IFERROR(VLOOKUP($B52,'[4]DEN3.1'!$H$3:$P$104,5,FALSE),0) -> 0 | V52: =IFERROR(VLOOKUP($B52,'[4]DEN3.1'!$H$3:$P$104,6,FALSE),0) -> 0 | W52: =IFERROR(VLOOKUP($B52,'[4]DEN3.1'!$H$3:$P$104,7,FALSE),0) -> 0 | X52: =IFERROR(VLOOKUP($B52,'[4]DEN3.1'!$H$3:$P$104,8,FALSE),0) -> 0 | AD52: =SUM(R52:AC52) -> 0
A53: 04201-ILLAPEL | B53: 105446-P.S.R. MATANCILLA | E53: =IFERROR(VLOOKUP($B53,'[4]NUM3.1'!$H$3:$P$104,2,FALSE),0) -> 0 | F53: =IFERROR(VLOOKUP($B53,'[4]NUM3.1'!$H$3:$P$104,3,FALSE),0) -> 0 | G53: =IFERROR(VLOOKUP($B53,'[4]NUM3.1'!$H$3:$P$104,4,FALSE),0) -> 0 | H53: =IFERROR(VLOOKUP($B53,'[4]NUM3.1'!$H$3:$P$104,5,FALSE),0) -> 0 | I53: =IFERROR(VLOOKUP($B53,'[4]NUM3.1'!$H$3:$P$104,6,FALSE),0) -> 0 | J53: =IFERROR(VLOOKUP($B53,'[4]NUM3.1'!$H$3:$P$104,7,FALSE),0) -> 0 | K53: =IFERROR(VLOOKUP($B53,'[4]NUM3.1'!$H$3:$P$104,8,FALSE),0) -> 0 | Q53: =SUM(E53:P53) -> 0 | R53: =IFERROR(VLOOKUP($B53,'[4]DEN3.1'!$H$3:$P$104,2,FALSE),0) -> 0 | S53: =IFERROR(VLOOKUP($B53,'[4]DEN3.1'!$H$3:$P$104,3,FALSE),0) -> 0 | T53: =IFERROR(VLOOKUP($B53,'[4]DEN3.1'!$H$3:$P$104,4,FALSE),0) -> 0 | U53: =IFERROR(VLOOKUP($B53,'[4]DEN3.1'!$H$3:$P$104,5,FALSE),0) -> 0 | V53: =IFERROR(VLOOKUP($B53,'[4]DEN3.1'!$H$3:$P$104,6,FALSE),0) -> 0 | W53: =IFERROR(VLOOKUP($B53,'[4]DEN3.1'!$H$3:$P$104,7,FALSE),0) -> 0 | X53: =IFERROR(VLOOKUP($B53,'[4]DEN3.1'!$H$3:$P$104,8,FALSE),0) -> 0 | AD53: =SUM(R53:AC53) -> 0
A54: 04201-ILLAPEL | B54: 105447-P.S.R. PERALILLO | E54: =IFERROR(VLOOKUP($B54,'[4]NUM3.1'!$H$3:$P$104,2,FALSE),0) -> 0 | F54: =IFERROR(VLOOKUP($B54,'[4]NUM3.1'!$H$3:$P$104,3,FALSE),0) -> 0 | G54: =IFERROR(VLOOKUP($B54,'[4]NUM3.1'!$H$3:$P$104,4,FALSE),0) -> 0 | H54: =IFERROR(VLOOKUP($B54,'[4]NUM3.1'!$H$3:$P$104,5,FALSE),0) -> 0 | I54: =IFERROR(VLOOKUP($B54,'[4]NUM3.1'!$H$3:$P$104,6,FALSE),0) -> 0 | J54: =IFERROR(VLOOKUP($B54,'[4]NUM3.1'!$H$3:$P$104,7,FALSE),0) -> 0 | K54: =IFERROR(VLOOKUP($B54,'[4]NUM3.1'!$H$3:$P$104,8,FALSE),0) -> 0 | Q54: =SUM(E54:P54) -> 0 | R54: =IFERROR(VLOOKUP($B54,'[4]DEN3.1'!$H$3:$P$104,2,FALSE),0) -> 0 | S54: =IFERROR(VLOOKUP($B54,'[4]DEN3.1'!$H$3:$P$104,3,FALSE),0) -> 0 | T54: =IFERROR(VLOOKUP($B54,'[4]DEN3.1'!$H$3:$P$104,4,FALSE),0) -> 0 | U54: =IFERROR(VLOOKUP($B54,'[4]DEN3.1'!$H$3:$P$104,5,FALSE),0) -> 0 | V54: =IFERROR(VLOOKUP($B54,'[4]DEN3.1'!$H$3:$P$104,6,FALSE),0) -> 0 | W54: =IFERROR(VLOOKUP($B54,'[4]DEN3.1'!$H$3:$P$104,7,FALSE),0) -> 0 | X54: =IFERROR(VLOOKUP($B54,'[4]DEN3.1'!$H$3:$P$104,8,FALSE),0) -> 0 | AD54: =SUM(R54:AC54) -> 0
A55: 04201-ILLAPEL | B55: 105448-P.S.R. SANTA VIRGINIA | E55: =IFERROR(VLOOKUP($B55,'[4]NUM3.1'!$H$3:$P$104,2,FALSE),0) -> 0 | F55: =IFERROR(VLOOKUP($B55,'[4]NUM3.1'!$H$3:$P$104,3,FALSE),0) -> 0 | G55: =IFERROR(VLOOKUP($B55,'[4]NUM3.1'!$H$3:$P$104,4,FALSE),0) -> 0 | H55: =IFERROR(VLOOKUP($B55,'[4]NUM3.1'!$H$3:$P$104,5,FALSE),0) -> 0 | I55: =IFERROR(VLOOKUP($B55,'[4]NUM3.1'!$H$3:$P$104,6,FALSE),0) -> 0 | J55: =IFERROR(VLOOKUP($B55,'[4]NUM3.1'!$H$3:$P$104,7,FALSE),0) -> 0 | K55: =IFERROR(VLOOKUP($B55,'[4]NUM3.1'!$H$3:$P$104,8,FALSE),0) -> 0 | Q55: =SUM(E55:P55) -> 0 | R55: =IFERROR(VLOOKUP($B55,'[4]DEN3.1'!$H$3:$P$104,2,FALSE),0) -> 0 | S55: =IFERROR(VLOOKUP($B55,'[4]DEN3.1'!$H$3:$P$104,3,FALSE),0) -> 0 | T55: =IFERROR(VLOOKUP($B55,'[4]DEN3.1'!$H$3:$P$104,4,FALSE),0) -> 0 | U55: =IFERROR(VLOOKUP($B55,'[4]DEN3.1'!$H$3:$P$104,5,FALSE),0) -> 0 | V55: =IFERROR(VLOOKUP($B55,'[4]DEN3.1'!$H$3:$P$104,6,FALSE),0) -> 0 | W55: =IFERROR(VLOOKUP($B55,'[4]DEN3.1'!$H$3:$P$104,7,FALSE),0) -> 0 | X55: =IFERROR(VLOOKUP($B55,'[4]DEN3.1'!$H$3:$P$104,8,FALSE),0) -> 0 | AD55: =SUM(R55:AC55) -> 0
A56: 04201-ILLAPEL | B56: 105449-P.S.R. TUNGA NORTE | E56: =IFERROR(VLOOKUP($B56,'[4]NUM3.1'!$H$3:$P$104,2,FALSE),0) -> 0 | F56: =IFERROR(VLOOKUP($B56,'[4]NUM3.1'!$H$3:$P$104,3,FALSE),0) -> 0 | G56: =IFERROR(VLOOKUP($B56,'[4]NUM3.1'!$H$3:$P$104,4,FALSE),0) -> 0 | H56: =IFERROR(VLOOKUP($B56,'[4]NUM3.1'!$H$3:$P$104,5,FALSE),0) -> 0 | I56: =IFERROR(VLOOKUP($B56,'[4]NUM3.1'!$H$3:$P$104,6,FALSE),0) -> 0 | J56: =IFERROR(VLOOKUP($B56,'[4]NUM3.1'!$H$3:$P$104,7,FALSE),0) -> 0 | K56: =IFERROR(VLOOKUP($B56,'[4]NUM3.1'!$H$3:$P$104,8,FALSE),0) -> 0 | Q56: =SUM(E56:P56) -> 0 | R56: =IFERROR(VLOOKUP($B56,'[4]DEN3.1'!$H$3:$P$104,2,FALSE),0) -> 0 | S56: =IFERROR(VLOOKUP($B56,'[4]DEN3.1'!$H$3:$P$104,3,FALSE),0) -> 0 | T56: =IFERROR(VLOOKUP($B56,'[4]DEN3.1'!$H$3:$P$104,4,FALSE),0) -> 0 | U56: =IFERROR(VLOOKUP($B56,'[4]DEN3.1'!$H$3:$P$104,5,FALSE),0) -> 0 | V56: =IFERROR(VLOOKUP($B56,'[4]DEN3.1'!$H$3:$P$104,6,FALSE),0) -> 0 | W56: =IFERROR(VLOOKUP($B56,'[4]DEN3.1'!$H$3:$P$104,7,FALSE),0) -> 0 | X56: =IFERROR(VLOOKUP($B56,'[4]DEN3.1'!$H$3:$P$104,8,FALSE),0) -> 0 | AD56: =SUM(R56:AC56) -> 0
A57: 04201-ILLAPEL | B57: 105485-P.S.R. PLAN DE HORNOS | E57: =IFERROR(VLOOKUP($B57,'[4]NUM3.1'!$H$3:$P$104,2,FALSE),0) -> 0 | F57: =IFERROR(VLOOKUP($B57,'[4]NUM3.1'!$H$3:$P$104,3,FALSE),0) -> 0 | G57: =IFERROR(VLOOKUP($B57,'[4]NUM3.1'!$H$3:$P$104,4,FALSE),0) -> 0 | H57: =IFERROR(VLOOKUP($B57,'[4]NUM3.1'!$H$3:$P$104,5,FALSE),0) -> 0 | I57: =IFERROR(VLOOKUP($B57,'[4]NUM3.1'!$H$3:$P$104,6,FALSE),0) -> 2 | J57: =IFERROR(VLOOKUP($B57,'[4]NUM3.1'!$H$3:$P$104,7,FALSE),0) -> 0 | K57: =IFERROR(VLOOKUP($B57,'[4]NUM3.1'!$H$3:$P$104,8,FALSE),0) -> 0 | Q57: =SUM(E57:P57) -> 2 | R57: =IFERROR(VLOOKUP($B57,'[4]DEN3.1'!$H$3:$P$104,2,FALSE),0) -> 0 | S57: =IFERROR(VLOOKUP($B57,'[4]DEN3.1'!$H$3:$P$104,3,FALSE),0) -> 0 | T57: =IFERROR(VLOOKUP($B57,'[4]DEN3.1'!$H$3:$P$104,4,FALSE),0) -> 0 | U57: =IFERROR(VLOOKUP($B57,'[4]DEN3.1'!$H$3:$P$104,5,FALSE),0) -> 0 | V57: =IFERROR(VLOOKUP($B57,'[4]DEN3.1'!$H$3:$P$104,6,FALSE),0) -> 2 | W57: =IFERROR(VLOOKUP($B57,'[4]DEN3.1'!$H$3:$P$104,7,FALSE),0) -> 0 | X57: =IFERROR(VLOOKUP($B57,'[4]DEN3.1'!$H$3:$P$104,8,FALSE),0) -> 0 | AD57: =SUM(R57:AC57) -> 2
A58: 04201-ILLAPEL | B58: 105486-P.S.R. TUNGA SUR | E58: =IFERROR(VLOOKUP($B58,'[4]NUM3.1'!$H$3:$P$104,2,FALSE),0) -> 0 | F58: =IFERROR(VLOOKUP($B58,'[4]NUM3.1'!$H$3:$P$104,3,FALSE),0) -> 0 | G58: =IFERROR(VLOOKUP($B58,'[4]NUM3.1'!$H$3:$P$104,4,FALSE),0) -> 0 | H58: =IFERROR(VLOOKUP($B58,'[4]NUM3.1'!$H$3:$P$104,5,FALSE),0) -> 0 | I58: =IFERROR(VLOOKUP($B58,'[4]NUM3.1'!$H$3:$P$104,6,FALSE),0) -> 0 | J58: =IFERROR(VLOOKUP($B58,'[4]NUM3.1'!$H$3:$P$104,7,FALSE),0) -> 0 | K58: =IFERROR(VLOOKUP($B58,'[4]NUM3.1'!$H$3:$P$104,8,FALSE),0) -> 0 | Q58: =SUM(E58:P58) -> 0 | R58: =IFERROR(VLOOKUP($B58,'[4]DEN3.1'!$H$3:$P$104,2,FALSE),0) -> 0 | S58: =IFERROR(VLOOKUP($B58,'[4]DEN3.1'!$H$3:$P$104,3,FALSE),0) -> 0 | T58: =IFERROR(VLOOKUP($B58,'[4]DEN3.1'!$H$3:$P$104,4,FALSE),0) -> 0 | U58: =IFERROR(VLOOKUP($B58,'[4]DEN3.1'!$H$3:$P$104,5,FALSE),0) -> 0 | V58: =IFERROR(VLOOKUP($B58,'[4]DEN3.1'!$H$3:$P$104,6,FALSE),0) -> 0 | W58: =IFERROR(VLOOKUP($B58,'[4]DEN3.1'!$H$3:$P$104,7,FALSE),0) -> 0 | X58: =IFERROR(VLOOKUP($B58,'[4]DEN3.1'!$H$3:$P$104,8,FALSE),0) -> 0 | AD58: =SUM(R58:AC58) -> 0
A59: 04201-ILLAPEL | B59: 105487-P.S.R. CAÑAS UNO | E59: =IFERROR(VLOOKUP($B59,'[4]NUM3.1'!$H$3:$P$104,2,FALSE),0) -> 0 | F59: =IFERROR(VLOOKUP($B59,'[4]NUM3.1'!$H$3:$P$104,3,FALSE),0) -> 0 | G59: =IFERROR(VLOOKUP($B59,'[4]NUM3.1'!$H$3:$P$104,4,FALSE),0) -> 0 | H59: =IFERROR(VLOOKUP($B59,'[4]NUM3.1'!$H$3:$P$104,5,FALSE),0) -> 0 | I59: =IFERROR(VLOOKUP($B59,'[4]NUM3.1'!$H$3:$P$104,6,FALSE),0) -> 0 | J59: =IFERROR(VLOOKUP($B59,'[4]NUM3.1'!$H$3:$P$104,7,FALSE),0) -> 0 | K59: =IFERROR(VLOOKUP($B59,'[4]NUM3.1'!$H$3:$P$104,8,FALSE),0) -> 0 | Q59: =SUM(E59:P59) -> 0 | R59: =IFERROR(VLOOKUP($B59,'[4]DEN3.1'!$H$3:$P$104,2,FALSE),0) -> 0 | S59: =IFERROR(VLOOKUP($B59,'[4]DEN3.1'!$H$3:$P$104,3,FALSE),0) -> 0 | T59: =IFERROR(VLOOKUP($B59,'[4]DEN3.1'!$H$3:$P$104,4,FALSE),0) -> 0 | U59: =IFERROR(VLOOKUP($B59,'[4]DEN3.1'!$H$3:$P$104,5,FALSE),0) -> 0 | V59: =IFERROR(VLOOKUP($B59,'[4]DEN3.1'!$H$3:$P$104,6,FALSE),0) -> 0 | W59: =IFERROR(VLOOKUP($B59,'[4]DEN3.1'!$H$3:$P$104,7,FALSE),0) -> 0 | X59: =IFERROR(VLOOKUP($B59,'[4]DEN3.1'!$H$3:$P$104,8,FALSE),0) -> 0 | AD59: =SUM(R59:AC59) -> 0
A60: 04201-ILLAPEL | B60: 105496-P.S.R. PINTACURA SUR | E60: =IFERROR(VLOOKUP($B60,'[4]NUM3.1'!$H$3:$P$104,2,FALSE),0) -> 0 | F60: =IFERROR(VLOOKUP($B60,'[4]NUM3.1'!$H$3:$P$104,3,FALSE),0) -> 0 | G60: =IFERROR(VLOOKUP($B60,'[4]NUM3.1'!$H$3:$P$104,4,FALSE),0) -> 0 | H60: =IFERROR(VLOOKUP($B60,'[4]NUM3.1'!$H$3:$P$104,5,FALSE),0) -> 0 | I60: =IFERROR(VLOOKUP($B60,'[4]NUM3.1'!$H$3:$P$104,6,FALSE),0) -> 0 | J60: =IFERROR(VLOOKUP($B60,'[4]NUM3.1'!$H$3:$P$104,7,FALSE),0) -> 0 | K60: =IFERROR(VLOOKUP($B60,'[4]NUM3.1'!$H$3:$P$104,8,FALSE),0) -> 0 | Q60: =SUM(E60:P60) -> 0 | R60: =IFERROR(VLOOKUP($B60,'[4]DEN3.1'!$H$3:$P$104,2,FALSE),0) -> 0 | S60: =IFERROR(VLOOKUP($B60,'[4]DEN3.1'!$H$3:$P$104,3,FALSE),0) -> 0 | T60: =IFERROR(VLOOKUP($B60,'[4]DEN3.1'!$H$3:$P$104,4,FALSE),0) -> 0 | U60: =IFERROR(VLOOKUP($B60,'[4]DEN3.1'!$H$3:$P$104,5,FALSE),0) -> 0 | V60: =IFERROR(VLOOKUP($B60,'[4]DEN3.1'!$H$3:$P$104,6,FALSE),0) -> 0 | W60: =IFERROR(VLOOKUP($B60,'[4]DEN3.1'!$H$3:$P$104,7,FALSE),0) -> 0 | X60: =IFERROR(VLOOKUP($B60,'[4]DEN3.1'!$H$3:$P$104,8,FALSE),0) -> 0 | AD60: =SUM(R60:AC60) -> 0
A61: 04201-ILLAPEL | B61: 105504-P.S.R. SOCAVON | E61: =IFERROR(VLOOKUP($B61,'[4]NUM3.1'!$H$3:$P$104,2,FALSE),0) -> 0 | F61: =IFERROR(VLOOKUP($B61,'[4]NUM3.1'!$H$3:$P$104,3,FALSE),0) -> 0 | G61: =IFERROR(VLOOKUP($B61,'[4]NUM3.1'!$H$3:$P$104,4,FALSE),0) -> 0 | H61: =IFERROR(VLOOKUP($B61,'[4]NUM3.1'!$H$3:$P$104,5,FALSE),0) -> 0 | I61: =IFERROR(VLOOKUP($B61,'[4]NUM3.1'!$H$3:$P$104,6,FALSE),0) -> 0 | J61: =IFERROR(VLOOKUP($B61,'[4]NUM3.1'!$H$3:$P$104,7,FALSE),0) -> 0 | K61: =IFERROR(VLOOKUP($B61,'[4]NUM3.1'!$H$3:$P$104,8,FALSE),0) -> 0 | Q61: =SUM(E61:P61) -> 0 | R61: =IFERROR(VLOOKUP($B61,'[4]DEN3.1'!$H$3:$P$104,2,FALSE),0) -> 0 | S61: =IFERROR(VLOOKUP($B61,'[4]DEN3.1'!$H$3:$P$104,3,FALSE),0) -> 0 | T61: =IFERROR(VLOOKUP($B61,'[4]DEN3.1'!$H$3:$P$104,4,FALSE),0) -> 0 | U61: =IFERROR(VLOOKUP($B61,'[4]DEN3.1'!$H$3:$P$104,5,FALSE),0) -> 0 | V61: =IFERROR(VLOOKUP($B61,'[4]DEN3.1'!$H$3:$P$104,6,FALSE),0) -> 0 | W61: =IFERROR(VLOOKUP($B61,'[4]DEN3.1'!$H$3:$P$104,7,FALSE),0) -> 0 | X61: =IFERROR(VLOOKUP($B61,'[4]DEN3.1'!$H$3:$P$104,8,FALSE),0) -> 0 | AD61: =SUM(R61:AC61) -> 0
A62: TOTAL ILLAPEL | C62: =+D62/Metas!H68 -> 1.0196078 | D62: =+Q62/AD62 -> 1 | E62: =SUM(E49:E61) -> 3 | F62: =SUM(F49:F61) -> 2 | G62: =SUM(G49:G61) -> 0 | H62: =SUM(H49:H61) -> 0 | I62: =SUM(I49:I61) -> 2 | J62: =SUM(J49:J61) -> 6 | K62: =SUM(K49:K61) -> 0 | L62: =SUM(L49:L61) -> 0 | ... AD62: =SUM(AD49:AD61) -> 13
A63: 04202-CANELA | B63: 105309-CES. RURAL CANELA | E63: =IFERROR(VLOOKUP($B63,'[4]NUM3.1'!$H$3:$P$104,2,FALSE),0) -> 12 | F63: =IFERROR(VLOOKUP($B63,'[4]NUM3.1'!$H$3:$P$104,3,FALSE),0) -> 10 | G63: =IFERROR(VLOOKUP($B63,'[4]NUM3.1'!$H$3:$P$104,4,FALSE),0) -> 11 | H63: =IFERROR(VLOOKUP($B63,'[4]NUM3.1'!$H$3:$P$104,5,FALSE),0) -> 8 | I63: =IFERROR(VLOOKUP($B63,'[4]NUM3.1'!$H$3:$P$104,6,FALSE),0) -> 4 | J63: =IFERROR(VLOOKUP($B63,'[4]NUM3.1'!$H$3:$P$104,7,FALSE),0) -> 5 | K63: =IFERROR(VLOOKUP($B63,'[4]NUM3.1'!$H$3:$P$104,8,FALSE),0) -> 5 | Q63: =SUM(E63:P63) -> 55 | R63: =IFERROR(VLOOKUP($B63,'[4]DEN3.1'!$H$3:$P$104,2,FALSE),0) -> 12 | S63: =IFERROR(VLOOKUP($B63,'[4]DEN3.1'!$H$3:$P$104,3,FALSE),0) -> 10 | T63: =IFERROR(VLOOKUP($B63,'[4]DEN3.1'!$H$3:$P$104,4,FALSE),0) -> 11 | U63: =IFERROR(VLOOKUP($B63,'[4]DEN3.1'!$H$3:$P$104,5,FALSE),0) -> 8 | V63: =IFERROR(VLOOKUP($B63,'[4]DEN3.1'!$H$3:$P$104,6,FALSE),0) -> 4 | W63: =IFERROR(VLOOKUP($B63,'[4]DEN3.1'!$H$3:$P$104,7,FALSE),0) -> 5 | X63: =IFERROR(VLOOKUP($B63,'[4]DEN3.1'!$H$3:$P$104,8,FALSE),0) -> 5 | AD63: =SUM(R63:AC63) -> 55
A64: 04202-CANELA | B64: 105450-P.S.R. MINCHA NORTE | E64: =IFERROR(VLOOKUP($B64,'[4]NUM3.1'!$H$3:$P$104,2,FALSE),0) -> 0 | F64: =IFERROR(VLOOKUP($B64,'[4]NUM3.1'!$H$3:$P$104,3,FALSE),0) -> 0 | G64: =IFERROR(VLOOKUP($B64,'[4]NUM3.1'!$H$3:$P$104,4,FALSE),0) -> 0 | H64: =IFERROR(VLOOKUP($B64,'[4]NUM3.1'!$H$3:$P$104,5,FALSE),0) -> 0 | I64: =IFERROR(VLOOKUP($B64,'[4]NUM3.1'!$H$3:$P$104,6,FALSE),0) -> 0 | J64: =IFERROR(VLOOKUP($B64,'[4]NUM3.1'!$H$3:$P$104,7,FALSE),0) -> 0 | K64: =IFERROR(VLOOKUP($B64,'[4]NUM3.1'!$H$3:$P$104,8,FALSE),0) -> 0 | Q64: =SUM(E64:P64) -> 0 | R64: =IFERROR(VLOOKUP($B64,'[4]DEN3.1'!$H$3:$P$104,2,FALSE),0) -> 0 | S64: =IFERROR(VLOOKUP($B64,'[4]DEN3.1'!$H$3:$P$104,3,FALSE),0) -> 0 | T64: =IFERROR(VLOOKUP($B64,'[4]DEN3.1'!$H$3:$P$104,4,FALSE),0) -> 0 | U64: =IFERROR(VLOOKUP($B64,'[4]DEN3.1'!$H$3:$P$104,5,FALSE),0) -> 0 | V64: =IFERROR(VLOOKUP($B64,'[4]DEN3.1'!$H$3:$P$104,6,FALSE),0) -> 0 | W64: =IFERROR(VLOOKUP($B64,'[4]DEN3.1'!$H$3:$P$104,7,FALSE),0) -> 0 | X64: =IFERROR(VLOOKUP($B64,'[4]DEN3.1'!$H$3:$P$104,8,FALSE),0) -> 0 | AD64: =SUM(R64:AC64) -> 0
A65: 04202-CANELA | B65: 105451-P.S.R. AGUA FRIA | E65: =IFERROR(VLOOKUP($B65,'[4]NUM3.1'!$H$3:$P$104,2,FALSE),0) -> 0 | F65: =IFERROR(VLOOKUP($B65,'[4]NUM3.1'!$H$3:$P$104,3,FALSE),0) -> 0 | G65: =IFERROR(VLOOKUP($B65,'[4]NUM3.1'!$H$3:$P$104,4,FALSE),0) -> 0 | H65: =IFERROR(VLOOKUP($B65,'[4]NUM3.1'!$H$3:$P$104,5,FALSE),0) -> 0 | I65: =IFERROR(VLOOKUP($B65,'[4]NUM3.1'!$H$3:$P$104,6,FALSE),0) -> 0 | J65: =IFERROR(VLOOKUP($B65,'[4]NUM3.1'!$H$3:$P$104,7,FALSE),0) -> 0 | K65: =IFERROR(VLOOKUP($B65,'[4]NUM3.1'!$H$3:$P$104,8,FALSE),0) -> 0 | Q65: =SUM(E65:P65) -> 0 | R65: =IFERROR(VLOOKUP($B65,'[4]DEN3.1'!$H$3:$P$104,2,FALSE),0) -> 0 | S65: =IFERROR(VLOOKUP($B65,'[4]DEN3.1'!$H$3:$P$104,3,FALSE),0) -> 0 | T65: =IFERROR(VLOOKUP($B65,'[4]DEN3.1'!$H$3:$P$104,4,FALSE),0) -> 0 | U65: =IFERROR(VLOOKUP($B65,'[4]DEN3.1'!$H$3:$P$104,5,FALSE),0) -> 0 | V65: =IFERROR(VLOOKUP($B65,'[4]DEN3.1'!$H$3:$P$104,6,FALSE),0) -> 0 | W65: =IFERROR(VLOOKUP($B65,'[4]DEN3.1'!$H$3:$P$104,7,FALSE),0) -> 0 | X65: =IFERROR(VLOOKUP($B65,'[4]DEN3.1'!$H$3:$P$104,8,FALSE),0) -> 0 | AD65: =SUM(R65:AC65) -> 0
A66: 04202-CANELA | B66: 105482-P.S.R. CANELA ALTA | E66: =IFERROR(VLOOKUP($B66,'[4]NUM3.1'!$H$3:$P$104,2,FALSE),0) -> 0 | F66: =IFERROR(VLOOKUP($B66,'[4]NUM3.1'!$H$3:$P$104,3,FALSE),0) -> 0 | G66: =IFERROR(VLOOKUP($B66,'[4]NUM3.1'!$H$3:$P$104,4,FALSE),0) -> 0 | H66: =IFERROR(VLOOKUP($B66,'[4]NUM3.1'!$H$3:$P$104,5,FALSE),0) -> 0 | I66: =IFERROR(VLOOKUP($B66,'[4]NUM3.1'!$H$3:$P$104,6,FALSE),0) -> 0 | J66: =IFERROR(VLOOKUP($B66,'[4]NUM3.1'!$H$3:$P$104,7,FALSE),0) -> 0 | K66: =IFERROR(VLOOKUP($B66,'[4]NUM3.1'!$H$3:$P$104,8,FALSE),0) -> 0 | Q66: =SUM(E66:P66) -> 0 | R66: =IFERROR(VLOOKUP($B66,'[4]DEN3.1'!$H$3:$P$104,2,FALSE),0) -> 0 | S66: =IFERROR(VLOOKUP($B66,'[4]DEN3.1'!$H$3:$P$104,3,FALSE),0) -> 0 | T66: =IFERROR(VLOOKUP($B66,'[4]DEN3.1'!$H$3:$P$104,4,FALSE),0) -> 0 | U66: =IFERROR(VLOOKUP($B66,'[4]DEN3.1'!$H$3:$P$104,5,FALSE),0) -> 0 | V66: =IFERROR(VLOOKUP($B66,'[4]DEN3.1'!$H$3:$P$104,6,FALSE),0) -> 0 | W66: =IFERROR(VLOOKUP($B66,'[4]DEN3.1'!$H$3:$P$104,7,FALSE),0) -> 0 | X66: =IFERROR(VLOOKUP($B66,'[4]DEN3.1'!$H$3:$P$104,8,FALSE),0) -> 0 | AD66: =SUM(R66:AC66) -> 0
A67: 04202-CANELA | B67: 105483-P.S.R. LOS RULOS | E67: =IFERROR(VLOOKUP($B67,'[4]NUM3.1'!$H$3:$P$104,2,FALSE),0) -> 0 | F67: =IFERROR(VLOOKUP($B67,'[4]NUM3.1'!$H$3:$P$104,3,FALSE),0) -> 0 | G67: =IFERROR(VLOOKUP($B67,'[4]NUM3.1'!$H$3:$P$104,4,FALSE),0) -> 0 | H67: =IFERROR(VLOOKUP($B67,'[4]NUM3.1'!$H$3:$P$104,5,FALSE),0) -> 0 | I67: =IFERROR(VLOOKUP($B67,'[4]NUM3.1'!$H$3:$P$104,6,FALSE),0) -> 0 | J67: =IFERROR(VLOOKUP($B67,'[4]NUM3.1'!$H$3:$P$104,7,FALSE),0) -> 0 | K67: =IFERROR(VLOOKUP($B67,'[4]NUM3.1'!$H$3:$P$104,8,FALSE),0) -> 0 | Q67: =SUM(E67:P67) -> 0 | R67: =IFERROR(VLOOKUP($B67,'[4]DEN3.1'!$H$3:$P$104,2,FALSE),0) -> 0 | S67: =IFERROR(VLOOKUP($B67,'[4]DEN3.1'!$H$3:$P$104,3,FALSE),0) -> 0 | T67: =IFERROR(VLOOKUP($B67,'[4]DEN3.1'!$H$3:$P$104,4,FALSE),0) -> 0 | U67: =IFERROR(VLOOKUP($B67,'[4]DEN3.1'!$H$3:$P$104,5,FALSE),0) -> 0 | V67: =IFERROR(VLOOKUP($B67,'[4]DEN3.1'!$H$3:$P$104,6,FALSE),0) -> 0 | W67: =IFERROR(VLOOKUP($B67,'[4]DEN3.1'!$H$3:$P$104,7,FALSE),0) -> 0 | X67: =IFERROR(VLOOKUP($B67,'[4]DEN3.1'!$H$3:$P$104,8,FALSE),0) -> 0 | AD67: =SUM(R67:AC67) -> 0
A68: 04202-CANELA | B68: 105484-P.S.R. HUENTELAUQUEN | E68: =IFERROR(VLOOKUP($B68,'[4]NUM3.1'!$H$3:$P$104,2,FALSE),0) -> 0 | F68: =IFERROR(VLOOKUP($B68,'[4]NUM3.1'!$H$3:$P$104,3,FALSE),0) -> 0 | G68: =IFERROR(VLOOKUP($B68,'[4]NUM3.1'!$H$3:$P$104,4,FALSE),0) -> 0 | H68: =IFERROR(VLOOKUP($B68,'[4]NUM3.1'!$H$3:$P$104,5,FALSE),0) -> 0 | I68: =IFERROR(VLOOKUP($B68,'[4]NUM3.1'!$H$3:$P$104,6,FALSE),0) -> 0 | J68: =IFERROR(VLOOKUP($B68,'[4]NUM3.1'!$H$3:$P$104,7,FALSE),0) -> 0 | K68: =IFERROR(VLOOKUP($B68,'[4]NUM3.1'!$H$3:$P$104,8,FALSE),0) -> 0 | Q68: =SUM(E68:P68) -> 0 | R68: =IFERROR(VLOOKUP($B68,'[4]DEN3.1'!$H$3:$P$104,2,FALSE),0) -> 0 | S68: =IFERROR(VLOOKUP($B68,'[4]DEN3.1'!$H$3:$P$104,3,FALSE),0) -> 0 | T68: =IFERROR(VLOOKUP($B68,'[4]DEN3.1'!$H$3:$P$104,4,FALSE),0) -> 0 | U68: =IFERROR(VLOOKUP($B68,'[4]DEN3.1'!$H$3:$P$104,5,FALSE),0) -> 0 | V68: =IFERROR(VLOOKUP($B68,'[4]DEN3.1'!$H$3:$P$104,6,FALSE),0) -> 0 | W68: =IFERROR(VLOOKUP($B68,'[4]DEN3.1'!$H$3:$P$104,7,FALSE),0) -> 0 | X68: =IFERROR(VLOOKUP($B68,'[4]DEN3.1'!$H$3:$P$104,8,FALSE),0) -> 0 | AD68: =SUM(R68:AC68) -> 0
A69: 04202-CANELA | B69: 105488-P.S.R. ESPIRITU SANTO | E69: =IFERROR(VLOOKUP($B69,'[4]NUM3.1'!$H$3:$P$104,2,FALSE),0) -> 0 | F69: =IFERROR(VLOOKUP($B69,'[4]NUM3.1'!$H$3:$P$104,3,FALSE),0) -> 0 | G69: =IFERROR(VLOOKUP($B69,'[4]NUM3.1'!$H$3:$P$104,4,FALSE),0) -> 0 | H69: =IFERROR(VLOOKUP($B69,'[4]NUM3.1'!$H$3:$P$104,5,FALSE),0) -> 0 | I69: =IFERROR(VLOOKUP($B69,'[4]NUM3.1'!$H$3:$P$104,6,FALSE),0) -> 0 | J69: =IFERROR(VLOOKUP($B69,'[4]NUM3.1'!$H$3:$P$104,7,FALSE),0) -> 0 | K69: =IFERROR(VLOOKUP($B69,'[4]NUM3.1'!$H$3:$P$104,8,FALSE),0) -> 0 | Q69: =SUM(E69:P69) -> 0 | R69: =IFERROR(VLOOKUP($B69,'[4]DEN3.1'!$H$3:$P$104,2,FALSE),0) -> 0 | S69: =IFERROR(VLOOKUP($B69,'[4]DEN3.1'!$H$3:$P$104,3,FALSE),0) -> 0 | T69: =IFERROR(VLOOKUP($B69,'[4]DEN3.1'!$H$3:$P$104,4,FALSE),0) -> 0 | U69: =IFERROR(VLOOKUP($B69,'[4]DEN3.1'!$H$3:$P$104,5,FALSE),0) -> 0 | V69: =IFERROR(VLOOKUP($B69,'[4]DEN3.1'!$H$3:$P$104,6,FALSE),0) -> 0 | W69: =IFERROR(VLOOKUP($B69,'[4]DEN3.1'!$H$3:$P$104,7,FALSE),0) -> 0 | X69: =IFERROR(VLOOKUP($B69,'[4]DEN3.1'!$H$3:$P$104,8,FALSE),0) -> 0 | AD69: =SUM(R69:AC69) -> 0
A70: 04202-CANELA | B70: 105493-P.S.R. MINCHA SUR | E70: =IFERROR(VLOOKUP($B70,'[4]NUM3.1'!$H$3:$P$104,2,FALSE),0) -> 0 | F70: =IFERROR(VLOOKUP($B70,'[4]NUM3.1'!$H$3:$P$104,3,FALSE),0) -> 0 | G70: =IFERROR(VLOOKUP($B70,'[4]NUM3.1'!$H$3:$P$104,4,FALSE),0) -> 0 | H70: =IFERROR(VLOOKUP($B70,'[4]NUM3.1'!$H$3:$P$104,5,FALSE),0) -> 0 | I70: =IFERROR(VLOOKUP($B70,'[4]NUM3.1'!$H$3:$P$104,6,FALSE),0) -> 0 | J70: =IFERROR(VLOOKUP($B70,'[4]NUM3.1'!$H$3:$P$104,7,FALSE),0) -> 0 | K70: =IFERROR(VLOOKUP($B70,'[4]NUM3.1'!$H$3:$P$104,8,FALSE),0) -> 0 | Q70: =SUM(E70:P70) -> 0 | R70: =IFERROR(VLOOKUP($B70,'[4]DEN3.1'!$H$3:$P$104,2,FALSE),0) -> 0 | S70: =IFERROR(VLOOKUP($B70,'[4]DEN3.1'!$H$3:$P$104,3,FALSE),0) -> 0 | T70: =IFERROR(VLOOKUP($B70,'[4]DEN3.1'!$H$3:$P$104,4,FALSE),0) -> 0 | U70: =IFERROR(VLOOKUP($B70,'[4]DEN3.1'!$H$3:$P$104,5,FALSE),0) -> 0 | V70: =IFERROR(VLOOKUP($B70,'[4]DEN3.1'!$H$3:$P$104,6,FALSE),0) -> 0 | W70: =IFERROR(VLOOKUP($B70,'[4]DEN3.1'!$H$3:$P$104,7,FALSE),0) -> 0 | X70: =IFERROR(VLOOKUP($B70,'[4]DEN3.1'!$H$3:$P$104,8,FALSE),0) -> 0 | AD70: =SUM(R70:AC70) -> 0
A71: 04202-CANELA | B71: 105497-P.S.R. JABONERIA | E71: =IFERROR(VLOOKUP($B71,'[4]NUM3.1'!$H$3:$P$104,2,FALSE),0) -> 0 | F71: =IFERROR(VLOOKUP($B71,'[4]NUM3.1'!$H$3:$P$104,3,FALSE),0) -> 0 | G71: =IFERROR(VLOOKUP($B71,'[4]NUM3.1'!$H$3:$P$104,4,FALSE),0) -> 0 | H71: =IFERROR(VLOOKUP($B71,'[4]NUM3.1'!$H$3:$P$104,5,FALSE),0) -> 0 | I71: =IFERROR(VLOOKUP($B71,'[4]NUM3.1'!$H$3:$P$104,6,FALSE),0) -> 0 | J71: =IFERROR(VLOOKUP($B71,'[4]NUM3.1'!$H$3:$P$104,7,FALSE),0) -> 0 | K71: =IFERROR(VLOOKUP($B71,'[4]NUM3.1'!$H$3:$P$104,8,FALSE),0) -> 0 | Q71: =SUM(E71:P71) -> 0 | R71: =IFERROR(VLOOKUP($B71,'[4]DEN3.1'!$H$3:$P$104,2,FALSE),0) -> 0 | S71: =IFERROR(VLOOKUP($B71,'[4]DEN3.1'!$H$3:$P$104,3,FALSE),0) -> 0 | T71: =IFERROR(VLOOKUP($B71,'[4]DEN3.1'!$H$3:$P$104,4,FALSE),0) -> 0 | U71: =IFERROR(VLOOKUP($B71,'[4]DEN3.1'!$H$3:$P$104,5,FALSE),0) -> 0 | V71: =IFERROR(VLOOKUP($B71,'[4]DEN3.1'!$H$3:$P$104,6,FALSE),0) -> 0 | W71: =IFERROR(VLOOKUP($B71,'[4]DEN3.1'!$H$3:$P$104,7,FALSE),0) -> 0 | X71: =IFERROR(VLOOKUP($B71,'[4]DEN3.1'!$H$3:$P$104,8,FALSE),0) -> 0 | AD71: =SUM(R71:AC71) -> 0
A72: 04202-CANELA | B72: 105498-P.S.R. QUEBRADA DE LINARES | E72: =IFERROR(VLOOKUP($B72,'[4]NUM3.1'!$H$3:$P$104,2,FALSE),0) -> 0 | F72: =IFERROR(VLOOKUP($B72,'[4]NUM3.1'!$H$3:$P$104,3,FALSE),0) -> 0 | G72: =IFERROR(VLOOKUP($B72,'[4]NUM3.1'!$H$3:$P$104,4,FALSE),0) -> 0 | H72: =IFERROR(VLOOKUP($B72,'[4]NUM3.1'!$H$3:$P$104,5,FALSE),0) -> 0 | I72: =IFERROR(VLOOKUP($B72,'[4]NUM3.1'!$H$3:$P$104,6,FALSE),0) -> 0 | J72: =IFERROR(VLOOKUP($B72,'[4]NUM3.1'!$H$3:$P$104,7,FALSE),0) -> 0 | K72: =IFERROR(VLOOKUP($B72,'[4]NUM3.1'!$H$3:$P$104,8,FALSE),0) -> 0 | Q72: =SUM(E72:P72) -> 0 | R72: =IFERROR(VLOOKUP($B72,'[4]DEN3.1'!$H$3:$P$104,2,FALSE),0) -> 0 | S72: =IFERROR(VLOOKUP($B72,'[4]DEN3.1'!$H$3:$P$104,3,FALSE),0) -> 0 | T72: =IFERROR(VLOOKUP($B72,'[4]DEN3.1'!$H$3:$P$104,4,FALSE),0) -> 0 | U72: =IFERROR(VLOOKUP($B72,'[4]DEN3.1'!$H$3:$P$104,5,FALSE),0) -> 0 | V72: =IFERROR(VLOOKUP($B72,'[4]DEN3.1'!$H$3:$P$104,6,FALSE),0) -> 0 | W72: =IFERROR(VLOOKUP($B72,'[4]DEN3.1'!$H$3:$P$104,7,FALSE),0) -> 0 | X72: =IFERROR(VLOOKUP($B72,'[4]DEN3.1'!$H$3:$P$104,8,FALSE),0) -> 0 | AD72: =SUM(R72:AC72) -> 0
A73: TOTAL CANELA | C73: =+D73/Metas!H65 -> 1.0195228 | D73: =+Q73/AD73 -> 1 | E73: =SUM(E63:E72) -> 12 | F73: =SUM(F63:F72) -> 10 | G73: =SUM(G63:G72) -> 11 | H73: =SUM(H63:H72) -> 8 | I73: =SUM(I63:I72) -> 4 | J73: =SUM(J63:J72) -> 5 | K73: =SUM(K63:K72) -> 5 | L73: =SUM(L63:L72) -> 0 | ... AD73: =SUM(AD63:AD72) -> 55
A74: 04203-LOS VILOS | B74: 105478-P.S.R. CAIMANES | E74: =IFERROR(VLOOKUP($B74,'[4]NUM3.1'!$H$3:$P$104,2,FALSE),0) -> 0 | F74: =IFERROR(VLOOKUP($B74,'[4]NUM3.1'!$H$3:$P$104,3,FALSE),0) -> 0 | G74: =IFERROR(VLOOKUP($B74,'[4]NUM3.1'!$H$3:$P$104,4,FALSE),0) -> 0 | H74: =IFERROR(VLOOKUP($B74,'[4]NUM3.1'!$H$3:$P$104,5,FALSE),0) -> 2 | I74: =IFERROR(VLOOKUP($B74,'[4]NUM3.1'!$H$3:$P$104,6,FALSE),0) -> 1 | J74: =IFERROR(VLOOKUP($B74,'[4]NUM3.1'!$H$3:$P$104,7,FALSE),0) -> 0 | K74: =IFERROR(VLOOKUP($B74,'[4]NUM3.1'!$H$3:$P$104,8,FALSE),0) -> 0 | Q74: =SUM(E74:P74) -> 3 | R74: =IFERROR(VLOOKUP($B74,'[4]DEN3.1'!$H$3:$P$104,2,FALSE),0) -> 0 | S74: =IFERROR(VLOOKUP($B74,'[4]DEN3.1'!$H$3:$P$104,3,FALSE),0) -> 0 | T74: =IFERROR(VLOOKUP($B74,'[4]DEN3.1'!$H$3:$P$104,4,FALSE),0) -> 0 | U74: =IFERROR(VLOOKUP($B74,'[4]DEN3.1'!$H$3:$P$104,5,FALSE),0) -> 2 | V74: =IFERROR(VLOOKUP($B74,'[4]DEN3.1'!$H$3:$P$104,6,FALSE),0) -> 1 | W74: =IFERROR(VLOOKUP($B74,'[4]DEN3.1'!$H$3:$P$104,7,FALSE),0) -> 0 | X74: =IFERROR(VLOOKUP($B74,'[4]DEN3.1'!$H$3:$P$104,8,FALSE),0) -> 0 | AD74: =SUM(R74:AC74) -> 3
A75: 04203-LOS VILOS | B75: 105479-P.S.R. GUANGUALI | E75: =IFERROR(VLOOKUP($B75,'[4]NUM3.1'!$H$3:$P$104,2,FALSE),0) -> 0 | F75: =IFERROR(VLOOKUP($B75,'[4]NUM3.1'!$H$3:$P$104,3,FALSE),0) -> 0 | G75: =IFERROR(VLOOKUP($B75,'[4]NUM3.1'!$H$3:$P$104,4,FALSE),0) -> 0 | H75: =IFERROR(VLOOKUP($B75,'[4]NUM3.1'!$H$3:$P$104,5,FALSE),0) -> 0 | I75: =IFERROR(VLOOKUP($B75,'[4]NUM3.1'!$H$3:$P$104,6,FALSE),0) -> 0 | J75: =IFERROR(VLOOKUP($B75,'[4]NUM3.1'!$H$3:$P$104,7,FALSE),0) -> 0 | K75: =IFERROR(VLOOKUP($B75,'[4]NUM3.1'!$H$3:$P$104,8,FALSE),0) -> 0 | Q75: =SUM(E75:P75) -> 0 | R75: =IFERROR(VLOOKUP($B75,'[4]DEN3.1'!$H$3:$P$104,2,FALSE),0) -> 0 | S75: =IFERROR(VLOOKUP($B75,'[4]DEN3.1'!$H$3:$P$104,3,FALSE),0) -> 0 | T75: =IFERROR(VLOOKUP($B75,'[4]DEN3.1'!$H$3:$P$104,4,FALSE),0) -> 0 | U75: =IFERROR(VLOOKUP($B75,'[4]DEN3.1'!$H$3:$P$104,5,FALSE),0) -> 0 | V75: =IFERROR(VLOOKUP($B75,'[4]DEN3.1'!$H$3:$P$104,6,FALSE),0) -> 0 | W75: =IFERROR(VLOOKUP($B75,'[4]DEN3.1'!$H$3:$P$104,7,FALSE),0) -> 0 | X75: =IFERROR(VLOOKUP($B75,'[4]DEN3.1'!$H$3:$P$104,8,FALSE),0) -> 0 | AD75: =SUM(R75:AC75) -> 0
A76: 04203-LOS VILOS | B76: 105480-P.S.R. QUILIMARI | E76: =IFERROR(VLOOKUP($B76,'[4]NUM3.1'!$H$3:$P$104,2,FALSE),0) -> 0 | F76: =IFERROR(VLOOKUP($B76,'[4]NUM3.1'!$H$3:$P$104,3,FALSE),0) -> 0 | G76: =IFERROR(VLOOKUP($B76,'[4]NUM3.1'!$H$3:$P$104,4,FALSE),0) -> 0 | H76: =IFERROR(VLOOKUP($B76,'[4]NUM3.1'!$H$3:$P$104,5,FALSE),0) -> 6 | I76: =IFERROR(VLOOKUP($B76,'[4]NUM3.1'!$H$3:$P$104,6,FALSE),0) -> 0 | J76: =IFERROR(VLOOKUP($B76,'[4]NUM3.1'!$H$3:$P$104,7,FALSE),0) -> 1 | K76: =IFERROR(VLOOKUP($B76,'[4]NUM3.1'!$H$3:$P$104,8,FALSE),0) -> 0 | Q76: =SUM(E76:P76) -> 7 | R76: =IFERROR(VLOOKUP($B76,'[4]DEN3.1'!$H$3:$P$104,2,FALSE),0) -> 0 | S76: =IFERROR(VLOOKUP($B76,'[4]DEN3.1'!$H$3:$P$104,3,FALSE),0) -> 0 | T76: =IFERROR(VLOOKUP($B76,'[4]DEN3.1'!$H$3:$P$104,4,FALSE),0) -> 0 | U76: =IFERROR(VLOOKUP($B76,'[4]DEN3.1'!$H$3:$P$104,5,FALSE),0) -> 6 | V76: =IFERROR(VLOOKUP($B76,'[4]DEN3.1'!$H$3:$P$104,6,FALSE),0) -> 0 | W76: =IFERROR(VLOOKUP($B76,'[4]DEN3.1'!$H$3:$P$104,7,FALSE),0) -> 1 | X76: =IFERROR(VLOOKUP($B76,'[4]DEN3.1'!$H$3:$P$104,8,FALSE),0) -> 0 | AD76: =SUM(R76:AC76) -> 7
A77: 04203-LOS VILOS | B77: 105481-P.S.R. TILAMA | E77: =IFERROR(VLOOKUP($B77,'[4]NUM3.1'!$H$3:$P$104,2,FALSE),0) -> 0 | F77: =IFERROR(VLOOKUP($B77,'[4]NUM3.1'!$H$3:$P$104,3,FALSE),0) -> 0 | G77: =IFERROR(VLOOKUP($B77,'[4]NUM3.1'!$H$3:$P$104,4,FALSE),0) -> 0 | H77: =IFERROR(VLOOKUP($B77,'[4]NUM3.1'!$H$3:$P$104,5,FALSE),0) -> 0 | I77: =IFERROR(VLOOKUP($B77,'[4]NUM3.1'!$H$3:$P$104,6,FALSE),0) -> 0 | J77: =IFERROR(VLOOKUP($B77,'[4]NUM3.1'!$H$3:$P$104,7,FALSE),0) -> 0 | K77: =IFERROR(VLOOKUP($B77,'[4]NUM3.1'!$H$3:$P$104,8,FALSE),0) -> 0 | Q77: =SUM(E77:P77) -> 0 | R77: =IFERROR(VLOOKUP($B77,'[4]DEN3.1'!$H$3:$P$104,2,FALSE),0) -> 0 | S77: =IFERROR(VLOOKUP($B77,'[4]DEN3.1'!$H$3:$P$104,3,FALSE),0) -> 0 | T77: =IFERROR(VLOOKUP($B77,'[4]DEN3.1'!$H$3:$P$104,4,FALSE),0) -> 0 | U77: =IFERROR(VLOOKUP($B77,'[4]DEN3.1'!$H$3:$P$104,5,FALSE),0) -> 0 | V77: =IFERROR(VLOOKUP($B77,'[4]DEN3.1'!$H$3:$P$104,6,FALSE),0) -> 0 | W77: =IFERROR(VLOOKUP($B77,'[4]DEN3.1'!$H$3:$P$104,7,FALSE),0) -> 0 | X77: =IFERROR(VLOOKUP($B77,'[4]DEN3.1'!$H$3:$P$104,8,FALSE),0) -> 0 | AD77: =SUM(R77:AC77) -> 0
A78: 04203-LOS VILOS | B78: 105511-P.S.R. LOS CONDORES | E78: =IFERROR(VLOOKUP($B78,'[4]NUM3.1'!$H$3:$P$104,2,FALSE),0) -> 0 | F78: =IFERROR(VLOOKUP($B78,'[4]NUM3.1'!$H$3:$P$104,3,FALSE),0) -> 0 | G78: =IFERROR(VLOOKUP($B78,'[4]NUM3.1'!$H$3:$P$104,4,FALSE),0) -> 0 | H78: =IFERROR(VLOOKUP($B78,'[4]NUM3.1'!$H$3:$P$104,5,FALSE),0) -> 0 | I78: =IFERROR(VLOOKUP($B78,'[4]NUM3.1'!$H$3:$P$104,6,FALSE),0) -> 1 | J78: =IFERROR(VLOOKUP($B78,'[4]NUM3.1'!$H$3:$P$104,7,FALSE),0) -> 0 | K78: =IFERROR(VLOOKUP($B78,'[4]NUM3.1'!$H$3:$P$104,8,FALSE),0) -> 0 | Q78: =SUM(E78:P78) -> 1 | R78: =IFERROR(VLOOKUP($B78,'[4]DEN3.1'!$H$3:$P$104,2,FALSE),0) -> 0 | S78: =IFERROR(VLOOKUP($B78,'[4]DEN3.1'!$H$3:$P$104,3,FALSE),0) -> 0 | T78: =IFERROR(VLOOKUP($B78,'[4]DEN3.1'!$H$3:$P$104,4,FALSE),0) -> 0 | U78: =IFERROR(VLOOKUP($B78,'[4]DEN3.1'!$H$3:$P$104,5,FALSE),0) -> 0 | V78: =IFERROR(VLOOKUP($B78,'[4]DEN3.1'!$H$3:$P$104,6,FALSE),0) -> 1 | W78: =IFERROR(VLOOKUP($B78,'[4]DEN3.1'!$H$3:$P$104,7,FALSE),0) -> 0 | X78: =IFERROR(VLOOKUP($B78,'[4]DEN3.1'!$H$3:$P$104,8,FALSE),0) -> 0 | AD78: =SUM(R78:AC78) -> 1
A79: TOTAL LOS VILOS | C79: =+D79/Metas!H70 -> 1.015625 | D79: =+Q79/AD79 -> 1 | E79: =SUM(E74:E78) -> 0 | F79: =SUM(F74:F78) -> 0 | G79: =SUM(G74:G78) -> 0 | H79: =SUM(H74:H78) -> 8 | I79: =SUM(I74:I78) -> 2 | J79: =SUM(J74:J78) -> 1 | K79: =SUM(K74:K78) -> 0 | L79: =SUM(L74:L78) -> 0 | ... AD79: =SUM(AD74:AD78) -> 11
A80: 04204-SALAMANCA | B80: 105452-P.S.R. CUNCUMEN | E80: =IFERROR(VLOOKUP($B80,'[4]NUM3.1'!$H$3:$P$104,2,FALSE),0) -> 0 | F80: =IFERROR(VLOOKUP($B80,'[4]NUM3.1'!$H$3:$P$104,3,FALSE),0) -> 0 | G80: =IFERROR(VLOOKUP($B80,'[4]NUM3.1'!$H$3:$P$104,4,FALSE),0) -> 0 | H80: =IFERROR(VLOOKUP($B80,'[4]NUM3.1'!$H$3:$P$104,5,FALSE),0) -> 0 | I80: =IFERROR(VLOOKUP($B80,'[4]NUM3.1'!$H$3:$P$104,6,FALSE),0) -> 0 | J80: =IFERROR(VLOOKUP($B80,'[4]NUM3.1'!$H$3:$P$104,7,FALSE),0) -> 0 | K80: =IFERROR(VLOOKUP($B80,'[4]NUM3.1'!$H$3:$P$104,8,FALSE),0) -> 0 | Q80: =SUM(E80:P80) -> 0 | R80: =IFERROR(VLOOKUP($B80,'[4]DEN3.1'!$H$3:$P$104,2,FALSE),0) -> 0 | S80: =IFERROR(VLOOKUP($B80,'[4]DEN3.1'!$H$3:$P$104,3,FALSE),0) -> 0 | T80: =IFERROR(VLOOKUP($B80,'[4]DEN3.1'!$H$3:$P$104,4,FALSE),0) -> 0 | U80: =IFERROR(VLOOKUP($B80,'[4]DEN3.1'!$H$3:$P$104,5,FALSE),0) -> 0 | V80: =IFERROR(VLOOKUP($B80,'[4]DEN3.1'!$H$3:$P$104,6,FALSE),0) -> 0 | W80: =IFERROR(VLOOKUP($B80,'[4]DEN3.1'!$H$3:$P$104,7,FALSE),0) -> 0 | X80: =IFERROR(VLOOKUP($B80,'[4]DEN3.1'!$H$3:$P$104,8,FALSE),0) -> 0 | AD80: =SUM(R80:AC80) -> 0
A81: 04204-SALAMANCA | B81: 105453-P.S.R. TRANQUILLA | E81: =IFERROR(VLOOKUP($B81,'[4]NUM3.1'!$H$3:$P$104,2,FALSE),0) -> 0 | F81: =IFERROR(VLOOKUP($B81,'[4]NUM3.1'!$H$3:$P$104,3,FALSE),0) -> 0 | G81: =IFERROR(VLOOKUP($B81,'[4]NUM3.1'!$H$3:$P$104,4,FALSE),0) -> 0 | H81: =IFERROR(VLOOKUP($B81,'[4]NUM3.1'!$H$3:$P$104,5,FALSE),0) -> 0 | I81: =IFERROR(VLOOKUP($B81,'[4]NUM3.1'!$H$3:$P$104,6,FALSE),0) -> 0 | J81: =IFERROR(VLOOKUP($B81,'[4]NUM3.1'!$H$3:$P$104,7,FALSE),0) -> 0 | K81: =IFERROR(VLOOKUP($B81,'[4]NUM3.1'!$H$3:$P$104,8,FALSE),0) -> 0 | Q81: =SUM(E81:P81) -> 0 | R81: =IFERROR(VLOOKUP($B81,'[4]DEN3.1'!$H$3:$P$104,2,FALSE),0) -> 0 | S81: =IFERROR(VLOOKUP($B81,'[4]DEN3.1'!$H$3:$P$104,3,FALSE),0) -> 0 | T81: =IFERROR(VLOOKUP($B81,'[4]DEN3.1'!$H$3:$P$104,4,FALSE),0) -> 0 | U81: =IFERROR(VLOOKUP($B81,'[4]DEN3.1'!$H$3:$P$104,5,FALSE),0) -> 0 | V81: =IFERROR(VLOOKUP($B81,'[4]DEN3.1'!$H$3:$P$104,6,FALSE),0) -> 0 | W81: =IFERROR(VLOOKUP($B81,'[4]DEN3.1'!$H$3:$P$104,7,FALSE),0) -> 0 | X81: =IFERROR(VLOOKUP($B81,'[4]DEN3.1'!$H$3:$P$104,8,FALSE),0) -> 0 | AD81: =SUM(R81:AC81) -> 0
A82: 04204-SALAMANCA | B82: 105454-P.S.R. CUNLAGUA | E82: =IFERROR(VLOOKUP($B82,'[4]NUM3.1'!$H$3:$P$104,2,FALSE),0) -> 0 | F82: =IFERROR(VLOOKUP($B82,'[4]NUM3.1'!$H$3:$P$104,3,FALSE),0) -> 0 | G82: =IFERROR(VLOOKUP($B82,'[4]NUM3.1'!$H$3:$P$104,4,FALSE),0) -> 0 | H82: =IFERROR(VLOOKUP($B82,'[4]NUM3.1'!$H$3:$P$104,5,FALSE),0) -> 0 | I82: =IFERROR(VLOOKUP($B82,'[4]NUM3.1'!$H$3:$P$104,6,FALSE),0) -> 0 | J82: =IFERROR(VLOOKUP($B82,'[4]NUM3.1'!$H$3:$P$104,7,FALSE),0) -> 0 | K82: =IFERROR(VLOOKUP($B82,'[4]NUM3.1'!$H$3:$P$104,8,FALSE),0) -> 0 | Q82: =SUM(E82:P82) -> 0 | R82: =IFERROR(VLOOKUP($B82,'[4]DEN3.1'!$H$3:$P$104,2,FALSE),0) -> 0 | S82: =IFERROR(VLOOKUP($B82,'[4]DEN3.1'!$H$3:$P$104,3,FALSE),0) -> 0 | T82: =IFERROR(VLOOKUP($B82,'[4]DEN3.1'!$H$3:$P$104,4,FALSE),0) -> 0 | U82: =IFERROR(VLOOKUP($B82,'[4]DEN3.1'!$H$3:$P$104,5,FALSE),0) -> 0 | V82: =IFERROR(VLOOKUP($B82,'[4]DEN3.1'!$H$3:$P$104,6,FALSE),0) -> 0 | W82: =IFERROR(VLOOKUP($B82,'[4]DEN3.1'!$H$3:$P$104,7,FALSE),0) -> 0 | X82: =IFERROR(VLOOKUP($B82,'[4]DEN3.1'!$H$3:$P$104,8,FALSE),0) -> 0 | AD82: =SUM(R82:AC82) -> 0
A83: 04204-SALAMANCA | B83: 105455-P.S.R. CHILLEPIN | E83: =IFERROR(VLOOKUP($B83,'[4]NUM3.1'!$H$3:$P$104,2,FALSE),0) -> 0 | F83: =IFERROR(VLOOKUP($B83,'[4]NUM3.1'!$H$3:$P$104,3,FALSE),0) -> 0 | G83: =IFERROR(VLOOKUP($B83,'[4]NUM3.1'!$H$3:$P$104,4,FALSE),0) -> 0 | H83: =IFERROR(VLOOKUP($B83,'[4]NUM3.1'!$H$3:$P$104,5,FALSE),0) -> 0 | I83: =IFERROR(VLOOKUP($B83,'[4]NUM3.1'!$H$3:$P$104,6,FALSE),0) -> 0 | J83: =IFERROR(VLOOKUP($B83,'[4]NUM3.1'!$H$3:$P$104,7,FALSE),0) -> 0 | K83: =IFERROR(VLOOKUP($B83,'[4]NUM3.1'!$H$3:$P$104,8,FALSE),0) -> 0 | Q83: =SUM(E83:P83) -> 0 | R83: =IFERROR(VLOOKUP($B83,'[4]DEN3.1'!$H$3:$P$104,2,FALSE),0) -> 0 | S83: =IFERROR(VLOOKUP($B83,'[4]DEN3.1'!$H$3:$P$104,3,FALSE),0) -> 0 | T83: =IFERROR(VLOOKUP($B83,'[4]DEN3.1'!$H$3:$P$104,4,FALSE),0) -> 0 | U83: =IFERROR(VLOOKUP($B83,'[4]DEN3.1'!$H$3:$P$104,5,FALSE),0) -> 0 | V83: =IFERROR(VLOOKUP($B83,'[4]DEN3.1'!$H$3:$P$104,6,FALSE),0) -> 0 | W83: =IFERROR(VLOOKUP($B83,'[4]DEN3.1'!$H$3:$P$104,7,FALSE),0) -> 0 | X83: =IFERROR(VLOOKUP($B83,'[4]DEN3.1'!$H$3:$P$104,8,FALSE),0) -> 0 | AD83: =SUM(R83:AC83) -> 0
A84: 04204-SALAMANCA | B84: 105456-P.S.R. LLIMPO | E84: =IFERROR(VLOOKUP($B84,'[4]NUM3.1'!$H$3:$P$104,2,FALSE),0) -> 0 | F84: =IFERROR(VLOOKUP($B84,'[4]NUM3.1'!$H$3:$P$104,3,FALSE),0) -> 0 | G84: =IFERROR(VLOOKUP($B84,'[4]NUM3.1'!$H$3:$P$104,4,FALSE),0) -> 0 | H84: =IFERROR(VLOOKUP($B84,'[4]NUM3.1'!$H$3:$P$104,5,FALSE),0) -> 0 | I84: =IFERROR(VLOOKUP($B84,'[4]NUM3.1'!$H$3:$P$104,6,FALSE),0) -> 0 | J84: =IFERROR(VLOOKUP($B84,'[4]NUM3.1'!$H$3:$P$104,7,FALSE),0) -> 0 | K84: =IFERROR(VLOOKUP($B84,'[4]NUM3.1'!$H$3:$P$104,8,FALSE),0) -> 0 | Q84: =SUM(E84:P84) -> 0 | R84: =IFERROR(VLOOKUP($B84,'[4]DEN3.1'!$H$3:$P$104,2,FALSE),0) -> 0 | S84: =IFERROR(VLOOKUP($B84,'[4]DEN3.1'!$H$3:$P$104,3,FALSE),0) -> 0 | T84: =IFERROR(VLOOKUP($B84,'[4]DEN3.1'!$H$3:$P$104,4,FALSE),0) -> 0 | U84: =IFERROR(VLOOKUP($B84,'[4]DEN3.1'!$H$3:$P$104,5,FALSE),0) -> 0 | V84: =IFERROR(VLOOKUP($B84,'[4]DEN3.1'!$H$3:$P$104,6,FALSE),0) -> 0 | W84: =IFERROR(VLOOKUP($B84,'[4]DEN3.1'!$H$3:$P$104,7,FALSE),0) -> 0 | X84: =IFERROR(VLOOKUP($B84,'[4]DEN3.1'!$H$3:$P$104,8,FALSE),0) -> 0 | AD84: =SUM(R84:AC84) -> 0
A85: 04204-SALAMANCA | B85: 105457-P.S.R. SAN AGUSTIN | E85: =IFERROR(VLOOKUP($B85,'[4]NUM3.1'!$H$3:$P$104,2,FALSE),0) -> 0 | F85: =IFERROR(VLOOKUP($B85,'[4]NUM3.1'!$H$3:$P$104,3,FALSE),0) -> 0 | G85: =IFERROR(VLOOKUP($B85,'[4]NUM3.1'!$H$3:$P$104,4,FALSE),0) -> 0 | H85: =IFERROR(VLOOKUP($B85,'[4]NUM3.1'!$H$3:$P$104,5,FALSE),0) -> 0 | I85: =IFERROR(VLOOKUP($B85,'[4]NUM3.1'!$H$3:$P$104,6,FALSE),0) -> 0 | J85: =IFERROR(VLOOKUP($B85,'[4]NUM3.1'!$H$3:$P$104,7,FALSE),0) -> 0 | K85: =IFERROR(VLOOKUP($B85,'[4]NUM3.1'!$H$3:$P$104,8,FALSE),0) -> 0 | Q85: =SUM(E85:P85) -> 0 | R85: =IFERROR(VLOOKUP($B85,'[4]DEN3.1'!$H$3:$P$104,2,FALSE),0) -> 0 | S85: =IFERROR(VLOOKUP($B85,'[4]DEN3.1'!$H$3:$P$104,3,FALSE),0) -> 0 | T85: =IFERROR(VLOOKUP($B85,'[4]DEN3.1'!$H$3:$P$104,4,FALSE),0) -> 0 | U85: =IFERROR(VLOOKUP($B85,'[4]DEN3.1'!$H$3:$P$104,5,FALSE),0) -> 0 | V85: =IFERROR(VLOOKUP($B85,'[4]DEN3.1'!$H$3:$P$104,6,FALSE),0) -> 0 | W85: =IFERROR(VLOOKUP($B85,'[4]DEN3.1'!$H$3:$P$104,7,FALSE),0) -> 0 | X85: =IFERROR(VLOOKUP($B85,'[4]DEN3.1'!$H$3:$P$104,8,FALSE),0) -> 0 | AD85: =SUM(R85:AC85) -> 0
A86: 04204-SALAMANCA | B86: 105458-P.S.R. TAHUINCO | E86: =IFERROR(VLOOKUP($B86,'[4]NUM3.1'!$H$3:$P$104,2,FALSE),0) -> 0 | F86: =IFERROR(VLOOKUP($B86,'[4]NUM3.1'!$H$3:$P$104,3,FALSE),0) -> 0 | G86: =IFERROR(VLOOKUP($B86,'[4]NUM3.1'!$H$3:$P$104,4,FALSE),0) -> 0 | H86: =IFERROR(VLOOKUP($B86,'[4]NUM3.1'!$H$3:$P$104,5,FALSE),0) -> 0 | I86: =IFERROR(VLOOKUP($B86,'[4]NUM3.1'!$H$3:$P$104,6,FALSE),0) -> 0 | J86: =IFERROR(VLOOKUP($B86,'[4]NUM3.1'!$H$3:$P$104,7,FALSE),0) -> 0 | K86: =IFERROR(VLOOKUP($B86,'[4]NUM3.1'!$H$3:$P$104,8,FALSE),0) -> 0 | Q86: =SUM(E86:P86) -> 0 | R86: =IFERROR(VLOOKUP($B86,'[4]DEN3.1'!$H$3:$P$104,2,FALSE),0) -> 0 | S86: =IFERROR(VLOOKUP($B86,'[4]DEN3.1'!$H$3:$P$104,3,FALSE),0) -> 0 | T86: =IFERROR(VLOOKUP($B86,'[4]DEN3.1'!$H$3:$P$104,4,FALSE),0) -> 0 | U86: =IFERROR(VLOOKUP($B86,'[4]DEN3.1'!$H$3:$P$104,5,FALSE),0) -> 0 | V86: =IFERROR(VLOOKUP($B86,'[4]DEN3.1'!$H$3:$P$104,6,FALSE),0) -> 0 | W86: =IFERROR(VLOOKUP($B86,'[4]DEN3.1'!$H$3:$P$104,7,FALSE),0) -> 0 | X86: =IFERROR(VLOOKUP($B86,'[4]DEN3.1'!$H$3:$P$104,8,FALSE),0) -> 0 | AD86: =SUM(R86:AC86) -> 0
A87: 04204-SALAMANCA | B87: 105491-P.S.R. QUELEN BAJO | E87: =IFERROR(VLOOKUP($B87,'[4]NUM3.1'!$H$3:$P$104,2,FALSE),0) -> 0 | F87: =IFERROR(VLOOKUP($B87,'[4]NUM3.1'!$H$3:$P$104,3,FALSE),0) -> 0 | G87: =IFERROR(VLOOKUP($B87,'[4]NUM3.1'!$H$3:$P$104,4,FALSE),0) -> 0 | H87: =IFERROR(VLOOKUP($B87,'[4]NUM3.1'!$H$3:$P$104,5,FALSE),0) -> 0 | I87: =IFERROR(VLOOKUP($B87,'[4]NUM3.1'!$H$3:$P$104,6,FALSE),0) -> 0 | J87: =IFERROR(VLOOKUP($B87,'[4]NUM3.1'!$H$3:$P$104,7,FALSE),0) -> 0 | K87: =IFERROR(VLOOKUP($B87,'[4]NUM3.1'!$H$3:$P$104,8,FALSE),0) -> 1 | Q87: =SUM(E87:P87) -> 1 | R87: =IFERROR(VLOOKUP($B87,'[4]DEN3.1'!$H$3:$P$104,2,FALSE),0) -> 0 | S87: =IFERROR(VLOOKUP($B87,'[4]DEN3.1'!$H$3:$P$104,3,FALSE),0) -> 0 | T87: =IFERROR(VLOOKUP($B87,'[4]DEN3.1'!$H$3:$P$104,4,FALSE),0) -> 0 | U87: =IFERROR(VLOOKUP($B87,'[4]DEN3.1'!$H$3:$P$104,5,FALSE),0) -> 0 | V87: =IFERROR(VLOOKUP($B87,'[4]DEN3.1'!$H$3:$P$104,6,FALSE),0) -> 0 | W87: =IFERROR(VLOOKUP($B87,'[4]DEN3.1'!$H$3:$P$104,7,FALSE),0) -> 0 | X87: =IFERROR(VLOOKUP($B87,'[4]DEN3.1'!$H$3:$P$104,8,FALSE),0) -> 1 | AD87: =SUM(R87:AC87) -> 1
A88: 04204-SALAMANCA | B88: 105492-P.S.R. CAMISA | E88: =IFERROR(VLOOKUP($B88,'[4]NUM3.1'!$H$3:$P$104,2,FALSE),0) -> 0 | F88: =IFERROR(VLOOKUP($B88,'[4]NUM3.1'!$H$3:$P$104,3,FALSE),0) -> 0 | G88: =IFERROR(VLOOKUP($B88,'[4]NUM3.1'!$H$3:$P$104,4,FALSE),0) -> 0 | H88: =IFERROR(VLOOKUP($B88,'[4]NUM3.1'!$H$3:$P$104,5,FALSE),0) -> 0 | I88: =IFERROR(VLOOKUP($B88,'[4]NUM3.1'!$H$3:$P$104,6,FALSE),0) -> 0 | J88: =IFERROR(VLOOKUP($B88,'[4]NUM3.1'!$H$3:$P$104,7,FALSE),0) -> 0 | K88: =IFERROR(VLOOKUP($B88,'[4]NUM3.1'!$H$3:$P$104,8,FALSE),0) -> 0 | Q88: =SUM(E88:P88) -> 0 | R88: =IFERROR(VLOOKUP($B88,'[4]DEN3.1'!$H$3:$P$104,2,FALSE),0) -> 0 | S88: =IFERROR(VLOOKUP($B88,'[4]DEN3.1'!$H$3:$P$104,3,FALSE),0) -> 0 | T88: =IFERROR(VLOOKUP($B88,'[4]DEN3.1'!$H$3:$P$104,4,FALSE),0) -> 0 | U88: =IFERROR(VLOOKUP($B88,'[4]DEN3.1'!$H$3:$P$104,5,FALSE),0) -> 0 | V88: =IFERROR(VLOOKUP($B88,'[4]DEN3.1'!$H$3:$P$104,6,FALSE),0) -> 0 | W88: =IFERROR(VLOOKUP($B88,'[4]DEN3.1'!$H$3:$P$104,7,FALSE),0) -> 0 | X88: =IFERROR(VLOOKUP($B88,'[4]DEN3.1'!$H$3:$P$104,8,FALSE),0) -> 0 | AD88: =SUM(R88:AC88) -> 0
A89: 04204-SALAMANCA | B89: 105501-P.S.R. ARBOLEDA GRANDE | E89: =IFERROR(VLOOKUP($B89,'[4]NUM3.1'!$H$3:$P$104,2,FALSE),0) -> 0 | F89: =IFERROR(VLOOKUP($B89,'[4]NUM3.1'!$H$3:$P$104,3,FALSE),0) -> 0 | G89: =IFERROR(VLOOKUP($B89,'[4]NUM3.1'!$H$3:$P$104,4,FALSE),0) -> 0 | H89: =IFERROR(VLOOKUP($B89,'[4]NUM3.1'!$H$3:$P$104,5,FALSE),0) -> 0 | I89: =IFERROR(VLOOKUP($B89,'[4]NUM3.1'!$H$3:$P$104,6,FALSE),0) -> 0 | J89: =IFERROR(VLOOKUP($B89,'[4]NUM3.1'!$H$3:$P$104,7,FALSE),0) -> 0 | K89: =IFERROR(VLOOKUP($B89,'[4]NUM3.1'!$H$3:$P$104,8,FALSE),0) -> 0 | Q89: =SUM(E89:P89) -> 0 | R89: =IFERROR(VLOOKUP($B89,'[4]DEN3.1'!$H$3:$P$104,2,FALSE),0) -> 0 | S89: =IFERROR(VLOOKUP($B89,'[4]DEN3.1'!$H$3:$P$104,3,FALSE),0) -> 0 | T89: =IFERROR(VLOOKUP($B89,'[4]DEN3.1'!$H$3:$P$104,4,FALSE),0) -> 0 | U89: =IFERROR(VLOOKUP($B89,'[4]DEN3.1'!$H$3:$P$104,5,FALSE),0) -> 0 | V89: =IFERROR(VLOOKUP($B89,'[4]DEN3.1'!$H$3:$P$104,6,FALSE),0) -> 0 | W89: =IFERROR(VLOOKUP($B89,'[4]DEN3.1'!$H$3:$P$104,7,FALSE),0) -> 0 | X89: =IFERROR(VLOOKUP($B89,'[4]DEN3.1'!$H$3:$P$104,8,FALSE),0) -> 0 | AD89: =SUM(R89:AC89) -> 0
A90: TOTAL SALAMANCA | C90: =+D90/Metas!H75 -> 1.0204082 | D90: =+Q90/AD90 -> 1 | E90: =SUM(E80:E89) -> 0 | F90: =SUM(F80:F89) -> 0 | G90: =SUM(G80:G89) -> 0 | H90: =SUM(H80:H89) -> 0 | I90: =SUM(I80:I89) -> 0 | J90: =SUM(J80:J89) -> 0 | K90: =SUM(K80:K89) -> 1 | L90: =SUM(L80:L89) -> 0 | ... AD90: =SUM(AD80:AD89) -> 1
A91: 04301-OVALLE | B91: 105315-CES. RURAL C. DE TAMAYA | E91: =IFERROR(VLOOKUP($B91,'[4]NUM3.1'!$H$3:$P$104,2,FALSE),0) -> 0 | F91: =IFERROR(VLOOKUP($B91,'[4]NUM3.1'!$H$3:$P$104,3,FALSE),0) -> 1 | G91: =IFERROR(VLOOKUP($B91,'[4]NUM3.1'!$H$3:$P$104,4,FALSE),0) -> 0 | H91: =IFERROR(VLOOKUP($B91,'[4]NUM3.1'!$H$3:$P$104,5,FALSE),0) -> 0 | I91: =IFERROR(VLOOKUP($B91,'[4]NUM3.1'!$H$3:$P$104,6,FALSE),0) -> 0 | J91: =IFERROR(VLOOKUP($B91,'[4]NUM3.1'!$H$3:$P$104,7,FALSE),0) -> 2 | K91: =IFERROR(VLOOKUP($B91,'[4]NUM3.1'!$H$3:$P$104,8,FALSE),0) -> 1 | Q91: =SUM(E91:P91) -> 4 | R91: =IFERROR(VLOOKUP($B91,'[4]DEN3.1'!$H$3:$P$104,2,FALSE),0) -> 0 | S91: =IFERROR(VLOOKUP($B91,'[4]DEN3.1'!$H$3:$P$104,3,FALSE),0) -> 1 | T91: =IFERROR(VLOOKUP($B91,'[4]DEN3.1'!$H$3:$P$104,4,FALSE),0) -> 0 | U91: =IFERROR(VLOOKUP($B91,'[4]DEN3.1'!$H$3:$P$104,5,FALSE),0) -> 0 | V91: =IFERROR(VLOOKUP($B91,'[4]DEN3.1'!$H$3:$P$104,6,FALSE),0) -> 0 | W91: =IFERROR(VLOOKUP($B91,'[4]DEN3.1'!$H$3:$P$104,7,FALSE),0) -> 2 | X91: =IFERROR(VLOOKUP($B91,'[4]DEN3.1'!$H$3:$P$104,8,FALSE),0) -> 1 | AD91: =SUM(R91:AC91) -> 4
A92: 04301-OVALLE | B92: 105317-CES. JORGE JORDAN D. | E92: =IFERROR(VLOOKUP($B92,'[4]NUM3.1'!$H$3:$P$104,2,FALSE),0) -> 12 | F92: =IFERROR(VLOOKUP($B92,'[4]NUM3.1'!$H$3:$P$104,3,FALSE),0) -> 13 | G92: =IFERROR(VLOOKUP($B92,'[4]NUM3.1'!$H$3:$P$104,4,FALSE),0) -> 6 | H92: =IFERROR(VLOOKUP($B92,'[4]NUM3.1'!$H$3:$P$104,5,FALSE),0) -> 3 | I92: =IFERROR(VLOOKUP($B92,'[4]NUM3.1'!$H$3:$P$104,6,FALSE),0) -> 8 | J92: =IFERROR(VLOOKUP($B92,'[4]NUM3.1'!$H$3:$P$104,7,FALSE),0) -> 7 | K92: =IFERROR(VLOOKUP($B92,'[4]NUM3.1'!$H$3:$P$104,8,FALSE),0) -> 9 | Q92: =SUM(E92:P92) -> 58 | R92: =IFERROR(VLOOKUP($B92,'[4]DEN3.1'!$H$3:$P$104,2,FALSE),0) -> 12 | S92: =IFERROR(VLOOKUP($B92,'[4]DEN3.1'!$H$3:$P$104,3,FALSE),0) -> 13 | T92: =IFERROR(VLOOKUP($B92,'[4]DEN3.1'!$H$3:$P$104,4,FALSE),0) -> 6 | U92: =IFERROR(VLOOKUP($B92,'[4]DEN3.1'!$H$3:$P$104,5,FALSE),0) -> 3 | V92: =IFERROR(VLOOKUP($B92,'[4]DEN3.1'!$H$3:$P$104,6,FALSE),0) -> 8 | W92: =IFERROR(VLOOKUP($B92,'[4]DEN3.1'!$H$3:$P$104,7,FALSE),0) -> 7 | X92: =IFERROR(VLOOKUP($B92,'[4]DEN3.1'!$H$3:$P$104,8,FALSE),0) -> 9 | AD92: =SUM(R92:AC92) -> 58
A93: 04301-OVALLE | B93: 105322-CES. MARCOS MACUADA | E93: =IFERROR(VLOOKUP($B93,'[4]NUM3.1'!$H$3:$P$104,2,FALSE),0) -> 7 | F93: =IFERROR(VLOOKUP($B93,'[4]NUM3.1'!$H$3:$P$104,3,FALSE),0) -> 8 | G93: =IFERROR(VLOOKUP($B93,'[4]NUM3.1'!$H$3:$P$104,4,FALSE),0) -> 7 | H93: =IFERROR(VLOOKUP($B93,'[4]NUM3.1'!$H$3:$P$104,5,FALSE),0) -> 4 | I93: =IFERROR(VLOOKUP($B93,'[4]NUM3.1'!$H$3:$P$104,6,FALSE),0) -> 9 | J93: =IFERROR(VLOOKUP($B93,'[4]NUM3.1'!$H$3:$P$104,7,FALSE),0) -> 4 | K93: =IFERROR(VLOOKUP($B93,'[4]NUM3.1'!$H$3:$P$104,8,FALSE),0) -> 6 | Q93: =SUM(E93:P93) -> 45 | R93: =IFERROR(VLOOKUP($B93,'[4]DEN3.1'!$H$3:$P$104,2,FALSE),0) -> 7 | S93: =IFERROR(VLOOKUP($B93,'[4]DEN3.1'!$H$3:$P$104,3,FALSE),0) -> 8 | T93: =IFERROR(VLOOKUP($B93,'[4]DEN3.1'!$H$3:$P$104,4,FALSE),0) -> 7 | U93: =IFERROR(VLOOKUP($B93,'[4]DEN3.1'!$H$3:$P$104,5,FALSE),0) -> 4 | V93: =IFERROR(VLOOKUP($B93,'[4]DEN3.1'!$H$3:$P$104,6,FALSE),0) -> 9 | W93: =IFERROR(VLOOKUP($B93,'[4]DEN3.1'!$H$3:$P$104,7,FALSE),0) -> 4 | X93: =IFERROR(VLOOKUP($B93,'[4]DEN3.1'!$H$3:$P$104,8,FALSE),0) -> 6 | AD93: =SUM(R93:AC93) -> 45
A94: 04301-OVALLE | B94: 105324-CES. SOTAQUI | E94: =IFERROR(VLOOKUP($B94,'[4]NUM3.1'!$H$3:$P$104,2,FALSE),0) -> 0 | F94: =IFERROR(VLOOKUP($B94,'[4]NUM3.1'!$H$3:$P$104,3,FALSE),0) -> 0 | G94: =IFERROR(VLOOKUP($B94,'[4]NUM3.1'!$H$3:$P$104,4,FALSE),0) -> 0 | H94: =IFERROR(VLOOKUP($B94,'[4]NUM3.1'!$H$3:$P$104,5,FALSE),0) -> 2 | I94: =IFERROR(VLOOKUP($B94,'[4]NUM3.1'!$H$3:$P$104,6,FALSE),0) -> 2 | J94: =IFERROR(VLOOKUP($B94,'[4]NUM3.1'!$H$3:$P$104,7,FALSE),0) -> 1 | K94: =IFERROR(VLOOKUP($B94,'[4]NUM3.1'!$H$3:$P$104,8,FALSE),0) -> 2 | Q94: =SUM(E94:P94) -> 7 | R94: =IFERROR(VLOOKUP($B94,'[4]DEN3.1'!$H$3:$P$104,2,FALSE),0) -> 0 | S94: =IFERROR(VLOOKUP($B94,'[4]DEN3.1'!$H$3:$P$104,3,FALSE),0) -> 0 | T94: =IFERROR(VLOOKUP($B94,'[4]DEN3.1'!$H$3:$P$104,4,FALSE),0) -> 0 | U94: =IFERROR(VLOOKUP($B94,'[4]DEN3.1'!$H$3:$P$104,5,FALSE),0) -> 2 | V94: =IFERROR(VLOOKUP($B94,'[4]DEN3.1'!$H$3:$P$104,6,FALSE),0) -> 2 | W94: =IFERROR(VLOOKUP($B94,'[4]DEN3.1'!$H$3:$P$104,7,FALSE),0) -> 1 | X94: =IFERROR(VLOOKUP($B94,'[4]DEN3.1'!$H$3:$P$104,8,FALSE),0) -> 2 | AD94: =SUM(R94:AC94) -> 7
A95: 04301-OVALLE | B95: 105415-P.S.R. BARRAZA | E95: =IFERROR(VLOOKUP($B95,'[4]NUM3.1'!$H$3:$P$104,2,FALSE),0) -> 0 | F95: =IFERROR(VLOOKUP($B95,'[4]NUM3.1'!$H$3:$P$104,3,FALSE),0) -> 0 | G95: =IFERROR(VLOOKUP($B95,'[4]NUM3.1'!$H$3:$P$104,4,FALSE),0) -> 0 | H95: =IFERROR(VLOOKUP($B95,'[4]NUM3.1'!$H$3:$P$104,5,FALSE),0) -> 0 | I95: =IFERROR(VLOOKUP($B95,'[4]NUM3.1'!$H$3:$P$104,6,FALSE),0) -> 0 | J95: =IFERROR(VLOOKUP($B95,'[4]NUM3.1'!$H$3:$P$104,7,FALSE),0) -> 0 | K95: =IFERROR(VLOOKUP($B95,'[4]NUM3.1'!$H$3:$P$104,8,FALSE),0) -> 0 | Q95: =SUM(E95:P95) -> 0 | R95: =IFERROR(VLOOKUP($B95,'[4]DEN3.1'!$H$3:$P$104,2,FALSE),0) -> 0 | S95: =IFERROR(VLOOKUP($B95,'[4]DEN3.1'!$H$3:$P$104,3,FALSE),0) -> 0 | T95: =IFERROR(VLOOKUP($B95,'[4]DEN3.1'!$H$3:$P$104,4,FALSE),0) -> 0 | U95: =IFERROR(VLOOKUP($B95,'[4]DEN3.1'!$H$3:$P$104,5,FALSE),0) -> 0 | V95: =IFERROR(VLOOKUP($B95,'[4]DEN3.1'!$H$3:$P$104,6,FALSE),0) -> 0 | W95: =IFERROR(VLOOKUP($B95,'[4]DEN3.1'!$H$3:$P$104,7,FALSE),0) -> 0 | X95: =IFERROR(VLOOKUP($B95,'[4]DEN3.1'!$H$3:$P$104,8,FALSE),0) -> 0 | AD95: =SUM(R95:AC95) -> 0
A96: 04301-OVALLE | B96: 105416-P.S.R. CAMARICO | E96: =IFERROR(VLOOKUP($B96,'[4]NUM3.1'!$H$3:$P$104,2,FALSE),0) -> 0 | F96: =IFERROR(VLOOKUP($B96,'[4]NUM3.1'!$H$3:$P$104,3,FALSE),0) -> 0 | G96: =IFERROR(VLOOKUP($B96,'[4]NUM3.1'!$H$3:$P$104,4,FALSE),0) -> 0 | H96: =IFERROR(VLOOKUP($B96,'[4]NUM3.1'!$H$3:$P$104,5,FALSE),0) -> 0 | I96: =IFERROR(VLOOKUP($B96,'[4]NUM3.1'!$H$3:$P$104,6,FALSE),0) -> 0 | J96: =IFERROR(VLOOKUP($B96,'[4]NUM3.1'!$H$3:$P$104,7,FALSE),0) -> 0 | K96: =IFERROR(VLOOKUP($B96,'[4]NUM3.1'!$H$3:$P$104,8,FALSE),0) -> 0 | Q96: =SUM(E96:P96) -> 0 | R96: =IFERROR(VLOOKUP($B96,'[4]DEN3.1'!$H$3:$P$104,2,FALSE),0) -> 0 | S96: =IFERROR(VLOOKUP($B96,'[4]DEN3.1'!$H$3:$P$104,3,FALSE),0) -> 0 | T96: =IFERROR(VLOOKUP($B96,'[4]DEN3.1'!$H$3:$P$104,4,FALSE),0) -> 0 | U96: =IFERROR(VLOOKUP($B96,'[4]DEN3.1'!$H$3:$P$104,5,FALSE),0) -> 0 | V96: =IFERROR(VLOOKUP($B96,'[4]DEN3.1'!$H$3:$P$104,6,FALSE),0) -> 0 | W96: =IFERROR(VLOOKUP($B96,'[4]DEN3.1'!$H$3:$P$104,7,FALSE),0) -> 0 | X96: =IFERROR(VLOOKUP($B96,'[4]DEN3.1'!$H$3:$P$104,8,FALSE),0) -> 0 | AD96: =SUM(R96:AC96) -> 0
A97: 04301-OVALLE | B97: 105417-P.S.R. ALCONES BAJOS | E97: =IFERROR(VLOOKUP($B97,'[4]NUM3.1'!$H$3:$P$104,2,FALSE),0) -> 0 | F97: =IFERROR(VLOOKUP($B97,'[4]NUM3.1'!$H$3:$P$104,3,FALSE),0) -> 0 | G97: =IFERROR(VLOOKUP($B97,'[4]NUM3.1'!$H$3:$P$104,4,FALSE),0) -> 0 | H97: =IFERROR(VLOOKUP($B97,'[4]NUM3.1'!$H$3:$P$104,5,FALSE),0) -> 0 | I97: =IFERROR(VLOOKUP($B97,'[4]NUM3.1'!$H$3:$P$104,6,FALSE),0) -> 0 | J97: =IFERROR(VLOOKUP($B97,'[4]NUM3.1'!$H$3:$P$104,7,FALSE),0) -> 0 | K97: =IFERROR(VLOOKUP($B97,'[4]NUM3.1'!$H$3:$P$104,8,FALSE),0) -> 0 | Q97: =SUM(E97:P97) -> 0 | R97: =IFERROR(VLOOKUP($B97,'[4]DEN3.1'!$H$3:$P$104,2,FALSE),0) -> 0 | S97: =IFERROR(VLOOKUP($B97,'[4]DEN3.1'!$H$3:$P$104,3,FALSE),0) -> 0 | T97: =IFERROR(VLOOKUP($B97,'[4]DEN3.1'!$H$3:$P$104,4,FALSE),0) -> 0 | U97: =IFERROR(VLOOKUP($B97,'[4]DEN3.1'!$H$3:$P$104,5,FALSE),0) -> 0 | V97: =IFERROR(VLOOKUP($B97,'[4]DEN3.1'!$H$3:$P$104,6,FALSE),0) -> 0 | W97: =IFERROR(VLOOKUP($B97,'[4]DEN3.1'!$H$3:$P$104,7,FALSE),0) -> 0 | X97: =IFERROR(VLOOKUP($B97,'[4]DEN3.1'!$H$3:$P$104,8,FALSE),0) -> 0 | AD97: =SUM(R97:AC97) -> 0
A98: 04301-OVALLE | B98: 105419-P.S.R. LAS SOSSAS | E98: =IFERROR(VLOOKUP($B98,'[4]NUM3.1'!$H$3:$P$104,2,FALSE),0) -> 0 | F98: =IFERROR(VLOOKUP($B98,'[4]NUM3.1'!$H$3:$P$104,3,FALSE),0) -> 0 | G98: =IFERROR(VLOOKUP($B98,'[4]NUM3.1'!$H$3:$P$104,4,FALSE),0) -> 0 | H98: =IFERROR(VLOOKUP($B98,'[4]NUM3.1'!$H$3:$P$104,5,FALSE),0) -> 0 | I98: =IFERROR(VLOOKUP($B98,'[4]NUM3.1'!$H$3:$P$104,6,FALSE),0) -> 0 | J98: =IFERROR(VLOOKUP($B98,'[4]NUM3.1'!$H$3:$P$104,7,FALSE),0) -> 0 | K98: =IFERROR(VLOOKUP($B98,'[4]NUM3.1'!$H$3:$P$104,8,FALSE),0) -> 0 | Q98: =SUM(E98:P98) -> 0 | R98: =IFERROR(VLOOKUP($B98,'[4]DEN3.1'!$H$3:$P$104,2,FALSE),0) -> 0 | S98: =IFERROR(VLOOKUP($B98,'[4]DEN3.1'!$H$3:$P$104,3,FALSE),0) -> 0 | T98: =IFERROR(VLOOKUP($B98,'[4]DEN3.1'!$H$3:$P$104,4,FALSE),0) -> 0 | U98: =IFERROR(VLOOKUP($B98,'[4]DEN3.1'!$H$3:$P$104,5,FALSE),0) -> 0 | V98: =IFERROR(VLOOKUP($B98,'[4]DEN3.1'!$H$3:$P$104,6,FALSE),0) -> 0 | W98: =IFERROR(VLOOKUP($B98,'[4]DEN3.1'!$H$3:$P$104,7,FALSE),0) -> 0 | X98: =IFERROR(VLOOKUP($B98,'[4]DEN3.1'!$H$3:$P$104,8,FALSE),0) -> 0 | AD98: =SUM(R98:AC98) -> 0
A99: 04301-OVALLE | B99: 105420-P.S.R. LIMARI | E99: =IFERROR(VLOOKUP($B99,'[4]NUM3.1'!$H$3:$P$104,2,FALSE),0) -> 0 | F99: =IFERROR(VLOOKUP($B99,'[4]NUM3.1'!$H$3:$P$104,3,FALSE),0) -> 0 | G99: =IFERROR(VLOOKUP($B99,'[4]NUM3.1'!$H$3:$P$104,4,FALSE),0) -> 0 | H99: =IFERROR(VLOOKUP($B99,'[4]NUM3.1'!$H$3:$P$104,5,FALSE),0) -> 0 | I99: =IFERROR(VLOOKUP($B99,'[4]NUM3.1'!$H$3:$P$104,6,FALSE),0) -> 0 | J99: =IFERROR(VLOOKUP($B99,'[4]NUM3.1'!$H$3:$P$104,7,FALSE),0) -> 0 | K99: =IFERROR(VLOOKUP($B99,'[4]NUM3.1'!$H$3:$P$104,8,FALSE),0) -> 0 | Q99: =SUM(E99:P99) -> 0 | R99: =IFERROR(VLOOKUP($B99,'[4]DEN3.1'!$H$3:$P$104,2,FALSE),0) -> 0 | S99: =IFERROR(VLOOKUP($B99,'[4]DEN3.1'!$H$3:$P$104,3,FALSE),0) -> 0 | T99: =IFERROR(VLOOKUP($B99,'[4]DEN3.1'!$H$3:$P$104,4,FALSE),0) -> 0 | U99: =IFERROR(VLOOKUP($B99,'[4]DEN3.1'!$H$3:$P$104,5,FALSE),0) -> 0 | V99: =IFERROR(VLOOKUP($B99,'[4]DEN3.1'!$H$3:$P$104,6,FALSE),0) -> 0 | W99: =IFERROR(VLOOKUP($B99,'[4]DEN3.1'!$H$3:$P$104,7,FALSE),0) -> 0 | X99: =IFERROR(VLOOKUP($B99,'[4]DEN3.1'!$H$3:$P$104,8,FALSE),0) -> 0 | AD99: =SUM(R99:AC99) -> 0
A100: 04301-OVALLE | B100: 105422-P.S.R. HORNILLOS | E100: =IFERROR(VLOOKUP($B100,'[4]NUM3.1'!$H$3:$P$104,2,FALSE),0) -> 0 | F100: =IFERROR(VLOOKUP($B100,'[4]NUM3.1'!$H$3:$P$104,3,FALSE),0) -> 0 | G100: =IFERROR(VLOOKUP($B100,'[4]NUM3.1'!$H$3:$P$104,4,FALSE),0) -> 0 | H100: =IFERROR(VLOOKUP($B100,'[4]NUM3.1'!$H$3:$P$104,5,FALSE),0) -> 0 | I100: =IFERROR(VLOOKUP($B100,'[4]NUM3.1'!$H$3:$P$104,6,FALSE),0) -> 0 | J100: =IFERROR(VLOOKUP($B100,'[4]NUM3.1'!$H$3:$P$104,7,FALSE),0) -> 0 | K100: =IFERROR(VLOOKUP($B100,'[4]NUM3.1'!$H$3:$P$104,8,FALSE),0) -> 0 | Q100: =SUM(E100:P100) -> 0 | R100: =IFERROR(VLOOKUP($B100,'[4]DEN3.1'!$H$3:$P$104,2,FALSE),0) -> 0 | S100: =IFERROR(VLOOKUP($B100,'[4]DEN3.1'!$H$3:$P$104,3,FALSE),0) -> 0 | T100: =IFERROR(VLOOKUP($B100,'[4]DEN3.1'!$H$3:$P$104,4,FALSE),0) -> 0 | U100: =IFERROR(VLOOKUP($B100,'[4]DEN3.1'!$H$3:$P$104,5,FALSE),0) -> 0 | V100: =IFERROR(VLOOKUP($B100,'[4]DEN3.1'!$H$3:$P$104,6,FALSE),0) -> 0 | W100: =IFERROR(VLOOKUP($B100,'[4]DEN3.1'!$H$3:$P$104,7,FALSE),0) -> 0 | X100: =IFERROR(VLOOKUP($B100,'[4]DEN3.1'!$H$3:$P$104,8,FALSE),0) -> 0 | AD100: =SUM(R100:AC100) -> 0
A101: 04301-OVALLE | B101: 105437-P.S.R. CHALINGA | E101: =IFERROR(VLOOKUP($B101,'[4]NUM3.1'!$H$3:$P$104,2,FALSE),0) -> 0 | F101: =IFERROR(VLOOKUP($B101,'[4]NUM3.1'!$H$3:$P$104,3,FALSE),0) -> 0 | G101: =IFERROR(VLOOKUP($B101,'[4]NUM3.1'!$H$3:$P$104,4,FALSE),0) -> 0 | H101: =IFERROR(VLOOKUP($B101,'[4]NUM3.1'!$H$3:$P$104,5,FALSE),0) -> 0 | I101: =IFERROR(VLOOKUP($B101,'[4]NUM3.1'!$H$3:$P$104,6,FALSE),0) -> 0 | J101: =IFERROR(VLOOKUP($B101,'[4]NUM3.1'!$H$3:$P$104,7,FALSE),0) -> 0 | K101: =IFERROR(VLOOKUP($B101,'[4]NUM3.1'!$H$3:$P$104,8,FALSE),0) -> 0 | Q101: =SUM(E101:P101) -> 0 | R101: =IFERROR(VLOOKUP($B101,'[4]DEN3.1'!$H$3:$P$104,2,FALSE),0) -> 0 | S101: =IFERROR(VLOOKUP($B101,'[4]DEN3.1'!$H$3:$P$104,3,FALSE),0) -> 0 | T101: =IFERROR(VLOOKUP($B101,'[4]DEN3.1'!$H$3:$P$104,4,FALSE),0) -> 0 | U101: =IFERROR(VLOOKUP($B101,'[4]DEN3.1'!$H$3:$P$104,5,FALSE),0) -> 0 | V101: =IFERROR(VLOOKUP($B101,'[4]DEN3.1'!$H$3:$P$104,6,FALSE),0) -> 0 | W101: =IFERROR(VLOOKUP($B101,'[4]DEN3.1'!$H$3:$P$104,7,FALSE),0) -> 0 | X101: =IFERROR(VLOOKUP($B101,'[4]DEN3.1'!$H$3:$P$104,8,FALSE),0) -> 0 | AD101: =SUM(R101:AC101) -> 0
A102: 04301-OVALLE | B102: 105439-P.S.R. CERRO BLANCO | E102: =IFERROR(VLOOKUP($B102,'[4]NUM3.1'!$H$3:$P$104,2,FALSE),0) -> 0 | F102: =IFERROR(VLOOKUP($B102,'[4]NUM3.1'!$H$3:$P$104,3,FALSE),0) -> 0 | G102: =IFERROR(VLOOKUP($B102,'[4]NUM3.1'!$H$3:$P$104,4,FALSE),0) -> 0 | H102: =IFERROR(VLOOKUP($B102,'[4]NUM3.1'!$H$3:$P$104,5,FALSE),0) -> 0 | I102: =IFERROR(VLOOKUP($B102,'[4]NUM3.1'!$H$3:$P$104,6,FALSE),0) -> 0 | J102: =IFERROR(VLOOKUP($B102,'[4]NUM3.1'!$H$3:$P$104,7,FALSE),0) -> 0 | K102: =IFERROR(VLOOKUP($B102,'[4]NUM3.1'!$H$3:$P$104,8,FALSE),0) -> 0 | Q102: =SUM(E102:P102) -> 0 | R102: =IFERROR(VLOOKUP($B102,'[4]DEN3.1'!$H$3:$P$104,2,FALSE),0) -> 0 | S102: =IFERROR(VLOOKUP($B102,'[4]DEN3.1'!$H$3:$P$104,3,FALSE),0) -> 0 | T102: =IFERROR(VLOOKUP($B102,'[4]DEN3.1'!$H$3:$P$104,4,FALSE),0) -> 0 | U102: =IFERROR(VLOOKUP($B102,'[4]DEN3.1'!$H$3:$P$104,5,FALSE),0) -> 0 | V102: =IFERROR(VLOOKUP($B102,'[4]DEN3.1'!$H$3:$P$104,6,FALSE),0) -> 0 | W102: =IFERROR(VLOOKUP($B102,'[4]DEN3.1'!$H$3:$P$104,7,FALSE),0) -> 0 | X102: =IFERROR(VLOOKUP($B102,'[4]DEN3.1'!$H$3:$P$104,8,FALSE),0) -> 0 | AD102: =SUM(R102:AC102) -> 0
... A107: 04301-OVALLE | B107: 200258-CECOF LOS COPIHUES | E107: =IFERROR(VLOOKUP($B107,'[4]NUM3.1'!$H$3:$P$104,2,FALSE),0) -> 0 | F107: =IFERROR(VLOOKUP($B107,'[4]NUM3.1'!$H$3:$P$104,3,FALSE),0) -> 0 | G107: =IFERROR(VLOOKUP($B107,'[4]NUM3.1'!$H$3:$P$104,4,FALSE),0) -> 0 | H107: =IFERROR(VLOOKUP($B107,'[4]NUM3.1'!$H$3:$P$104,5,FALSE),0) -> 2 | I107: =IFERROR(VLOOKUP($B107,'[4]NUM3.1'!$H$3:$P$104,6,FALSE),0) -> 0 | J107: =IFERROR(VLOOKUP($B107,'[4]NUM3.1'!$H$3:$P$104,7,FALSE),0) -> 0 | K107: =IFERROR(VLOOKUP($B107,'[4]NUM3.1'!$H$3:$P$104,8,FALSE),0) -> 1 | Q107: =SUM(E107:P107) -> 3 | R107: =IFERROR(VLOOKUP($B107,'[4]DEN3.1'!$H$3:$P$104,2,FALSE),0) -> 0 | S107: =IFERROR(VLOOKUP($B107,'[4]DEN3.1'!$H$3:$P$104,3,FALSE),0) -> 0 | T107: =IFERROR(VLOOKUP($B107,'[4]DEN3.1'!$H$3:$P$104,4,FALSE),0) -> 0 | U107: =IFERROR(VLOOKUP($B107,'[4]DEN3.1'!$H$3:$P$104,5,FALSE),0) -> 2 | V107: =IFERROR(VLOOKUP($B107,'[4]DEN3.1'!$H$3:$P$104,6,FALSE),0) -> 0 | W107: =IFERROR(VLOOKUP($B107,'[4]DEN3.1'!$H$3:$P$104,7,FALSE),0) -> 0 | X107: =IFERROR(VLOOKUP($B107,'[4]DEN3.1'!$H$3:$P$104,8,FALSE),0) -> 1 | AD107: =SUM(R107:AC107) -> 3
A108: TOTAL OVALLE | C108: =+D108/Metas!H72 -> 1.0198675 | D108: =+Q108/AD108 -> 1 | E108: =SUM(E91:E107) -> 19 | F108: =SUM(F91:F107) -> 24 | G108: =SUM(G91:G107) -> 16 | H108: =SUM(H91:H107) -> 13 | I108: =SUM(I91:I107) -> 20 | J108: =SUM(J91:J107) -> 18 | K108: =SUM(K91:K107) -> 21 | L108: =SUM(L91:L107) -> 0 | ... AD108: =SUM(AD91:AD107) -> 131
A109: 04302-COMBARBALÁ | B109: 105433-P.S.R. SAN LORENZO | E109: =IFERROR(VLOOKUP($B109,'[4]NUM3.1'!$H$3:$P$104,2,FALSE),0) -> 0 | F109: =IFERROR(VLOOKUP($B109,'[4]NUM3.1'!$H$3:$P$104,3,FALSE),0) -> 0 | G109: =IFERROR(VLOOKUP($B109,'[4]NUM3.1'!$H$3:$P$104,4,FALSE),0) -> 0 | H109: =IFERROR(VLOOKUP($B109,'[4]NUM3.1'!$H$3:$P$104,5,FALSE),0) -> 0 | I109: =IFERROR(VLOOKUP($B109,'[4]NUM3.1'!$H$3:$P$104,6,FALSE),0) -> 0 | J109: =IFERROR(VLOOKUP($B109,'[4]NUM3.1'!$H$3:$P$104,7,FALSE),0) -> 0 | K109: =IFERROR(VLOOKUP($B109,'[4]NUM3.1'!$H$3:$P$104,8,FALSE),0) -> 0 | Q109: =SUM(E109:P109) -> 0 | R109: =IFERROR(VLOOKUP($B109,'[4]DEN3.1'!$H$3:$P$104,2,FALSE),0) -> 0 | S109: =IFERROR(VLOOKUP($B109,'[4]DEN3.1'!$H$3:$P$104,3,FALSE),0) -> 0 | T109: =IFERROR(VLOOKUP($B109,'[4]DEN3.1'!$H$3:$P$104,4,FALSE),0) -> 0 | U109: =IFERROR(VLOOKUP($B109,'[4]DEN3.1'!$H$3:$P$104,5,FALSE),0) -> 0 | V109: =IFERROR(VLOOKUP($B109,'[4]DEN3.1'!$H$3:$P$104,6,FALSE),0) -> 0 | W109: =IFERROR(VLOOKUP($B109,'[4]DEN3.1'!$H$3:$P$104,7,FALSE),0) -> 0 | X109: =IFERROR(VLOOKUP($B109,'[4]DEN3.1'!$H$3:$P$104,8,FALSE),0) -> 0 | AD109: =SUM(R109:AC109) -> 0
A110: 04302-COMBARBALÁ | B110: 105434-P.S.R. SAN MARCOS | E110: =IFERROR(VLOOKUP($B110,'[4]NUM3.1'!$H$3:$P$104,2,FALSE),0) -> 0 | F110: =IFERROR(VLOOKUP($B110,'[4]NUM3.1'!$H$3:$P$104,3,FALSE),0) -> 0 | G110: =IFERROR(VLOOKUP($B110,'[4]NUM3.1'!$H$3:$P$104,4,FALSE),0) -> 0 | H110: =IFERROR(VLOOKUP($B110,'[4]NUM3.1'!$H$3:$P$104,5,FALSE),0) -> 1 | I110: =IFERROR(VLOOKUP($B110,'[4]NUM3.1'!$H$3:$P$104,6,FALSE),0) -> 0 | J110: =IFERROR(VLOOKUP($B110,'[4]NUM3.1'!$H$3:$P$104,7,FALSE),0) -> 0 | K110: =IFERROR(VLOOKUP($B110,'[4]NUM3.1'!$H$3:$P$104,8,FALSE),0) -> 0 | Q110: =SUM(E110:P110) -> 1 | R110: =IFERROR(VLOOKUP($B110,'[4]DEN3.1'!$H$3:$P$104,2,FALSE),0) -> 0 | S110: =IFERROR(VLOOKUP($B110,'[4]DEN3.1'!$H$3:$P$104,3,FALSE),0) -> 0 | T110: =IFERROR(VLOOKUP($B110,'[4]DEN3.1'!$H$3:$P$104,4,FALSE),0) -> 0 | U110: =IFERROR(VLOOKUP($B110,'[4]DEN3.1'!$H$3:$P$104,5,FALSE),0) -> 1 | V110: =IFERROR(VLOOKUP($B110,'[4]DEN3.1'!$H$3:$P$104,6,FALSE),0) -> 0 | W110: =IFERROR(VLOOKUP($B110,'[4]DEN3.1'!$H$3:$P$104,7,FALSE),0) -> 0 | X110: =IFERROR(VLOOKUP($B110,'[4]DEN3.1'!$H$3:$P$104,8,FALSE),0) -> 0 | AD110: =SUM(R110:AC110) -> 1
A111: 04302-COMBARBALÁ | B111: 105441-P.S.R. MANQUEHUA | E111: =IFERROR(VLOOKUP($B111,'[4]NUM3.1'!$H$3:$P$104,2,FALSE),0) -> 0 | F111: =IFERROR(VLOOKUP($B111,'[4]NUM3.1'!$H$3:$P$104,3,FALSE),0) -> 0 | G111: =IFERROR(VLOOKUP($B111,'[4]NUM3.1'!$H$3:$P$104,4,FALSE),0) -> 0 | H111: =IFERROR(VLOOKUP($B111,'[4]NUM3.1'!$H$3:$P$104,5,FALSE),0) -> 0 | I111: =IFERROR(VLOOKUP($B111,'[4]NUM3.1'!$H$3:$P$104,6,FALSE),0) -> 0 | J111: =IFERROR(VLOOKUP($B111,'[4]NUM3.1'!$H$3:$P$104,7,FALSE),0) -> 1 | K111: =IFERROR(VLOOKUP($B111,'[4]NUM3.1'!$H$3:$P$104,8,FALSE),0) -> 0 | Q111: =SUM(E111:P111) -> 1 | R111: =IFERROR(VLOOKUP($B111,'[4]DEN3.1'!$H$3:$P$104,2,FALSE),0) -> 0 | S111: =IFERROR(VLOOKUP($B111,'[4]DEN3.1'!$H$3:$P$104,3,FALSE),0) -> 0 | T111: =IFERROR(VLOOKUP($B111,'[4]DEN3.1'!$H$3:$P$104,4,FALSE),0) -> 0 | U111: =IFERROR(VLOOKUP($B111,'[4]DEN3.1'!$H$3:$P$104,5,FALSE),0) -> 0 | V111: =IFERROR(VLOOKUP($B111,'[4]DEN3.1'!$H$3:$P$104,6,FALSE),0) -> 0 | W111: =IFERROR(VLOOKUP($B111,'[4]DEN3.1'!$H$3:$P$104,7,FALSE),0) -> 1 | X111: =IFERROR(VLOOKUP($B111,'[4]DEN3.1'!$H$3:$P$104,8,FALSE),0) -> 0 | AD111: =SUM(R111:AC111) -> 1
...

Sheet META 5 
A1: COMUNA | B1: ESTABLECIMIENTO | C1: CUMPLIMIENTO | D1: Indicador | E1: META 5: TASA DE CONSULTAS DE MORBILIDAD Y CONTROLES MEDICOS POR HABITANTE/AÑO
E2: NUMERADOR | R2: DENOMINADOR
E10: Nº de consultas de morbilidad y controles médicos realizadas | R10: Población Inscrita
D11: Resultado | E11: ENERO | F11: FEBRERO | G11: MARZO | H11: ABRIL | I11: MAYO | J11: JUNIO | K11: JULIO | L11: AGOSTO | M11: SEPBRE | N11: OCTBRE | O11: NOVBRE | P11: DICBRE | Q11: TOTAL
A12: 04101-LA SERENA | B12: 105300-CES. CARDENAL CARO | E12: =VLOOKUP($B12,[4]NUM5!$H$3:$P$177,2,FALSE) -> 1710 | F12: =VLOOKUP($B12,[4]NUM5!$H$3:$P$177,3,FALSE) -> 1894 | G12: =VLOOKUP($B12,[4]NUM5!$H$3:$P$177,4,FALSE) -> 2132 | H12: =VLOOKUP($B12,[4]NUM5!$H$3:$P$177,5,FALSE) -> 1931 | I12: =VLOOKUP($B12,[4]NUM5!$H$3:$P$177,6,FALSE) -> 1696 | J12: =VLOOKUP($B12,[4]NUM5!$H$3:$P$177,7,FALSE) -> 1679 | K12: =VLOOKUP($B12,[4]NUM5!$H$3:$P$177,8,FALSE) -> 1682 | Q12: =SUM(E12:P12) -> 12724
A13: 04101-LA SERENA | B13: 105301-CES. LAS COMPAÑIAS | E13: =VLOOKUP($B13,[4]NUM5!$H$3:$P$177,2,FALSE) -> 1864 | F13: =VLOOKUP($B13,[4]NUM5!$H$3:$P$177,3,FALSE) -> 1858 | G13: =VLOOKUP($B13,[4]NUM5!$H$3:$P$177,4,FALSE) -> 1546 | H13: =VLOOKUP($B13,[4]NUM5!$H$3:$P$177,5,FALSE) -> 1451 | I13: =VLOOKUP($B13,[4]NUM5!$H$3:$P$177,6,FALSE) -> 1724 | J13: =VLOOKUP($B13,[4]NUM5!$H$3:$P$177,7,FALSE) -> 1596 | K13: =VLOOKUP($B13,[4]NUM5!$H$3:$P$177,8,FALSE) -> 1953 | Q13: =SUM(E13:P13) -> 11992
A14: 04101-LA SERENA | B14: 105302-CES. PEDRO AGUIRRE C. | E14: =VLOOKUP($B14,[4]NUM5!$H$3:$P$177,2,FALSE) -> 1873 | F14: =VLOOKUP($B14,[4]NUM5!$H$3:$P$177,3,FALSE) -> 2128 | G14: =VLOOKUP($B14,[4]NUM5!$H$3:$P$177,4,FALSE) -> 2688 | H14: =VLOOKUP($B14,[4]NUM5!$H$3:$P$177,5,FALSE) -> 2041 | I14: =VLOOKUP($B14,[4]NUM5!$H$3:$P$177,6,FALSE) -> 2227 | J14: =VLOOKUP($B14,[4]NUM5!$H$3:$P$177,7,FALSE) -> 1983 | K14: =VLOOKUP($B14,[4]NUM5!$H$3:$P$177,8,FALSE) -> 2283 | Q14: =SUM(E14:P14) -> 15223
A15: 04101-LA SERENA | B15: 105313-CES. SCHAFFHAUSER | E15: =VLOOKUP($B15,[4]NUM5!$H$3:$P$177,2,FALSE) -> 1783 | F15: =VLOOKUP($B15,[4]NUM5!$H$3:$P$177,3,FALSE) -> 1635 | G15: =VLOOKUP($B15,[4]NUM5!$H$3:$P$177,4,FALSE) -> 1759 | H15: =VLOOKUP($B15,[4]NUM5!$H$3:$P$177,5,FALSE) -> 2228 | I15: =VLOOKUP($B15,[4]NUM5!$H$3:$P$177,6,FALSE) -> 2441 | J15: =VLOOKUP($B15,[4]NUM5!$H$3:$P$177,7,FALSE) -> 2090 | K15: =VLOOKUP($B15,[4]NUM5!$H$3:$P$177,8,FALSE) -> 1906 | Q15: =SUM(E15:P15) -> 13842
A16: 04101-LA SERENA | B16: 105319-CES. CARDENAL R.S.H. | E16: =VLOOKUP($B16,[4]NUM5!$H$3:$P$177,2,FALSE) -> 2012 | F16: =VLOOKUP($B16,[4]NUM5!$H$3:$P$177,3,FALSE) -> 2276 | G16: =VLOOKUP($B16,[4]NUM5!$H$3:$P$177,4,FALSE) -> 2657 | H16: =VLOOKUP($B16,[4]NUM5!$H$3:$P$177,5,FALSE) -> 1905 | I16: =VLOOKUP($B16,[4]NUM5!$H$3:$P$177,6,FALSE) -> 3371 | J16: =VLOOKUP($B16,[4]NUM5!$H$3:$P$177,7,FALSE) -> 3501 | K16: =VLOOKUP($B16,[4]NUM5!$H$3:$P$177,8,FALSE) -> 2758 | Q16: =SUM(E16:P16) -> 18480
A17: 04101-LA SERENA | B17: 105325-CESFAM JUAN PABLO II | E17: =VLOOKUP($B17,[4]NUM5!$H$3:$P$177,2,FALSE) -> 1556 | F17: =VLOOKUP($B17,[4]NUM5!$H$3:$P$177,3,FALSE) -> 1284 | G17: =VLOOKUP($B17,[4]NUM5!$H$3:$P$177,4,FALSE) -> 1561 | H17: =VLOOKUP($B17,[4]NUM5!$H$3:$P$177,5,FALSE) -> 1066 | I17: =VLOOKUP($B17,[4]NUM5!$H$3:$P$177,6,FALSE) -> 1705 | J17: =VLOOKUP($B17,[4]NUM5!$H$3:$P$177,7,FALSE) -> 1585 | K17: =VLOOKUP($B17,[4]NUM5!$H$3:$P$177,8,FALSE) -> 1767 | Q17: =SUM(E17:P17) -> 10524
A18: 04101-LA SERENA | B18: 105400-P.S.R. ALGARROBITO | E18: =VLOOKUP($B18,[4]NUM5!$H$3:$P$177,2,FALSE) -> 218 | F18: =VLOOKUP($B18,[4]NUM5!$H$3:$P$177,3,FALSE) -> 270 | G18: =VLOOKUP($B18,[4]NUM5!$H$3:$P$177,4,FALSE) -> 415 | H18: =VLOOKUP($B18,[4]NUM5!$H$3:$P$177,5,FALSE) -> 231 | I18: =VLOOKUP($B18,[4]NUM5!$H$3:$P$177,6,FALSE) -> 287 | J18: =VLOOKUP($B18,[4]NUM5!$H$3:$P$177,7,FALSE) -> 296 | K18: =VLOOKUP($B18,[4]NUM5!$H$3:$P$177,8,FALSE) -> 312 | Q18: =SUM(E18:P18) -> 2029
A19: 04101-LA SERENA | B19: 105401-P.S.R. LAS ROJAS | E19: =VLOOKUP($B19,[4]NUM5!$H$3:$P$177,2,FALSE) -> 27 | F19: =VLOOKUP($B19,[4]NUM5!$H$3:$P$177,3,FALSE) -> 48 | G19: =VLOOKUP($B19,[4]NUM5!$H$3:$P$177,4,FALSE) -> 61 | H19: =VLOOKUP($B19,[4]NUM5!$H$3:$P$177,5,FALSE) -> 29 | I19: =VLOOKUP($B19,[4]NUM5!$H$3:$P$177,6,FALSE) -> 42 | J19: =VLOOKUP($B19,[4]NUM5!$H$3:$P$177,7,FALSE) -> 48 | K19: =VLOOKUP($B19,[4]NUM5!$H$3:$P$177,8,FALSE) -> 50 | Q19: =SUM(E19:P19) -> 305
A20: 04101-LA SERENA | B20: 105402-P.S.R. EL ROMERO | E20: =VLOOKUP($B20,[4]NUM5!$H$3:$P$177,2,FALSE) -> 43 | F20: =VLOOKUP($B20,[4]NUM5!$H$3:$P$177,3,FALSE) -> 30 | G20: =VLOOKUP($B20,[4]NUM5!$H$3:$P$177,4,FALSE) -> 37 | H20: =VLOOKUP($B20,[4]NUM5!$H$3:$P$177,5,FALSE) -> 35 | I20: =VLOOKUP($B20,[4]NUM5!$H$3:$P$177,6,FALSE) -> 40 | J20: =VLOOKUP($B20,[4]NUM5!$H$3:$P$177,7,FALSE) -> 45 | K20: =VLOOKUP($B20,[4]NUM5!$H$3:$P$177,8,FALSE) -> 26 | Q20: =SUM(E20:P20) -> 256
A21: 04101-LA SERENA | B21: 105499-P.S.R. LAMBERT | E21: =VLOOKUP($B21,[4]NUM5!$H$3:$P$177,2,FALSE) -> 34 | F21: =VLOOKUP($B21,[4]NUM5!$H$3:$P$177,3,FALSE) -> 43 | G21: =VLOOKUP($B21,[4]NUM5!$H$3:$P$177,4,FALSE) -> 70 | H21: =VLOOKUP($B21,[4]NUM5!$H$3:$P$177,5,FALSE) -> 49 | I21: =VLOOKUP($B21,[4]NUM5!$H$3:$P$177,6,FALSE) -> 19 | J21: =VLOOKUP($B21,[4]NUM5!$H$3:$P$177,7,FALSE) -> 45 | K21: =VLOOKUP($B21,[4]NUM5!$H$3:$P$177,8,FALSE) -> 48 | Q21: =SUM(E21:P21) -> 308
A22: 04101-LA SERENA | B22: 105700-CECOF VILLA EL INDIO | E22: =VLOOKUP($B22,[4]NUM5!$H$3:$P$177,2,FALSE) -> 470 | F22: =VLOOKUP($B22,[4]NUM5!$H$3:$P$177,3,FALSE) -> 447 | G22: =VLOOKUP($B22,[4]NUM5!$H$3:$P$177,4,FALSE) -> 459 | H22: =VLOOKUP($B22,[4]NUM5!$H$3:$P$177,5,FALSE) -> 331 | I22: =VLOOKUP($B22,[4]NUM5!$H$3:$P$177,6,FALSE) -> 308 | J22: =VLOOKUP($B22,[4]NUM5!$H$3:$P$177,7,FALSE) -> 377 | K22: =VLOOKUP($B22,[4]NUM5!$H$3:$P$177,8,FALSE) -> 311 | Q22: =SUM(E22:P22) -> 2703
A23: 04101-LA SERENA | B23: 105701-CECOF VILLA ALEMANIA | E23: =VLOOKUP($B23,[4]NUM5!$H$3:$P$177,2,FALSE) -> 119 | F23: =VLOOKUP($B23,[4]NUM5!$H$3:$P$177,3,FALSE) -> 52 | G23: =VLOOKUP($B23,[4]NUM5!$H$3:$P$177,4,FALSE) -> 153 | H23: =VLOOKUP($B23,[4]NUM5!$H$3:$P$177,5,FALSE) -> 93 | I23: =VLOOKUP($B23,[4]NUM5!$H$3:$P$177,6,FALSE) -> 159 | J23: =VLOOKUP($B23,[4]NUM5!$H$3:$P$177,7,FALSE) -> 95 | K23: =VLOOKUP($B23,[4]NUM5!$H$3:$P$177,8,FALSE) -> 93 | Q23: =SUM(E23:P23) -> 764
A24: 04101-LA SERENA | B24: 105702-CECOF VILLA LAMBERT | E24: =VLOOKUP($B24,[4]NUM5!$H$3:$P$177,2,FALSE) -> 285 | F24: =VLOOKUP($B24,[4]NUM5!$H$3:$P$177,3,FALSE) -> 210 | G24: =VLOOKUP($B24,[4]NUM5!$H$3:$P$177,4,FALSE) -> 333 | H24: =VLOOKUP($B24,[4]NUM5!$H$3:$P$177,5,FALSE) -> 197 | I24: =VLOOKUP($B24,[4]NUM5!$H$3:$P$177,6,FALSE) -> 172 | J24: =VLOOKUP($B24,[4]NUM5!$H$3:$P$177,7,FALSE) -> 195 | K24: =VLOOKUP($B24,[4]NUM5!$H$3:$P$177,8,FALSE) -> 192 | Q24: =SUM(E24:P24) -> 1584
A25: TOTAL LA SERENA | C25: =+D25/Metas!I69 -> 1.2602032 | D25: =+Q25/R25 -> 0.47257784 | E25: =SUM(E12:E24) -> 11994 | F25: =SUM(F12:F24) -> 12175 | G25: =SUM(G12:G24) -> 13871 | H25: =SUM(H12:H24) -> 11587 | I25: =SUM(I12:I24) -> 14191 | J25: =SUM(J12:J24) -> 13535 | K25: =SUM(K12:K24) -> 13381 | L25: =SUM(L12:L24) -> 0 | ... Q25: =SUM(Q12:Q24) -> 90734 | R25: 191998
A26: 04102-COQUIMBO | B26: 105303-CES. SAN JUAN | E26: =VLOOKUP($B26,[4]NUM5!$H$3:$P$177,2,FALSE) -> 2231 | F26: =VLOOKUP($B26,[4]NUM5!$H$3:$P$177,3,FALSE) -> 2159 | G26: =VLOOKUP($B26,[4]NUM5!$H$3:$P$177,4,FALSE) -> 2916 | H26: =VLOOKUP($B26,[4]NUM5!$H$3:$P$177,5,FALSE) -> 2246 | I26: =VLOOKUP($B26,[4]NUM5!$H$3:$P$177,6,FALSE) -> 2967 | J26: =VLOOKUP($B26,[4]NUM5!$H$3:$P$177,7,FALSE) -> 2872 | K26: =VLOOKUP($B26,[4]NUM5!$H$3:$P$177,8,FALSE) -> 2754 | Q26: =SUM(E26:P26) -> 18145
A27: 04102-COQUIMBO | B27: 105304-CES. SANTA CECILIA | E27: =VLOOKUP($B27,[4]NUM5!$H$3:$P$177,2,FALSE) -> 3402 | F27: =VLOOKUP($B27,[4]NUM5!$H$3:$P$177,3,FALSE) -> 2581 | G27: =VLOOKUP($B27,[4]NUM5!$H$3:$P$177,4,FALSE) -> 2755 | H27: =VLOOKUP($B27,[4]NUM5!$H$3:$P$177,5,FALSE) -> 2531 | I27: =VLOOKUP($B27,[4]NUM5!$H$3:$P$177,6,FALSE) -> 3319 | J27: =VLOOKUP($B27,[4]NUM5!$H$3:$P$177,7,FALSE) -> 3148 | K27: =VLOOKUP($B27,[4]NUM5!$H$3:$P$177,8,FALSE) -> 3412 | Q27: =SUM(E27:P27) -> 21148
A28: 04102-COQUIMBO | B28: 105305-CES. TIERRAS BLANCAS | E28: =VLOOKUP($B28,[4]NUM5!$H$3:$P$177,2,FALSE) -> 4261 | F28: =VLOOKUP($B28,[4]NUM5!$H$3:$P$177,3,FALSE) -> 3637 | G28: =VLOOKUP($B28,[4]NUM5!$H$3:$P$177,4,FALSE) -> 4783 | H28: =VLOOKUP($B28,[4]NUM5!$H$3:$P$177,5,FALSE) -> 4830 | I28: =VLOOKUP($B28,[4]NUM5!$H$3:$P$177,6,FALSE) -> 4261 | J28: =VLOOKUP($B28,[4]NUM5!$H$3:$P$177,7,FALSE) -> 3861 | K28: =VLOOKUP($B28,[4]NUM5!$H$3:$P$177,8,FALSE) -> 3901 | Q28: =SUM(E28:P28) -> 29534
A29: 04102-COQUIMBO | B29: 105321-CES. RURAL TONGOY | E29: =VLOOKUP($B29,[4]NUM5!$H$3:$P$177,2,FALSE) -> 680 | F29: =VLOOKUP($B29,[4]NUM5!$H$3:$P$177,3,FALSE) -> 646 | G29: =VLOOKUP($B29,[4]NUM5!$H$3:$P$177,4,FALSE) -> 870 | H29: =VLOOKUP($B29,[4]NUM5!$H$3:$P$177,5,FALSE) -> 613 | I29: =VLOOKUP($B29,[4]NUM5!$H$3:$P$177,6,FALSE) -> 729 | J29: =VLOOKUP($B29,[4]NUM5!$H$3:$P$177,7,FALSE) -> 847 | K29: =VLOOKUP($B29,[4]NUM5!$H$3:$P$177,8,FALSE) -> 767 | Q29: =SUM(E29:P29) -> 5152
A30: 04102-COQUIMBO | B30: 105323-CES. DR. SERGIO AGUILAR | E30: =VLOOKUP($B30,[4]NUM5!$H$3:$P$177,2,FALSE) -> 3297 | F30: =VLOOKUP($B30,[4]NUM5!$H$3:$P$177,3,FALSE) -> 3021 | G30: =VLOOKUP($B30,[4]NUM5!$H$3:$P$177,4,FALSE) -> 3082 | H30: =VLOOKUP($B30,[4]NUM5!$H$3:$P$177,5,FALSE) -> 2307 | I30: =VLOOKUP($B30,[4]NUM5!$H$3:$P$177,6,FALSE) -> 3303 | J30: =VLOOKUP($B30,[4]NUM5!$H$3:$P$177,7,FALSE) -> 3608 | K30: =VLOOKUP($B30,[4]NUM5!$H$3:$P$177,8,FALSE) -> 3345 | Q30: =SUM(E30:P30) -> 21963
A31: 04102-COQUIMBO | B31: 105404-P.S.R. EL TANGUE | E31: =VLOOKUP($B31,[4]NUM5!$H$3:$P$177,2,FALSE) -> 14 | F31: =VLOOKUP($B31,[4]NUM5!$H$3:$P$177,3,FALSE) -> 12 | G31: =VLOOKUP($B31,[4]NUM5!$H$3:$P$177,4,FALSE) -> 20 | H31: =VLOOKUP($B31,[4]NUM5!$H$3:$P$177,5,FALSE) -> 0 | I31: =VLOOKUP($B31,[4]NUM5!$H$3:$P$177,6,FALSE) -> 17 | J31: =VLOOKUP($B31,[4]NUM5!$H$3:$P$177,7,FALSE) -> 15 | K31: =VLOOKUP($B31,[4]NUM5!$H$3:$P$177,8,FALSE) -> 4 | Q31: =SUM(E31:P31) -> 82
A32: 04102-COQUIMBO | B32: 105405-P.S.R. GUANAQUEROS | E32: =VLOOKUP($B32,[4]NUM5!$H$3:$P$177,2,FALSE) -> 271 | F32: =VLOOKUP($B32,[4]NUM5!$H$3:$P$177,3,FALSE) -> 203 | G32: =VLOOKUP($B32,[4]NUM5!$H$3:$P$177,4,FALSE) -> 239 | H32: =VLOOKUP($B32,[4]NUM5!$H$3:$P$177,5,FALSE) -> 187 | I32: =VLOOKUP($B32,[4]NUM5!$H$3:$P$177,6,FALSE) -> 199 | J32: =VLOOKUP($B32,[4]NUM5!$H$3:$P$177,7,FALSE) -> 233 | K32: =VLOOKUP($B32,[4]NUM5!$H$3:$P$177,8,FALSE) -> 171 | Q32: =SUM(E32:P32) -> 1503
A33: 04102-COQUIMBO | B33: 105406-P.S.R. PAN DE AZUCAR | E33: =VLOOKUP($B33,[4]NUM5!$H$3:$P$177,2,FALSE) -> 680 | F33: =VLOOKUP($B33,[4]NUM5!$H$3:$P$177,3,FALSE) -> 592 | G33: =VLOOKUP($B33,[4]NUM5!$H$3:$P$177,4,FALSE) -> 661 | H33: =VLOOKUP($B33,[4]NUM5!$H$3:$P$177,5,FALSE) -> 517 | I33: =VLOOKUP($B33,[4]NUM5!$H$3:$P$177,6,FALSE) -> 1086 | J33: =VLOOKUP($B33,[4]NUM5!$H$3:$P$177,7,FALSE) -> 925 | K33: =VLOOKUP($B33,[4]NUM5!$H$3:$P$177,8,FALSE) -> 944 | Q33: =SUM(E33:P33) -> 5405
A34: 04102-COQUIMBO | B34: 105407-P.S.R. TAMBILLOS | E34: =VLOOKUP($B34,[4]NUM5!$H$3:$P$177,2,FALSE) -> 48 | F34: =VLOOKUP($B34,[4]NUM5!$H$3:$P$177,3,FALSE) -> 48 | G34: =VLOOKUP($B34,[4]NUM5!$H$3:$P$177,4,FALSE) -> 53 | H34: =VLOOKUP($B34,[4]NUM5!$H$3:$P$177,5,FALSE) -> 55 | I34: =VLOOKUP($B34,[4]NUM5!$H$3:$P$177,6,FALSE) -> 62 | J34: =VLOOKUP($B34,[4]NUM5!$H$3:$P$177,7,FALSE) -> 61 | K34: =VLOOKUP($B34,[4]NUM5!$H$3:$P$177,8,FALSE) -> 67 | Q34: =SUM(E34:P34) -> 394
A35: 04102-COQUIMBO | B35: 105705-CECOF EL ALBA | E35: =VLOOKUP($B35,[4]NUM5!$H$3:$P$177,2,FALSE) -> 356 | F35: =VLOOKUP($B35,[4]NUM5!$H$3:$P$177,3,FALSE) -> 376 | G35: =VLOOKUP($B35,[4]NUM5!$H$3:$P$177,4,FALSE) -> 445 | H35: =VLOOKUP($B35,[4]NUM5!$H$3:$P$177,5,FALSE) -> 299 | I35: =VLOOKUP($B35,[4]NUM5!$H$3:$P$177,6,FALSE) -> 357 | J35: =VLOOKUP($B35,[4]NUM5!$H$3:$P$177,7,FALSE) -> 260 | K35: =VLOOKUP($B35,[4]NUM5!$H$3:$P$177,8,FALSE) -> 447 | Q35: =SUM(E35:P35) -> 2540
A36: 04102-COQUIMBO | B36: 200273-CECOF PUNTA MIRA | E36: =VLOOKUP($B36,[4]NUM5!$H$3:$P$177,2,FALSE) -> 369 | F36: =VLOOKUP($B36,[4]NUM5!$H$3:$P$177,3,FALSE) -> 237 | G36: =VLOOKUP($B36,[4]NUM5!$H$3:$P$177,4,FALSE) -> 538 | H36: =VLOOKUP($B36,[4]NUM5!$H$3:$P$177,5,FALSE) -> 412 | I36: =VLOOKUP($B36,[4]NUM5!$H$3:$P$177,6,FALSE) -> 707 | J36: =VLOOKUP($B36,[4]NUM5!$H$3:$P$177,7,FALSE) -> 608 | K36: =VLOOKUP($B36,[4]NUM5!$H$3:$P$177,8,FALSE) -> 453 | Q36: =SUM(E36:P36) -> 3324
A37: TOTAL COQUIMBO | C37: =+D37/Metas!I67 -> 1.1787567 | D37: =+Q37/R37 -> 0.58937834 | E37: =SUM(E26:E36) -> 15609 | F37: =SUM(F26:F36) -> 13512 | G37: =SUM(G26:G36) -> 16362 | H37: =SUM(H26:H36) -> 13997 | I37: =SUM(I26:I36) -> 17007 | J37: =SUM(J26:J36) -> 16438 | K37: =SUM(K26:K36) -> 16265 | L37: =SUM(L26:L36) -> 0 | ... Q37: =SUM(Q26:Q36) -> 109190 | R37: 185263
A38: 04106-VICUÑA | B38: 105467-P.S.R. DIAGUITAS | E38: =VLOOKUP($B38,[4]NUM5!$H$3:$P$177,2,FALSE) -> 121 | F38: =VLOOKUP($B38,[4]NUM5!$H$3:$P$177,3,FALSE) -> 89 | G38: =VLOOKUP($B38,[4]NUM5!$H$3:$P$177,4,FALSE) -> 83 | H38: =VLOOKUP($B38,[4]NUM5!$H$3:$P$177,5,FALSE) -> 146 | I38: =VLOOKUP($B38,[4]NUM5!$H$3:$P$177,6,FALSE) -> 293 | J38: =VLOOKUP($B38,[4]NUM5!$H$3:$P$177,7,FALSE) -> 70 | K38: =VLOOKUP($B38,[4]NUM5!$H$3:$P$177,8,FALSE) -> 147 | Q38: =SUM(E38:P38) -> 949
A39: 04106-VICUÑA | B39: 105468-P.S.R. EL MOLLE | E39: =VLOOKUP($B39,[4]NUM5!$H$3:$P$177,2,FALSE) -> 55 | F39: =VLOOKUP($B39,[4]NUM5!$H$3:$P$177,3,FALSE) -> 48 | G39: =VLOOKUP($B39,[4]NUM5!$H$3:$P$177,4,FALSE) -> 67 | H39: =VLOOKUP($B39,[4]NUM5!$H$3:$P$177,5,FALSE) -> 46 | I39: =VLOOKUP($B39,[4]NUM5!$H$3:$P$177,6,FALSE) -> 54 | J39: =VLOOKUP($B39,[4]NUM5!$H$3:$P$177,7,FALSE) -> 52 | K39: =VLOOKUP($B39,[4]NUM5!$H$3:$P$177,8,FALSE) -> 60 | Q39: =SUM(E39:P39) -> 382
A40: 04106-VICUÑA | B40: 105469-P.S.R. EL TAMBO | E40: =VLOOKUP($B40,[4]NUM5!$H$3:$P$177,2,FALSE) -> 96 | F40: =VLOOKUP($B40,[4]NUM5!$H$3:$P$177,3,FALSE) -> 69 | G40: =VLOOKUP($B40,[4]NUM5!$H$3:$P$177,4,FALSE) -> 100 | H40: =VLOOKUP($B40,[4]NUM5!$H$3:$P$177,5,FALSE) -> 65 | I40: =VLOOKUP($B40,[4]NUM5!$H$3:$P$177,6,FALSE) -> 66 | J40: =VLOOKUP($B40,[4]NUM5!$H$3:$P$177,7,FALSE) -> 81 | K40: =VLOOKUP($B40,[4]NUM5!$H$3:$P$177,8,FALSE) -> 169 | Q40: =SUM(E40:P40) -> 646
A41: 04106-VICUÑA | B41: 105470-P.S.R. HUANTA | E41: =VLOOKUP($B41,[4]NUM5!$H$3:$P$177,2,FALSE) -> 7 | F41: =VLOOKUP($B41,[4]NUM5!$H$3:$P$177,3,FALSE) -> 14 | G41: =VLOOKUP($B41,[4]NUM5!$H$3:$P$177,4,FALSE) -> 13 | H41: =VLOOKUP($B41,[4]NUM5!$H$3:$P$177,5,FALSE) -> 13 | I41: =VLOOKUP($B41,[4]NUM5!$H$3:$P$177,6,FALSE) -> 30 | J41: =VLOOKUP($B41,[4]NUM5!$H$3:$P$177,7,FALSE) -> 9 | K41: =VLOOKUP($B41,[4]NUM5!$H$3:$P$177,8,FALSE) -> 5 | Q41: =SUM(E41:P41) -> 91
A42: 04106-VICUÑA | B42: 105471-P.S.R. PERALILLO | E42: =VLOOKUP($B42,[4]NUM5!$H$3:$P$177,2,FALSE) -> 98 | F42: =VLOOKUP($B42,[4]NUM5!$H$3:$P$177,3,FALSE) -> 178 | G42: =VLOOKUP($B42,[4]NUM5!$H$3:$P$177,4,FALSE) -> 73 | H42: =VLOOKUP($B42,[4]NUM5!$H$3:$P$177,5,FALSE) -> 97 | I42: =VLOOKUP($B42,[4]NUM5!$H$3:$P$177,6,FALSE) -> 140 | J42: =VLOOKUP($B42,[4]NUM5!$H$3:$P$177,7,FALSE) -> 46 | K42: =VLOOKUP($B42,[4]NUM5!$H$3:$P$177,8,FALSE) -> 109 | Q42: =SUM(E42:P42) -> 741
A43: 04106-VICUÑA | B43: 105472-P.S.R. RIVADAVIA | E43: =VLOOKUP($B43,[4]NUM5!$H$3:$P$177,2,FALSE) -> 76 | F43: =VLOOKUP($B43,[4]NUM5!$H$3:$P$177,3,FALSE) -> 55 | G43: =VLOOKUP($B43,[4]NUM5!$H$3:$P$177,4,FALSE) -> 82 | H43: =VLOOKUP($B43,[4]NUM5!$H$3:$P$177,5,FALSE) -> 138 | I43: =VLOOKUP($B43,[4]NUM5!$H$3:$P$177,6,FALSE) -> 146 | J43: =VLOOKUP($B43,[4]NUM5!$H$3:$P$177,7,FALSE) -> 34 | K43: =VLOOKUP($B43,[4]NUM5!$H$3:$P$177,8,FALSE) -> 97 | Q43: =SUM(E43:P43) -> 628
A44: 04106-VICUÑA | B44: 105473-P.S.R. TALCUNA | E44: =VLOOKUP($B44,[4]NUM5!$H$3:$P$177,2,FALSE) -> 76 | F44: =VLOOKUP($B44,[4]NUM5!$H$3:$P$177,3,FALSE) -> 99 | G44: =VLOOKUP($B44,[4]NUM5!$H$3:$P$177,4,FALSE) -> 67 | H44: =VLOOKUP($B44,[4]NUM5!$H$3:$P$177,5,FALSE) -> 80 | I44: =VLOOKUP($B44,[4]NUM5!$H$3:$P$177,6,FALSE) -> 87 | J44: =VLOOKUP($B44,[4]NUM5!$H$3:$P$177,7,FALSE) -> 63 | K44: =VLOOKUP($B44,[4]NUM5!$H$3:$P$177,8,FALSE) -> 134 | Q44: =SUM(E44:P44) -> 606
A45: 04106-VICUÑA | B45: 105474-P.S.R. CHAPILCA | E45: =VLOOKUP($B45,[4]NUM5!$H$3:$P$177,2,FALSE) -> 21 | F45: =VLOOKUP($B45,[4]NUM5!$H$3:$P$177,3,FALSE) -> 28 | G45: =VLOOKUP($B45,[4]NUM5!$H$3:$P$177,4,FALSE) -> 20 | H45: =VLOOKUP($B45,[4]NUM5!$H$3:$P$177,5,FALSE) -> 14 | I45: =VLOOKUP($B45,[4]NUM5!$H$3:$P$177,6,FALSE) -> 37 | J45: =VLOOKUP($B45,[4]NUM5!$H$3:$P$177,7,FALSE) -> 17 | K45: =VLOOKUP($B45,[4]NUM5!$H$3:$P$177,8,FALSE) -> 34 | Q45: =SUM(E45:P45) -> 171
A46: 04106-VICUÑA | B46: 105502-P.S.R. CALINGASTA | E46: =VLOOKUP($B46,[4]NUM5!$H$3:$P$177,2,FALSE) -> 189 | F46: =VLOOKUP($B46,[4]NUM5!$H$3:$P$177,3,FALSE) -> 155 | G46: =VLOOKUP($B46,[4]NUM5!$H$3:$P$177,4,FALSE) -> 98 | H46: =VLOOKUP($B46,[4]NUM5!$H$3:$P$177,5,FALSE) -> 237 | I46: =VLOOKUP($B46,[4]NUM5!$H$3:$P$177,6,FALSE) -> 160 | J46: =VLOOKUP($B46,[4]NUM5!$H$3:$P$177,7,FALSE) -> 165 | K46: =VLOOKUP($B46,[4]NUM5!$H$3:$P$177,8,FALSE) -> 210 | Q46: =SUM(E46:P46) -> 1214
A47: 04106-VICUÑA | B47: 105509-P.S.R. GUALLIGUAICA | E47: =VLOOKUP($B47,[4]NUM5!$H$3:$P$177,2,FALSE) -> 38 | F47: =VLOOKUP($B47,[4]NUM5!$H$3:$P$177,3,FALSE) -> 41 | G47: =VLOOKUP($B47,[4]NUM5!$H$3:$P$177,4,FALSE) -> 22 | H47: =VLOOKUP($B47,[4]NUM5!$H$3:$P$177,5,FALSE) -> 33 | I47: =VLOOKUP($B47,[4]NUM5!$H$3:$P$177,6,FALSE) -> 26 | J47: =VLOOKUP($B47,[4]NUM5!$H$3:$P$177,7,FALSE) -> 0 | K47: =VLOOKUP($B47,[4]NUM5!$H$3:$P$177,8,FALSE) -> 74 | Q47: =SUM(E47:P47) -> 234
A48: TOTAL VICUÑA | C48: =+D48/Metas!I76 -> 1.0392805 | D48: =+Q48/R48 -> 0.41571219 | E48: =SUM(E38:E47) -> 777 | F48: =SUM(F38:F47) -> 776 | G48: =SUM(G38:G47) -> 625 | H48: =SUM(H38:H47) -> 869 | I48: =SUM(I38:I47) -> 1039 | J48: =SUM(J38:J47) -> 537 | K48: =SUM(K38:K47) -> 1039 | L48: =SUM(L38:L47) -> 0 | ... Q48: =SUM(Q38:Q47) -> 5662 | R48: 13620
A49: 04201-ILLAPEL | B49: 105326-CESFAM SAN RAFAEL | E49: =VLOOKUP($B49,[4]NUM5!$H$3:$P$177,2,FALSE) -> 384 | F49: =VLOOKUP($B49,[4]NUM5!$H$3:$P$177,3,FALSE) -> 428 | G49: =VLOOKUP($B49,[4]NUM5!$H$3:$P$177,4,FALSE) -> 406 | H49: =VLOOKUP($B49,[4]NUM5!$H$3:$P$177,5,FALSE) -> 273 | I49: =VLOOKUP($B49,[4]NUM5!$H$3:$P$177,6,FALSE) -> 443 | J49: =VLOOKUP($B49,[4]NUM5!$H$3:$P$177,7,FALSE) -> 748 | K49: =VLOOKUP($B49,[4]NUM5!$H$3:$P$177,8,FALSE) -> 1012 | Q49: =SUM(E49:P49) -> 3694
A50: 04201-ILLAPEL | B50: 105443-P.S.R. CARCAMO | E50: =VLOOKUP($B50,[4]NUM5!$H$3:$P$177,2,FALSE) -> 47 | F50: =VLOOKUP($B50,[4]NUM5!$H$3:$P$177,3,FALSE) -> 27 | G50: =VLOOKUP($B50,[4]NUM5!$H$3:$P$177,4,FALSE) -> 91 | H50: =VLOOKUP($B50,[4]NUM5!$H$3:$P$177,5,FALSE) -> 62 | I50: =VLOOKUP($B50,[4]NUM5!$H$3:$P$177,6,FALSE) -> 61 | J50: =VLOOKUP($B50,[4]NUM5!$H$3:$P$177,7,FALSE) -> 54 | K50: =VLOOKUP($B50,[4]NUM5!$H$3:$P$177,8,FALSE) -> 91 | Q50: =SUM(E50:P50) -> 433
A51: 04201-ILLAPEL | B51: 105444-P.S.R. HUINTIL | E51: =VLOOKUP($B51,[4]NUM5!$H$3:$P$177,2,FALSE) -> 38 | F51: =VLOOKUP($B51,[4]NUM5!$H$3:$P$177,3,FALSE) -> 13 | G51: =VLOOKUP($B51,[4]NUM5!$H$3:$P$177,4,FALSE) -> 49 | H51: =VLOOKUP($B51,[4]NUM5!$H$3:$P$177,5,FALSE) -> 43 | I51: =VLOOKUP($B51,[4]NUM5!$H$3:$P$177,6,FALSE) -> 39 | J51: =VLOOKUP($B51,[4]NUM5!$H$3:$P$177,7,FALSE) -> 70 | K51: =VLOOKUP($B51,[4]NUM5!$H$3:$P$177,8,FALSE) -> 46 | Q51: =SUM(E51:P51) -> 298
A52: 04201-ILLAPEL | B52: 105445-P.S.R. LIMAHUIDA | E52: =VLOOKUP($B52,[4]NUM5!$H$3:$P$177,2,FALSE) -> 36 | F52: =VLOOKUP($B52,[4]NUM5!$H$3:$P$177,3,FALSE) -> 33 | G52: =VLOOKUP($B52,[4]NUM5!$H$3:$P$177,4,FALSE) -> 19 | H52: =VLOOKUP($B52,[4]NUM5!$H$3:$P$177,5,FALSE) -> 32 | I52: =VLOOKUP($B52,[4]NUM5!$H$3:$P$177,6,FALSE) -> 59 | J52: =VLOOKUP($B52,[4]NUM5!$H$3:$P$177,7,FALSE) -> 71 | K52: =VLOOKUP($B52,[4]NUM5!$H$3:$P$177,8,FALSE) -> 57 | Q52: =SUM(E52:P52) -> 307
A53: 04201-ILLAPEL | B53: 105446-P.S.R. MATANCILLA | E53: =VLOOKUP($B53,[4]NUM5!$H$3:$P$177,2,FALSE) -> 0 | F53: =VLOOKUP($B53,[4]NUM5!$H$3:$P$177,3,FALSE) -> 0 | G53: =VLOOKUP($B53,[4]NUM5!$H$3:$P$177,4,FALSE) -> 26 | H53: =VLOOKUP($B53,[4]NUM5!$H$3:$P$177,5,FALSE) -> 21 | I53: =VLOOKUP($B53,[4]NUM5!$H$3:$P$177,6,FALSE) -> 13 | J53: =VLOOKUP($B53,[4]NUM5!$H$3:$P$177,7,FALSE) -> 17 | K53: =VLOOKUP($B53,[4]NUM5!$H$3:$P$177,8,FALSE) -> 13 | Q53: =SUM(E53:P53) -> 90
A54: 04201-ILLAPEL | B54: 105447-P.S.R. PERALILLO | E54: =VLOOKUP($B54,[4]NUM5!$H$3:$P$177,2,FALSE) -> 25 | F54: =VLOOKUP($B54,[4]NUM5!$H$3:$P$177,3,FALSE) -> 41 | G54: =VLOOKUP($B54,[4]NUM5!$H$3:$P$177,4,FALSE) -> 33 | H54: =VLOOKUP($B54,[4]NUM5!$H$3:$P$177,5,FALSE) -> 51 | I54: =VLOOKUP($B54,[4]NUM5!$H$3:$P$177,6,FALSE) -> 63 | J54: =VLOOKUP($B54,[4]NUM5!$H$3:$P$177,7,FALSE) -> 46 | K54: =VLOOKUP($B54,[4]NUM5!$H$3:$P$177,8,FALSE) -> 53 | Q54: =SUM(E54:P54) -> 312
A55: 04201-ILLAPEL | B55: 105448-P.S.R. SANTA VIRGINIA | E55: =VLOOKUP($B55,[4]NUM5!$H$3:$P$177,2,FALSE) -> 0 | F55: =VLOOKUP($B55,[4]NUM5!$H$3:$P$177,3,FALSE) -> 0 | G55: =VLOOKUP($B55,[4]NUM5!$H$3:$P$177,4,FALSE) -> 78 | H55: =VLOOKUP($B55,[4]NUM5!$H$3:$P$177,5,FALSE) -> 32 | I55: =VLOOKUP($B55,[4]NUM5!$H$3:$P$177,6,FALSE) -> 52 | J55: =VLOOKUP($B55,[4]NUM5!$H$3:$P$177,7,FALSE) -> 60 | K55: =VLOOKUP($B55,[4]NUM5!$H$3:$P$177,8,FALSE) -> 43 | Q55: =SUM(E55:P55) -> 265
A56: 04201-ILLAPEL | B56: 105449-P.S.R. TUNGA NORTE | E56: =VLOOKUP($B56,[4]NUM5!$H$3:$P$177,2,FALSE) -> 0 | F56: =VLOOKUP($B56,[4]NUM5!$H$3:$P$177,3,FALSE) -> 13 | G56: =VLOOKUP($B56,[4]NUM5!$H$3:$P$177,4,FALSE) -> 38 | H56: =VLOOKUP($B56,[4]NUM5!$H$3:$P$177,5,FALSE) -> 43 | I56: =VLOOKUP($B56,[4]NUM5!$H$3:$P$177,6,FALSE) -> 27 | J56: =VLOOKUP($B56,[4]NUM5!$H$3:$P$177,7,FALSE) -> 25 | K56: =VLOOKUP($B56,[4]NUM5!$H$3:$P$177,8,FALSE) -> 16 | Q56: =SUM(E56:P56) -> 162
A57: 04201-ILLAPEL | B57: 105485-P.S.R. PLAN DE HORNOS | E57: =VLOOKUP($B57,[4]NUM5!$H$3:$P$177,2,FALSE) -> 72 | F57: =VLOOKUP($B57,[4]NUM5!$H$3:$P$177,3,FALSE) -> 0 | G57: =VLOOKUP($B57,[4]NUM5!$H$3:$P$177,4,FALSE) -> 139 | H57: =VLOOKUP($B57,[4]NUM5!$H$3:$P$177,5,FALSE) -> 60 | I57: =VLOOKUP($B57,[4]NUM5!$H$3:$P$177,6,FALSE) -> 68 | J57: =VLOOKUP($B57,[4]NUM5!$H$3:$P$177,7,FALSE) -> 100 | K57: =VLOOKUP($B57,[4]NUM5!$H$3:$P$177,8,FALSE) -> 84 | Q57: =SUM(E57:P57) -> 523
A58: 04201-ILLAPEL | B58: 105486-P.S.R. TUNGA SUR | E58: =VLOOKUP($B58,[4]NUM5!$H$3:$P$177,2,FALSE) -> 30 | F58: =VLOOKUP($B58,[4]NUM5!$H$3:$P$177,3,FALSE) -> 0 | G58: =VLOOKUP($B58,[4]NUM5!$H$3:$P$177,4,FALSE) -> 28 | H58: =VLOOKUP($B58,[4]NUM5!$H$3:$P$177,5,FALSE) -> 21 | I58: =VLOOKUP($B58,[4]NUM5!$H$3:$P$177,6,FALSE) -> 0 | J58: =VLOOKUP($B58,[4]NUM5!$H$3:$P$177,7,FALSE) -> 31 | K58: =VLOOKUP($B58,[4]NUM5!$H$3:$P$177,8,FALSE) -> 36 | Q58: =SUM(E58:P58) -> 146
A59: 04201-ILLAPEL | B59: 105487-P.S.R. CAÑAS UNO | E59: =VLOOKUP($B59,[4]NUM5!$H$3:$P$177,2,FALSE) -> 110 | F59: =VLOOKUP($B59,[4]NUM5!$H$3:$P$177,3,FALSE) -> 0 | G59: =VLOOKUP($B59,[4]NUM5!$H$3:$P$177,4,FALSE) -> 169 | H59: =VLOOKUP($B59,[4]NUM5!$H$3:$P$177,5,FALSE) -> 135 | I59: =VLOOKUP($B59,[4]NUM5!$H$3:$P$177,6,FALSE) -> 103 | J59: =VLOOKUP($B59,[4]NUM5!$H$3:$P$177,7,FALSE) -> 121 | K59: =VLOOKUP($B59,[4]NUM5!$H$3:$P$177,8,FALSE) -> 124 | Q59: =SUM(E59:P59) -> 762
A60: 04201-ILLAPEL | B60: 105496-P.S.R. PINTACURA SUR | E60: =VLOOKUP($B60,[4]NUM5!$H$3:$P$177,2,FALSE) -> 15 | F60: =VLOOKUP($B60,[4]NUM5!$H$3:$P$177,3,FALSE) -> 44 | G60: =VLOOKUP($B60,[4]NUM5!$H$3:$P$177,4,FALSE) -> 21 | H60: =VLOOKUP($B60,[4]NUM5!$H$3:$P$177,5,FALSE) -> 32 | I60: =VLOOKUP($B60,[4]NUM5!$H$3:$P$177,6,FALSE) -> 33 | J60: =VLOOKUP($B60,[4]NUM5!$H$3:$P$177,7,FALSE) -> 26 | K60: =VLOOKUP($B60,[4]NUM5!$H$3:$P$177,8,FALSE) -> 50 | Q60: =SUM(E60:P60) -> 221
A61: 04201-ILLAPEL | B61: 105504-P.S.R. SOCAVON | E61: =VLOOKUP($B61,[4]NUM5!$H$3:$P$177,2,FALSE) -> 23 | F61: =VLOOKUP($B61,[4]NUM5!$H$3:$P$177,3,FALSE) -> 39 | G61: =VLOOKUP($B61,[4]NUM5!$H$3:$P$177,4,FALSE) -> 17 | H61: =VLOOKUP($B61,[4]NUM5!$H$3:$P$177,5,FALSE) -> 27 | I61: =VLOOKUP($B61,[4]NUM5!$H$3:$P$177,6,FALSE) -> 39 | J61: =VLOOKUP($B61,[4]NUM5!$H$3:$P$177,7,FALSE) -> 41 | K61: =VLOOKUP($B61,[4]NUM5!$H$3:$P$177,8,FALSE) -> 45 | Q61: =SUM(E61:P61) -> 231
A62: TOTAL ILLAPEL | C62: =+D62/Metas!I68 -> 1.0693866 | D62: =+Q62/R62 -> 0.58817952 | E62: =SUM(E49:E61) -> 780 | F62: =SUM(F49:F61) -> 638 | G62: =SUM(G49:G61) -> 1114 | H62: =SUM(H49:H61) -> 832 | I62: =SUM(I49:I61) -> 1000 | J62: =SUM(J49:J61) -> 1410 | K62: =SUM(K49:K61) -> 1670 | L62: =SUM(L49:L61) -> 0 | ... Q62: =SUM(Q49:Q61) -> 7444 | R62: 12656
A63: 04202-CANELA | B63: 105309-CES. RURAL CANELA | E63: =VLOOKUP($B63,[4]NUM5!$H$3:$P$177,2,FALSE) -> 641 | F63: =VLOOKUP($B63,[4]NUM5!$H$3:$P$177,3,FALSE) -> 584 | G63: =VLOOKUP($B63,[4]NUM5!$H$3:$P$177,4,FALSE) -> 694 | H63: =VLOOKUP($B63,[4]NUM5!$H$3:$P$177,5,FALSE) -> 595 | I63: =VLOOKUP($B63,[4]NUM5!$H$3:$P$177,6,FALSE) -> 768 | J63: =VLOOKUP($B63,[4]NUM5!$H$3:$P$177,7,FALSE) -> 823 | K63: =VLOOKUP($B63,[4]NUM5!$H$3:$P$177,8,FALSE) -> 706 | Q63: =SUM(E63:P63) -> 4811
A64: 04202-CANELA | B64: 105450-P.S.R. MINCHA NORTE | E64: =VLOOKUP($B64,[4]NUM5!$H$3:$P$177,2,FALSE) -> 115 | F64: =VLOOKUP($B64,[4]NUM5!$H$3:$P$177,3,FALSE) -> 54 | G64: =VLOOKUP($B64,[4]NUM5!$H$3:$P$177,4,FALSE) -> 127 | H64: =VLOOKUP($B64,[4]NUM5!$H$3:$P$177,5,FALSE) -> 60 | I64: =VLOOKUP($B64,[4]NUM5!$H$3:$P$177,6,FALSE) -> 92 | J64: =VLOOKUP($B64,[4]NUM5!$H$3:$P$177,7,FALSE) -> 84 | K64: =VLOOKUP($B64,[4]NUM5!$H$3:$P$177,8,FALSE) -> 109 | Q64: =SUM(E64:P64) -> 641
A65: 04202-CANELA | B65: 105451-P.S.R. AGUA FRIA | E65: =VLOOKUP($B65,[4]NUM5!$H$3:$P$177,2,FALSE) -> 32 | F65: =VLOOKUP($B65,[4]NUM5!$H$3:$P$177,3,FALSE) -> 19 | G65: =VLOOKUP($B65,[4]NUM5!$H$3:$P$177,4,FALSE) -> 15 | H65: =VLOOKUP($B65,[4]NUM5!$H$3:$P$177,5,FALSE) -> 18 | I65: =VLOOKUP($B65,[4]NUM5!$H$3:$P$177,6,FALSE) -> 31 | J65: =VLOOKUP($B65,[4]NUM5!$H$3:$P$177,7,FALSE) -> 32 | K65: =VLOOKUP($B65,[4]NUM5!$H$3:$P$177,8,FALSE) -> 31 | Q65: =SUM(E65:P65) -> 178
A66: 04202-CANELA | B66: 105482-P.S.R. CANELA ALTA | E66: =VLOOKUP($B66,[4]NUM5!$H$3:$P$177,2,FALSE) -> 34 | F66: =VLOOKUP($B66,[4]NUM5!$H$3:$P$177,3,FALSE) -> 28 | G66: =VLOOKUP($B66,[4]NUM5!$H$3:$P$177,4,FALSE) -> 30 | H66: =VLOOKUP($B66,[4]NUM5!$H$3:$P$177,5,FALSE) -> 48 | I66: =VLOOKUP($B66,[4]NUM5!$H$3:$P$177,6,FALSE) -> 78 | J66: =VLOOKUP($B66,[4]NUM5!$H$3:$P$177,7,FALSE) -> 61 | K66: =VLOOKUP($B66,[4]NUM5!$H$3:$P$177,8,FALSE) -> 32 | Q66: =SUM(E66:P66) -> 311
A67: 04202-CANELA | B67: 105483-P.S.R. LOS RULOS | E67: =VLOOKUP($B67,[4]NUM5!$H$3:$P$177,2,FALSE) -> 0 | F67: =VLOOKUP($B67,[4]NUM5!$H$3:$P$177,3,FALSE) -> 16 | G67: =VLOOKUP($B67,[4]NUM5!$H$3:$P$177,4,FALSE) -> 0 | H67: =VLOOKUP($B67,[4]NUM5!$H$3:$P$177,5,FALSE) -> 37 | I67: =VLOOKUP($B67,[4]NUM5!$H$3:$P$177,6,FALSE) -> 43 | J67: =VLOOKUP($B67,[4]NUM5!$H$3:$P$177,7,FALSE) -> 14 | K67: =VLOOKUP($B67,[4]NUM5!$H$3:$P$177,8,FALSE) -> 15 | Q67: =SUM(E67:P67) -> 125
A68: 04202-CANELA | B68: 105484-P.S.R. HUENTELAUQUEN | E68: =VLOOKUP($B68,[4]NUM5!$H$3:$P$177,2,FALSE) -> 61 | F68: =VLOOKUP($B68,[4]NUM5!$H$3:$P$177,3,FALSE) -> 54 | G68: =VLOOKUP($B68,[4]NUM5!$H$3:$P$177,4,FALSE) -> 52 | H68: =VLOOKUP($B68,[4]NUM5!$H$3:$P$177,5,FALSE) -> 71 | I68: =VLOOKUP($B68,[4]NUM5!$H$3:$P$177,6,FALSE) -> 36 | J68: =VLOOKUP($B68,[4]NUM5!$H$3:$P$177,7,FALSE) -> 76 | K68: =VLOOKUP($B68,[4]NUM5!$H$3:$P$177,8,FALSE) -> 55 | Q68: =SUM(E68:P68) -> 405
A69: 04202-CANELA | B69: 105488-P.S.R. ESPIRITU SANTO | E69: =VLOOKUP($B69,[4]NUM5!$H$3:$P$177,2,FALSE) -> 0 | F69: =VLOOKUP($B69,[4]NUM5!$H$3:$P$177,3,FALSE) -> 17 | G69: =VLOOKUP($B69,[4]NUM5!$H$3:$P$177,4,FALSE) -> 0 | H69: =VLOOKUP($B69,[4]NUM5!$H$3:$P$177,5,FALSE) -> 0 | I69: =VLOOKUP($B69,[4]NUM5!$H$3:$P$177,6,FALSE) -> 0 | J69: =VLOOKUP($B69,[4]NUM5!$H$3:$P$177,7,FALSE) -> 14 | K69: =VLOOKUP($B69,[4]NUM5!$H$3:$P$177,8,FALSE) -> 14 | Q69: =SUM(E69:P69) -> 45
A70: 04202-CANELA | B70: 105493-P.S.R. MINCHA SUR | E70: =VLOOKUP($B70,[4]NUM5!$H$3:$P$177,2,FALSE) -> 14 | F70: =VLOOKUP($B70,[4]NUM5!$H$3:$P$177,3,FALSE) -> 0 | G70: =VLOOKUP($B70,[4]NUM5!$H$3:$P$177,4,FALSE) -> 13 | H70: =VLOOKUP($B70,[4]NUM5!$H$3:$P$177,5,FALSE) -> 28 | I70: =VLOOKUP($B70,[4]NUM5!$H$3:$P$177,6,FALSE) -> 0 | J70: =VLOOKUP($B70,[4]NUM5!$H$3:$P$177,7,FALSE) -> 10 | K70: =VLOOKUP($B70,[4]NUM5!$H$3:$P$177,8,FALSE) -> 16 | Q70: =SUM(E70:P70) -> 81
A71: 04202-CANELA | B71: 105497-P.S.R. JABONERIA | E71: =VLOOKUP($B71,[4]NUM5!$H$3:$P$177,2,FALSE) -> 18 | F71: =VLOOKUP($B71,[4]NUM5!$H$3:$P$177,3,FALSE) -> 15 | G71: =VLOOKUP($B71,[4]NUM5!$H$3:$P$177,4,FALSE) -> 0 | H71: =VLOOKUP($B71,[4]NUM5!$H$3:$P$177,5,FALSE) -> 16 | I71: =VLOOKUP($B71,[4]NUM5!$H$3:$P$177,6,FALSE) -> 0 | J71: =VLOOKUP($B71,[4]NUM5!$H$3:$P$177,7,FALSE) -> 7 | K71: =VLOOKUP($B71,[4]NUM5!$H$3:$P$177,8,FALSE) -> 9 | Q71: =SUM(E71:P71) -> 65
A72: 04202-CANELA | B72: 105498-P.S.R. QUEBRADA DE LINARES | E72: =VLOOKUP($B72,[4]NUM5!$H$3:$P$177,2,FALSE) -> 0 | F72: =VLOOKUP($B72,[4]NUM5!$H$3:$P$177,3,FALSE) -> 13 | G72: =VLOOKUP($B72,[4]NUM5!$H$3:$P$177,4,FALSE) -> 12 | H72: =VLOOKUP($B72,[4]NUM5!$H$3:$P$177,5,FALSE) -> 0 | I72: =VLOOKUP($B72,[4]NUM5!$H$3:$P$177,6,FALSE) -> 0 | J72: =VLOOKUP($B72,[4]NUM5!$H$3:$P$177,7,FALSE) -> 17 | K72: =VLOOKUP($B72,[4]NUM5!$H$3:$P$177,8,FALSE) -> 12 | Q72: =SUM(E72:P72) -> 54
A73: TOTAL CANELA | C73: =+D73/Metas!I65 -> 1.1988576 | D73: =+Q73/R73 -> 0.71928885 | E73: =SUM(E63:E72) -> 915 | F73: =SUM(F63:F72) -> 800 | G73: =SUM(G63:G72) -> 943 | H73: =SUM(H63:H72) -> 873 | I73: =SUM(I63:I72) -> 1048 | J73: =SUM(J63:J72) -> 1138 | K73: =SUM(K63:K72) -> 999 | L73: =SUM(L63:L72) -> 0 | ... Q73: =SUM(Q63:Q72) -> 6716 | R73: 9337
A74: 04203-LOS VILOS | B74: 105478-P.S.R. CAIMANES | E74: =VLOOKUP($B74,[4]NUM5!$H$3:$P$177,2,FALSE) -> 57 | F74: =VLOOKUP($B74,[4]NUM5!$H$3:$P$177,3,FALSE) -> 114 | G74: =VLOOKUP($B74,[4]NUM5!$H$3:$P$177,4,FALSE) -> 105 | H74: =VLOOKUP($B74,[4]NUM5!$H$3:$P$177,5,FALSE) -> 74 | I74: =VLOOKUP($B74,[4]NUM5!$H$3:$P$177,6,FALSE) -> 112 | J74: =VLOOKUP($B74,[4]NUM5!$H$3:$P$177,7,FALSE) -> 157 | K74: =VLOOKUP($B74,[4]NUM5!$H$3:$P$177,8,FALSE) -> 103 | Q74: =SUM(E74:P74) -> 722
A75: 04203-LOS VILOS | B75: 105479-P.S.R. GUANGUALI | E75: =VLOOKUP($B75,[4]NUM5!$H$3:$P$177,2,FALSE) -> 0 | F75: =VLOOKUP($B75,[4]NUM5!$H$3:$P$177,3,FALSE) -> 14 | G75: =VLOOKUP($B75,[4]NUM5!$H$3:$P$177,4,FALSE) -> 56 | H75: =VLOOKUP($B75,[4]NUM5!$H$3:$P$177,5,FALSE) -> 31 | I75: =VLOOKUP($B75,[4]NUM5!$H$3:$P$177,6,FALSE) -> 47 | J75: =VLOOKUP($B75,[4]NUM5!$H$3:$P$177,7,FALSE) -> 60 | K75: =VLOOKUP($B75,[4]NUM5!$H$3:$P$177,8,FALSE) -> 41 | Q75: =SUM(E75:P75) -> 249
A76: 04203-LOS VILOS | B76: 105480-P.S.R. QUILIMARI | E76: =VLOOKUP($B76,[4]NUM5!$H$3:$P$177,2,FALSE) -> 51 | F76: =VLOOKUP($B76,[4]NUM5!$H$3:$P$177,3,FALSE) -> 71 | G76: =VLOOKUP($B76,[4]NUM5!$H$3:$P$177,4,FALSE) -> 122 | H76: =VLOOKUP($B76,[4]NUM5!$H$3:$P$177,5,FALSE) -> 51 | I76: =VLOOKUP($B76,[4]NUM5!$H$3:$P$177,6,FALSE) -> 117 | J76: =VLOOKUP($B76,[4]NUM5!$H$3:$P$177,7,FALSE) -> 129 | K76: =VLOOKUP($B76,[4]NUM5!$H$3:$P$177,8,FALSE) -> 96 | Q76: =SUM(E76:P76) -> 637
A77: 04203-LOS VILOS | B77: 105481-P.S.R. TILAMA | E77: =VLOOKUP($B77,[4]NUM5!$H$3:$P$177,2,FALSE) -> 9 | F77: =VLOOKUP($B77,[4]NUM5!$H$3:$P$177,3,FALSE) -> 12 | G77: =VLOOKUP($B77,[4]NUM5!$H$3:$P$177,4,FALSE) -> 9 | H77: =VLOOKUP($B77,[4]NUM5!$H$3:$P$177,5,FALSE) -> 9 | I77: =VLOOKUP($B77,[4]NUM5!$H$3:$P$177,6,FALSE) -> 28 | J77: =VLOOKUP($B77,[4]NUM5!$H$3:$P$177,7,FALSE) -> 29 | K77: =VLOOKUP($B77,[4]NUM5!$H$3:$P$177,8,FALSE) -> 22 | Q77: =SUM(E77:P77) -> 118
A78: 04203-LOS VILOS | B78: 105511-P.S.R. LOS CONDORES | E78: =VLOOKUP($B78,[4]NUM5!$H$3:$P$177,2,FALSE) -> 0 | F78: =VLOOKUP($B78,[4]NUM5!$H$3:$P$177,3,FALSE) -> 43 | G78: =VLOOKUP($B78,[4]NUM5!$H$3:$P$177,4,FALSE) -> 69 | H78: =VLOOKUP($B78,[4]NUM5!$H$3:$P$177,5,FALSE) -> 26 | I78: =VLOOKUP($B78,[4]NUM5!$H$3:$P$177,6,FALSE) -> 26 | J78: =VLOOKUP($B78,[4]NUM5!$H$3:$P$177,7,FALSE) -> 38 | K78: =VLOOKUP($B78,[4]NUM5!$H$3:$P$177,8,FALSE) -> 44 | Q78: =SUM(E78:P78) -> 246
A79: TOTAL LOS VILOS | C79: =+D79/Metas!I70 -> 0.93927126 | D79: =+Q79/R79 -> 0.32872145 | E79: =SUM(E74:E78) -> 117 | F79: =SUM(F74:F78) -> 254 | G79: =SUM(G74:G78) -> 361 | H79: =SUM(H74:H78) -> 191 | I79: =SUM(I74:I78) -> 330 | J79: =SUM(J74:J78) -> 413 | K79: =SUM(K74:K78) -> 306 | L79: =SUM(L74:L78) -> 0 | ... Q79: =SUM(Q74:Q78) -> 1972 | R79: 5999
A80: 04204-SALAMANCA | B80: 105452-P.S.R. CUNCUMEN | E80: =VLOOKUP($B80,[4]NUM5!$H$3:$P$177,2,FALSE) -> 221 | F80: =VLOOKUP($B80,[4]NUM5!$H$3:$P$177,3,FALSE) -> 362 | G80: =VLOOKUP($B80,[4]NUM5!$H$3:$P$177,4,FALSE) -> 427 | H80: =VLOOKUP($B80,[4]NUM5!$H$3:$P$177,5,FALSE) -> 289 | I80: =VLOOKUP($B80,[4]NUM5!$H$3:$P$177,6,FALSE) -> 294 | J80: =VLOOKUP($B80,[4]NUM5!$H$3:$P$177,7,FALSE) -> 498 | K80: =VLOOKUP($B80,[4]NUM5!$H$3:$P$177,8,FALSE) -> 529 | Q80: =SUM(E80:P80) -> 2620
A81: 04204-SALAMANCA | B81: 105453-P.S.R. TRANQUILLA | E81: =VLOOKUP($B81,[4]NUM5!$H$3:$P$177,2,FALSE) -> 43 | F81: =VLOOKUP($B81,[4]NUM5!$H$3:$P$177,3,FALSE) -> 46 | G81: =VLOOKUP($B81,[4]NUM5!$H$3:$P$177,4,FALSE) -> 82 | H81: =VLOOKUP($B81,[4]NUM5!$H$3:$P$177,5,FALSE) -> 35 | I81: =VLOOKUP($B81,[4]NUM5!$H$3:$P$177,6,FALSE) -> 38 | J81: =VLOOKUP($B81,[4]NUM5!$H$3:$P$177,7,FALSE) -> 49 | K81: =VLOOKUP($B81,[4]NUM5!$H$3:$P$177,8,FALSE) -> 77 | Q81: =SUM(E81:P81) -> 370
A82: 04204-SALAMANCA | B82: 105454-P.S.R. CUNLAGUA | E82: =VLOOKUP($B82,[4]NUM5!$H$3:$P$177,2,FALSE) -> 20 | F82: =VLOOKUP($B82,[4]NUM5!$H$3:$P$177,3,FALSE) -> 16 | G82: =VLOOKUP($B82,[4]NUM5!$H$3:$P$177,4,FALSE) -> 37 | H82: =VLOOKUP($B82,[4]NUM5!$H$3:$P$177,5,FALSE) -> 47 | I82: =VLOOKUP($B82,[4]NUM5!$H$3:$P$177,6,FALSE) -> 0 | J82: =VLOOKUP($B82,[4]NUM5!$H$3:$P$177,7,FALSE) -> 49 | K82: =VLOOKUP($B82,[4]NUM5!$H$3:$P$177,8,FALSE) -> 61 | Q82: =SUM(E82:P82) -> 230
A83: 04204-SALAMANCA | B83: 105455-P.S.R. CHILLEPIN | E83: =VLOOKUP($B83,[4]NUM5!$H$3:$P$177,2,FALSE) -> 19 | F83: =VLOOKUP($B83,[4]NUM5!$H$3:$P$177,3,FALSE) -> 51 | G83: =VLOOKUP($B83,[4]NUM5!$H$3:$P$177,4,FALSE) -> 92 | H83: =VLOOKUP($B83,[4]NUM5!$H$3:$P$177,5,FALSE) -> 31 | I83: =VLOOKUP($B83,[4]NUM5!$H$3:$P$177,6,FALSE) -> 87 | J83: =VLOOKUP($B83,[4]NUM5!$H$3:$P$177,7,FALSE) -> 39 | K83: =VLOOKUP($B83,[4]NUM5!$H$3:$P$177,8,FALSE) -> 47 | Q83: =SUM(E83:P83) -> 366
A84: 04204-SALAMANCA | B84: 105456-P.S.R. LLIMPO | E84: =VLOOKUP($B84,[4]NUM5!$H$3:$P$177,2,FALSE) -> 43 | F84: =VLOOKUP($B84,[4]NUM5!$H$3:$P$177,3,FALSE) -> 47 | G84: =VLOOKUP($B84,[4]NUM5!$H$3:$P$177,4,FALSE) -> 85 | H84: =VLOOKUP($B84,[4]NUM5!$H$3:$P$177,5,FALSE) -> 51 | I84: =VLOOKUP($B84,[4]NUM5!$H$3:$P$177,6,FALSE) -> 76 | J84: =VLOOKUP($B84,[4]NUM5!$H$3:$P$177,7,FALSE) -> 116 | K84: =VLOOKUP($B84,[4]NUM5!$H$3:$P$177,8,FALSE) -> 111 | Q84: =SUM(E84:P84) -> 529
A85: 04204-SALAMANCA | B85: 105457-P.S.R. SAN AGUSTIN | E85: =VLOOKUP($B85,[4]NUM5!$H$3:$P$177,2,FALSE) -> 42 | F85: =VLOOKUP($B85,[4]NUM5!$H$3:$P$177,3,FALSE) -> 38 | G85: =VLOOKUP($B85,[4]NUM5!$H$3:$P$177,4,FALSE) -> 20 | H85: =VLOOKUP($B85,[4]NUM5!$H$3:$P$177,5,FALSE) -> 31 | I85: =VLOOKUP($B85,[4]NUM5!$H$3:$P$177,6,FALSE) -> 27 | J85: =VLOOKUP($B85,[4]NUM5!$H$3:$P$177,7,FALSE) -> 76 | K85: =VLOOKUP($B85,[4]NUM5!$H$3:$P$177,8,FALSE) -> 55 | Q85: =SUM(E85:P85) -> 289
A86: 04204-SALAMANCA | B86: 105458-P.S.R. TAHUINCO | E86: =VLOOKUP($B86,[4]NUM5!$H$3:$P$177,2,FALSE) -> 18 | F86: =VLOOKUP($B86,[4]NUM5!$H$3:$P$177,3,FALSE) -> 21 | G86: =VLOOKUP($B86,[4]NUM5!$H$3:$P$177,4,FALSE) -> 43 | H86: =VLOOKUP($B86,[4]NUM5!$H$3:$P$177,5,FALSE) -> 33 | I86: =VLOOKUP($B86,[4]NUM5!$H$3:$P$177,6,FALSE) -> 37 | J86: =VLOOKUP($B86,[4]NUM5!$H$3:$P$177,7,FALSE) -> 43 | K86: =VLOOKUP($B86,[4]NUM5!$H$3:$P$177,8,FALSE) -> 71 | Q86: =SUM(E86:P86) -> 266
A87: 04204-SALAMANCA | B87: 105491-P.S.R. QUELEN BAJO | E87: =VLOOKUP($B87,[4]NUM5!$H$3:$P$177,2,FALSE) -> 38 | F87: =VLOOKUP($B87,[4]NUM5!$H$3:$P$177,3,FALSE) -> 62 | G87: =VLOOKUP($B87,[4]NUM5!$H$3:$P$177,4,FALSE) -> 87 | H87: =VLOOKUP($B87,[4]NUM5!$H$3:$P$177,5,FALSE) -> 50 | I87: =VLOOKUP($B87,[4]NUM5!$H$3:$P$177,6,FALSE) -> 71 | J87: =VLOOKUP($B87,[4]NUM5!$H$3:$P$177,7,FALSE) -> 151 | K87: =VLOOKUP($B87,[4]NUM5!$H$3:$P$177,8,FALSE) -> 56 | Q87: =SUM(E87:P87) -> 515
A88: 04204-SALAMANCA | B88: 105492-P.S.R. CAMISA | E88: =VLOOKUP($B88,[4]NUM5!$H$3:$P$177,2,FALSE) -> 29 | F88: =VLOOKUP($B88,[4]NUM5!$H$3:$P$177,3,FALSE) -> 82 | G88: =VLOOKUP($B88,[4]NUM5!$H$3:$P$177,4,FALSE) -> 49 | H88: =VLOOKUP($B88,[4]NUM5!$H$3:$P$177,5,FALSE) -> 52 | I88: =VLOOKUP($B88,[4]NUM5!$H$3:$P$177,6,FALSE) -> 39 | J88: =VLOOKUP($B88,[4]NUM5!$H$3:$P$177,7,FALSE) -> 108 | K88: =VLOOKUP($B88,[4]NUM5!$H$3:$P$177,8,FALSE) -> 97 | Q88: =SUM(E88:P88) -> 456
A89: 04204-SALAMANCA | B89: 105501-P.S.R. ARBOLEDA GRANDE | E89: =VLOOKUP($B89,[4]NUM5!$H$3:$P$177,2,FALSE) -> 50 | F89: =VLOOKUP($B89,[4]NUM5!$H$3:$P$177,3,FALSE) -> 45 | G89: =VLOOKUP($B89,[4]NUM5!$H$3:$P$177,4,FALSE) -> 85 | H89: =VLOOKUP($B89,[4]NUM5!$H$3:$P$177,5,FALSE) -> 45 | I89: =VLOOKUP($B89,[4]NUM5!$H$3:$P$177,6,FALSE) -> 64 | J89: =VLOOKUP($B89,[4]NUM5!$H$3:$P$177,7,FALSE) -> 100 | K89: =VLOOKUP($B89,[4]NUM5!$H$3:$P$177,8,FALSE) -> 41 | Q89: =SUM(E89:P89) -> 430
A90: TOTAL SALAMANCA | C90: =+D90/Metas!I75 -> 0.96887967 | D90: =+Q90/R90 -> 0.48443983 | E90: =SUM(E80:E89) -> 523 | F90: =SUM(F80:F89) -> 770 | G90: =SUM(G80:G89) -> 1007 | H90: =SUM(H80:H89) -> 664 | I90: =SUM(I80:I89) -> 733 | J90: =SUM(J80:J89) -> 1229 | K90: =SUM(K80:K89) -> 1145 | L90: =SUM(L80:L89) -> 0 | ... Q90: =SUM(Q80:Q89) -> 6071 | R90: 12532
A91: 04301-OVALLE | B91: 105315-CES. RURAL C. DE TAMAYA | E91: =VLOOKUP($B91,[4]NUM5!$H$3:$P$177,2,FALSE) -> 726 | F91: =VLOOKUP($B91,[4]NUM5!$H$3:$P$177,3,FALSE) -> 710 | G91: =VLOOKUP($B91,[4]NUM5!$H$3:$P$177,4,FALSE) -> 616 | H91: =VLOOKUP($B91,[4]NUM5!$H$3:$P$177,5,FALSE) -> 769 | I91: =VLOOKUP($B91,[4]NUM5!$H$3:$P$177,6,FALSE) -> 819 | J91: =VLOOKUP($B91,[4]NUM5!$H$3:$P$177,7,FALSE) -> 880 | K91: =VLOOKUP($B91,[4]NUM5!$H$3:$P$177,8,FALSE) -> 646 | Q91: =SUM(E91:P91) -> 5166
A92: 04301-OVALLE | B92: 105317-CES. JORGE JORDAN D. | E92: =VLOOKUP($B92,[4]NUM5!$H$3:$P$177,2,FALSE) -> 1326 | F92: =VLOOKUP($B92,[4]NUM5!$H$3:$P$177,3,FALSE) -> 1036 | G92: =VLOOKUP($B92,[4]NUM5!$H$3:$P$177,4,FALSE) -> 1750 | H92: =VLOOKUP($B92,[4]NUM5!$H$3:$P$177,5,FALSE) -> 1874 | I92: =VLOOKUP($B92,[4]NUM5!$H$3:$P$177,6,FALSE) -> 1699 | J92: =VLOOKUP($B92,[4]NUM5!$H$3:$P$177,7,FALSE) -> 1705 | K92: =VLOOKUP($B92,[4]NUM5!$H$3:$P$177,8,FALSE) -> 1596 | Q92: =SUM(E92:P92) -> 10986
A93: 04301-OVALLE | B93: 105322-CES. MARCOS MACUADA | E93: =VLOOKUP($B93,[4]NUM5!$H$3:$P$177,2,FALSE) -> 2375 | F93: =VLOOKUP($B93,[4]NUM5!$H$3:$P$177,3,FALSE) -> 2450 | G93: =VLOOKUP($B93,[4]NUM5!$H$3:$P$177,4,FALSE) -> 3098 | H93: =VLOOKUP($B93,[4]NUM5!$H$3:$P$177,5,FALSE) -> 2632 | I93: =VLOOKUP($B93,[4]NUM5!$H$3:$P$177,6,FALSE) -> 2586 | J93: =VLOOKUP($B93,[4]NUM5!$H$3:$P$177,7,FALSE) -> 2912 | K93: =VLOOKUP($B93,[4]NUM5!$H$3:$P$177,8,FALSE) -> 2510 | Q93: =SUM(E93:P93) -> 18563
A94: 04301-OVALLE | B94: 105324-CES. SOTAQUI | E94: =VLOOKUP($B94,[4]NUM5!$H$3:$P$177,2,FALSE) -> 298 | F94: =VLOOKUP($B94,[4]NUM5!$H$3:$P$177,3,FALSE) -> 132 | G94: =VLOOKUP($B94,[4]NUM5!$H$3:$P$177,4,FALSE) -> 496 | H94: =VLOOKUP($B94,[4]NUM5!$H$3:$P$177,5,FALSE) -> 716 | I94: =VLOOKUP($B94,[4]NUM5!$H$3:$P$177,6,FALSE) -> 699 | J94: =VLOOKUP($B94,[4]NUM5!$H$3:$P$177,7,FALSE) -> 1908 | K94: =VLOOKUP($B94,[4]NUM5!$H$3:$P$177,8,FALSE) -> 548 | Q94: =SUM(E94:P94) -> 4797
A95: 04301-OVALLE | B95: 105415-P.S.R. BARRAZA | E95: =VLOOKUP($B95,[4]NUM5!$H$3:$P$177,2,FALSE) -> 28 | F95: =VLOOKUP($B95,[4]NUM5!$H$3:$P$177,3,FALSE) -> 82 | G95: =VLOOKUP($B95,[4]NUM5!$H$3:$P$177,4,FALSE) -> 113 | H95: =VLOOKUP($B95,[4]NUM5!$H$3:$P$177,5,FALSE) -> 75 | I95: =VLOOKUP($B95,[4]NUM5!$H$3:$P$177,6,FALSE) -> 75 | J95: =VLOOKUP($B95,[4]NUM5!$H$3:$P$177,7,FALSE) -> 57 | K95: =VLOOKUP($B95,[4]NUM5!$H$3:$P$177,8,FALSE) -> 45 | Q95: =SUM(E95:P95) -> 475
A96: 04301-OVALLE | B96: 105416-P.S.R. CAMARICO | E96: =VLOOKUP($B96,[4]NUM5!$H$3:$P$177,2,FALSE) -> 41 | F96: =VLOOKUP($B96,[4]NUM5!$H$3:$P$177,3,FALSE) -> 213 | G96: =VLOOKUP($B96,[4]NUM5!$H$3:$P$177,4,FALSE) -> 354 | H96: =VLOOKUP($B96,[4]NUM5!$H$3:$P$177,5,FALSE) -> 263 | I96: =VLOOKUP($B96,[4]NUM5!$H$3:$P$177,6,FALSE) -> 169 | J96: =VLOOKUP($B96,[4]NUM5!$H$3:$P$177,7,FALSE) -> 213 | K96: =VLOOKUP($B96,[4]NUM5!$H$3:$P$177,8,FALSE) -> 190 | Q96: =SUM(E96:P96) -> 1443
A97: 04301-OVALLE | B97: 105417-P.S.R. ALCONES BAJOS | E97: =VLOOKUP($B97,[4]NUM5!$H$3:$P$177,2,FALSE) -> 96 | F97: =VLOOKUP($B97,[4]NUM5!$H$3:$P$177,3,FALSE) -> 146 | G97: =VLOOKUP($B97,[4]NUM5!$H$3:$P$177,4,FALSE) -> 167 | H97: =VLOOKUP($B97,[4]NUM5!$H$3:$P$177,5,FALSE) -> 150 | I97: =VLOOKUP($B97,[4]NUM5!$H$3:$P$177,6,FALSE) -> 168 | J97: =VLOOKUP($B97,[4]NUM5!$H$3:$P$177,7,FALSE) -> 132 | K97: =VLOOKUP($B97,[4]NUM5!$H$3:$P$177,8,FALSE) -> 111 | Q97: =SUM(E97:P97) -> 970
A98: 04301-OVALLE | B98: 105419-P.S.R. LAS SOSSAS | E98: =VLOOKUP($B98,[4]NUM5!$H$3:$P$177,2,FALSE) -> 0 | F98: =VLOOKUP($B98,[4]NUM5!$H$3:$P$177,3,FALSE) -> 26 | G98: =VLOOKUP($B98,[4]NUM5!$H$3:$P$177,4,FALSE) -> 31 | H98: =VLOOKUP($B98,[4]NUM5!$H$3:$P$177,5,FALSE) -> 13 | I98: =VLOOKUP($B98,[4]NUM5!$H$3:$P$177,6,FALSE) -> 40 | J98: =VLOOKUP($B98,[4]NUM5!$H$3:$P$177,7,FALSE) -> 35 | K98: =VLOOKUP($B98,[4]NUM5!$H$3:$P$177,8,FALSE) -> 47 | Q98: =SUM(E98:P98) -> 192
A99: 04301-OVALLE | B99: 105420-P.S.R. LIMARI | E99: =VLOOKUP($B99,[4]NUM5!$H$3:$P$177,2,FALSE) -> 35 | F99: =VLOOKUP($B99,[4]NUM5!$H$3:$P$177,3,FALSE) -> 74 | G99: =VLOOKUP($B99,[4]NUM5!$H$3:$P$177,4,FALSE) -> 148 | H99: =VLOOKUP($B99,[4]NUM5!$H$3:$P$177,5,FALSE) -> 157 | I99: =VLOOKUP($B99,[4]NUM5!$H$3:$P$177,6,FALSE) -> 215 | J99: =VLOOKUP($B99,[4]NUM5!$H$3:$P$177,7,FALSE) -> 274 | K99: =VLOOKUP($B99,[4]NUM5!$H$3:$P$177,8,FALSE) -> 193 | Q99: =SUM(E99:P99) -> 1096
A100: 04301-OVALLE | B100: 105422-P.S.R. HORNILLOS | E100: =VLOOKUP($B100,[4]NUM5!$H$3:$P$177,2,FALSE) -> 48 | F100: =VLOOKUP($B100,[4]NUM5!$H$3:$P$177,3,FALSE) -> 9 | G100: =VLOOKUP($B100,[4]NUM5!$H$3:$P$177,4,FALSE) -> 52 | H100: =VLOOKUP($B100,[4]NUM5!$H$3:$P$177,5,FALSE) -> 48 | I100: =VLOOKUP($B100,[4]NUM5!$H$3:$P$177,6,FALSE) -> 20 | J100: =VLOOKUP($B100,[4]NUM5!$H$3:$P$177,7,FALSE) -> 35 | K100: =VLOOKUP($B100,[4]NUM5!$H$3:$P$177,8,FALSE) -> 30 | Q100: =SUM(E100:P100) -> 242
A101: 04301-OVALLE | B101: 105437-P.S.R. CHALINGA | E101: =VLOOKUP($B101,[4]NUM5!$H$3:$P$177,2,FALSE) -> 36 | F101: =VLOOKUP($B101,[4]NUM5!$H$3:$P$177,3,FALSE) -> 22 | G101: =VLOOKUP($B101,[4]NUM5!$H$3:$P$177,4,FALSE) -> 87 | H101: =VLOOKUP($B101,[4]NUM5!$H$3:$P$177,5,FALSE) -> 111 | I101: =VLOOKUP($B101,[4]NUM5!$H$3:$P$177,6,FALSE) -> 27 | J101: =VLOOKUP($B101,[4]NUM5!$H$3:$P$177,7,FALSE) -> 126 | K101: =VLOOKUP($B101,[4]NUM5!$H$3:$P$177,8,FALSE) -> 29 | Q101: =SUM(E101:P101) -> 438
A102: 04301-OVALLE | B102: 105439-P.S.R. CERRO BLANCO | E102: =VLOOKUP($B102,[4]NUM5!$H$3:$P$177,2,FALSE) -> 34 | F102: =VLOOKUP($B102,[4]NUM5!$H$3:$P$177,3,FALSE) -> 38 | G102: =VLOOKUP($B102,[4]NUM5!$H$3:$P$177,4,FALSE) -> 35 | H102: =VLOOKUP($B102,[4]NUM5!$H$3:$P$177,5,FALSE) -> 27 | I102: =VLOOKUP($B102,[4]NUM5!$H$3:$P$177,6,FALSE) -> 11 | J102: =VLOOKUP($B102,[4]NUM5!$H$3:$P$177,7,FALSE) -> 26 | K102: =VLOOKUP($B102,[4]NUM5!$H$3:$P$177,8,FALSE) -> 21 | Q102: =SUM(E102:P102) -> 192
... A107: 04301-OVALLE | B107: 200258-CECOF LOS COPIHUES | E107: =VLOOKUP($B107,[4]NUM5!$H$3:$P$177,2,FALSE) -> 289 | F107: =VLOOKUP($B107,[4]NUM5!$H$3:$P$177,3,FALSE) -> 275 | G107: =VLOOKUP($B107,[4]NUM5!$H$3:$P$177,4,FALSE) -> 236 | H107: =VLOOKUP($B107,[4]NUM5!$H$3:$P$177,5,FALSE) -> 138 | I107: =VLOOKUP($B107,[4]NUM5!$H$3:$P$177,6,FALSE) -> 280 | J107: =VLOOKUP($B107,[4]NUM5!$H$3:$P$177,7,FALSE) -> 385 | K107: =VLOOKUP($B107,[4]NUM5!$H$3:$P$177,8,FALSE) -> 302 | Q107: =SUM(E107:P107) -> 1905
A108: TOTAL OVALLE | C108: =+D108/Metas!I72 -> 1.4958516 | D108: =+Q108/R108 -> 0.56094433 | E108: =SUM(E91:E107) -> 5937 | F108: =SUM(F91:F107) -> 5991 | G108: =SUM(G91:G107) -> 7948 | H108: =SUM(H91:H107) -> 7747 | I108: =SUM(I91:I107) -> 8745 | J108: =SUM(J91:J107) -> 9849 | K108: =SUM(K91:K107) -> 7149 | L108: =SUM(L91:L107) -> 0 | ... Q108: =SUM(Q91:Q107) -> 53366 | R108: 95136
A109: 04302-COMBARBALÁ | B109: 105433-P.S.R. SAN LORENZO | E109: =VLOOKUP($B109,[4]NUM5!$H$3:$P$177,2,FALSE) -> 15 | F109: =VLOOKUP($B109,[4]NUM5!$H$3:$P$177,3,FALSE) -> 0 | G109: =VLOOKUP($B109,[4]NUM5!$H$3:$P$177,4,FALSE) -> 14 | H109: =VLOOKUP($B109,[4]NUM5!$H$3:$P$177,5,FALSE) -> 12 | I109: =VLOOKUP($B109,[4]NUM5!$H$3:$P$177,6,FALSE) -> 0 | J109: =VLOOKUP($B109,[4]NUM5!$H$3:$P$177,7,FALSE) -> 0 | K109: =VLOOKUP($B109,[4]NUM5!$H$3:$P$177,8,FALSE) -> 0 | Q109: =SUM(E109:P109) -> 41
A110: 04302-COMBARBALÁ | B110: 105434-P.S.R. SAN MARCOS | E110: =VLOOKUP($B110,[4]NUM5!$H$3:$P$177,2,FALSE) -> 54 | F110: =VLOOKUP($B110,[4]NUM5!$H$3:$P$177,3,FALSE) -> 36 | G110: =VLOOKUP($B110,[4]NUM5!$H$3:$P$177,4,FALSE) -> 20 | H110: =VLOOKUP($B110,[4]NUM5!$H$3:$P$177,5,FALSE) -> 21 | I110: =VLOOKUP($B110,[4]NUM5!$H$3:$P$177,6,FALSE) -> 0 | J110: =VLOOKUP($B110,[4]NUM5!$H$3:$P$177,7,FALSE) -> 0 | K110: =VLOOKUP($B110,[4]NUM5!$H$3:$P$177,8,FALSE) -> 52 | Q110: =SUM(E110:P110) -> 183
A111: 04302-COMBARBALÁ | B111: 105441-P.S.R. MANQUEHUA | E111: =VLOOKUP($B111,[4]NUM5!$H$3:$P$177,2,FALSE) -> 56 | F111: =VLOOKUP($B111,[4]NUM5!$H$3:$P$177,3,FALSE) -> 67 | G111: =VLOOKUP($B111,[4]NUM5!$H$3:$P$177,4,FALSE) -> 36 | H111: =VLOOKUP($B111,[4]NUM5!$H$3:$P$177,5,FALSE) -> 82 | I111: =VLOOKUP($B111,[4]NUM5!$H$3:$P$177,6,FALSE) -> 64 | J111: =VLOOKUP($B111,[4]NUM5!$H$3:$P$177,7,FALSE) -> 36 | K111: =VLOOKUP($B111,[4]NUM5!$H$3:$P$177,8,FALSE) -> 49 | Q111: =SUM(E111:P111) -> 390
...

Sheet META 6
A1: COMUNA | B1: ESTABLECIMIENTO | C1: CUMPLIMIENTO | D1: Indicador | E1: META 6: SOLICITUDES DE INTERCONSULTAS A ESPECIALIDAD NIVEL SECUNDARIO DESDE LA APS
E2: NUMERADOR | R2: DENOMINADOR
E10: Nº de SIC a especialidad médica en el nivel secundario | R10: N° Total de Consultas y Controles Médicos en APS
D11: Resultado | E11: ENERO | F11: FEBRERO | G11: MARZO | H11: ABRIL | I11: MAYO | J11: JUNIO | K11: JULIO | L11: AGOSTO | M11: SEPBRE | N11: OCTBRE | O11: NOVBRE | P11: DICBRE | Q11: TOTAL | R11: ENERO | S11: FEBRERO | T11: MARZO | U11: ABRIL | V11: MAYO | W11: JUNIO | X11: JULIO | Y11: AGOSTO | Z11: SEPBRE | AA11: OCTBRE | AB11: NOVBRE | AC11: DICBRE | AD11: TOTAL
A12: 04101-LA SERENA | B12: 105300-CES. CARDENAL CARO | E12: =IFERROR(VLOOKUP($B12,[4]NUM6!$H$3:$P$155,2,FALSE),0) -> 190 | F12: =IFERROR(VLOOKUP($B12,[4]NUM6!$H$3:$P$155,3,FALSE),0) -> 235 | G12: =IFERROR(VLOOKUP($B12,[4]NUM6!$H$3:$P$155,4,FALSE),0) -> 363 | H12: =IFERROR(VLOOKUP($B12,[4]NUM6!$H$3:$P$155,5,FALSE),0) -> 218 | I12: =IFERROR(VLOOKUP($B12,[4]NUM6!$H$3:$P$155,6,FALSE),0) -> 311 | J12: =IFERROR(VLOOKUP($B12,[4]NUM6!$H$3:$P$155,7,FALSE),0) -> 224 | K12: =IFERROR(VLOOKUP($B12,[4]NUM6!$H$3:$P$155,8,FALSE),0) -> 366 | Q12: =SUM(E12:P12) -> 1907 | R12: =VLOOKUP($B12,[4]NUM5!$H$3:$P$177,2,FALSE) -> 1710 | S12: =VLOOKUP($B12,[4]NUM5!$H$3:$P$177,3,FALSE) -> 1894 | T12: =VLOOKUP($B12,[4]NUM5!$H$3:$P$177,4,FALSE) -> 2132 | U12: =VLOOKUP($B12,[4]NUM5!$H$3:$P$177,5,FALSE) -> 1931 | V12: =VLOOKUP($B12,[4]NUM5!$H$3:$P$177,6,FALSE) -> 1696 | W12: =VLOOKUP($B12,[4]NUM5!$H$3:$P$177,7,FALSE) -> 1679 | X12: =VLOOKUP($B12,[4]NUM5!$H$3:$P$177,8,FALSE) -> 1682 | AD12: =SUM(R12:AC12) -> 12724
A13: 04101-LA SERENA | B13: 105301-CES. LAS COMPAÑIAS | E13: =IFERROR(VLOOKUP($B13,[4]NUM6!$H$3:$P$155,2,FALSE),0) -> 191 | F13: =IFERROR(VLOOKUP($B13,[4]NUM6!$H$3:$P$155,3,FALSE),0) -> 208 | G13: =IFERROR(VLOOKUP($B13,[4]NUM6!$H$3:$P$155,4,FALSE),0) -> 182 | H13: =IFERROR(VLOOKUP($B13,[4]NUM6!$H$3:$P$155,5,FALSE),0) -> 159 | I13: =IFERROR(VLOOKUP($B13,[4]NUM6!$H$3:$P$155,6,FALSE),0) -> 113 | J13: =IFERROR(VLOOKUP($B13,[4]NUM6!$H$3:$P$155,7,FALSE),0) -> 90 | K13: =IFERROR(VLOOKUP($B13,[4]NUM6!$H$3:$P$155,8,FALSE),0) -> 162 | Q13: =SUM(E13:P13) -> 1105 | R13: =VLOOKUP($B13,[4]NUM5!$H$3:$P$177,2,FALSE) -> 1864 | S13: =VLOOKUP($B13,[4]NUM5!$H$3:$P$177,3,FALSE) -> 1858 | T13: =VLOOKUP($B13,[4]NUM5!$H$3:$P$177,4,FALSE) -> 1546 | U13: =VLOOKUP($B13,[4]NUM5!$H$3:$P$177,5,FALSE) -> 1451 | V13: =VLOOKUP($B13,[4]NUM5!$H$3:$P$177,6,FALSE) -> 1724 | W13: =VLOOKUP($B13,[4]NUM5!$H$3:$P$177,7,FALSE) -> 1596 | X13: =VLOOKUP($B13,[4]NUM5!$H$3:$P$177,8,FALSE) -> 1953 | AD13: =SUM(R13:AC13) -> 11992
A14: 04101-LA SERENA | B14: 105302-CES. PEDRO AGUIRRE C. | E14: =IFERROR(VLOOKUP($B14,[4]NUM6!$H$3:$P$155,2,FALSE),0) -> 160 | F14: =IFERROR(VLOOKUP($B14,[4]NUM6!$H$3:$P$155,3,FALSE),0) -> 222 | G14: =IFERROR(VLOOKUP($B14,[4]NUM6!$H$3:$P$155,4,FALSE),0) -> 183 | H14: =IFERROR(VLOOKUP($B14,[4]NUM6!$H$3:$P$155,5,FALSE),0) -> 138 | I14: =IFERROR(VLOOKUP($B14,[4]NUM6!$H$3:$P$155,6,FALSE),0) -> 198 | J14: =IFERROR(VLOOKUP($B14,[4]NUM6!$H$3:$P$155,7,FALSE),0) -> 158 | K14: =IFERROR(VLOOKUP($B14,[4]NUM6!$H$3:$P$155,8,FALSE),0) -> 221 | Q14: =SUM(E14:P14) -> 1280 | R14: =VLOOKUP($B14,[4]NUM5!$H$3:$P$177,2,FALSE) -> 1873 | S14: =VLOOKUP($B14,[4]NUM5!$H$3:$P$177,3,FALSE) -> 2128 | T14: =VLOOKUP($B14,[4]NUM5!$H$3:$P$177,4,FALSE) -> 2688 | U14: =VLOOKUP($B14,[4]NUM5!$H$3:$P$177,5,FALSE) -> 2041 | V14: =VLOOKUP($B14,[4]NUM5!$H$3:$P$177,6,FALSE) -> 2227 | W14: =VLOOKUP($B14,[4]NUM5!$H$3:$P$177,7,FALSE) -> 1983 | X14: =VLOOKUP($B14,[4]NUM5!$H$3:$P$177,8,FALSE) -> 2283 | AD14: =SUM(R14:AC14) -> 15223
A15: 04101-LA SERENA | B15: 105313-CES. SCHAFFHAUSER | E15: =IFERROR(VLOOKUP($B15,[4]NUM6!$H$3:$P$155,2,FALSE),0) -> 293 | F15: =IFERROR(VLOOKUP($B15,[4]NUM6!$H$3:$P$155,3,FALSE),0) -> 250 | G15: =IFERROR(VLOOKUP($B15,[4]NUM6!$H$3:$P$155,4,FALSE),0) -> 190 | H15: =IFERROR(VLOOKUP($B15,[4]NUM6!$H$3:$P$155,5,FALSE),0) -> 195 | I15: =IFERROR(VLOOKUP($B15,[4]NUM6!$H$3:$P$155,6,FALSE),0) -> 170 | J15: =IFERROR(VLOOKUP($B15,[4]NUM6!$H$3:$P$155,7,FALSE),0) -> 164 | K15: =IFERROR(VLOOKUP($B15,[4]NUM6!$H$3:$P$155,8,FALSE),0) -> 183 | Q15: =SUM(E15:P15) -> 1445 | R15: =VLOOKUP($B15,[4]NUM5!$H$3:$P$177,2,FALSE) -> 1783 | S15: =VLOOKUP($B15,[4]NUM5!$H$3:$P$177,3,FALSE) -> 1635 | T15: =VLOOKUP($B15,[4]NUM5!$H$3:$P$177,4,FALSE) -> 1759 | U15: =VLOOKUP($B15,[4]NUM5!$H$3:$P$177,5,FALSE) -> 2228 | V15: =VLOOKUP($B15,[4]NUM5!$H$3:$P$177,6,FALSE) -> 2441 | W15: =VLOOKUP($B15,[4]NUM5!$H$3:$P$177,7,FALSE) -> 2090 | X15: =VLOOKUP($B15,[4]NUM5!$H$3:$P$177,8,FALSE) -> 1906 | AD15: =SUM(R15:AC15) -> 13842
A16: 04101-LA SERENA | B16: 105319-CES. CARDENAL R.S.H. | E16: =IFERROR(VLOOKUP($B16,[4]NUM6!$H$3:$P$155,2,FALSE),0) -> 168 | F16: =IFERROR(VLOOKUP($B16,[4]NUM6!$H$3:$P$155,3,FALSE),0) -> 220 | G16: =IFERROR(VLOOKUP($B16,[4]NUM6!$H$3:$P$155,4,FALSE),0) -> 212 | H16: =IFERROR(VLOOKUP($B16,[4]NUM6!$H$3:$P$155,5,FALSE),0) -> 123 | I16: =IFERROR(VLOOKUP($B16,[4]NUM6!$H$3:$P$155,6,FALSE),0) -> 191 | J16: =IFERROR(VLOOKUP($B16,[4]NUM6!$H$3:$P$155,7,FALSE),0) -> 254 | K16: =IFERROR(VLOOKUP($B16,[4]NUM6!$H$3:$P$155,8,FALSE),0) -> 283 | Q16: =SUM(E16:P16) -> 1451 | R16: =VLOOKUP($B16,[4]NUM5!$H$3:$P$177,2,FALSE) -> 2012 | S16: =VLOOKUP($B16,[4]NUM5!$H$3:$P$177,3,FALSE) -> 2276 | T16: =VLOOKUP($B16,[4]NUM5!$H$3:$P$177,4,FALSE) -> 2657 | U16: =VLOOKUP($B16,[4]NUM5!$H$3:$P$177,5,FALSE) -> 1905 | V16: =VLOOKUP($B16,[4]NUM5!$H$3:$P$177,6,FALSE) -> 3371 | W16: =VLOOKUP($B16,[4]NUM5!$H$3:$P$177,7,FALSE) -> 3501 | X16: =VLOOKUP($B16,[4]NUM5!$H$3:$P$177,8,FALSE) -> 2758 | AD16: =SUM(R16:AC16) -> 18480
A17: 04101-LA SERENA | B17: 105325-CESFAM JUAN PABLO II | E17: =IFERROR(VLOOKUP($B17,[4]NUM6!$H$3:$P$155,2,FALSE),0) -> 224 | F17: =IFERROR(VLOOKUP($B17,[4]NUM6!$H$3:$P$155,3,FALSE),0) -> 206 | G17: =IFERROR(VLOOKUP($B17,[4]NUM6!$H$3:$P$155,4,FALSE),0) -> 235 | H17: =IFERROR(VLOOKUP($B17,[4]NUM6!$H$3:$P$155,5,FALSE),0) -> 151 | I17: =IFERROR(VLOOKUP($B17,[4]NUM6!$H$3:$P$155,6,FALSE),0) -> 134 | J17: =IFERROR(VLOOKUP($B17,[4]NUM6!$H$3:$P$155,7,FALSE),0) -> 176 | K17: =IFERROR(VLOOKUP($B17,[4]NUM6!$H$3:$P$155,8,FALSE),0) -> 176 | Q17: =SUM(E17:P17) -> 1302 | R17: =VLOOKUP($B17,[4]NUM5!$H$3:$P$177,2,FALSE) -> 1556 | S17: =VLOOKUP($B17,[4]NUM5!$H$3:$P$177,3,FALSE) -> 1284 | T17: =VLOOKUP($B17,[4]NUM5!$H$3:$P$177,4,FALSE) -> 1561 | U17: =VLOOKUP($B17,[4]NUM5!$H$3:$P$177,5,FALSE) -> 1066 | V17: =VLOOKUP($B17,[4]NUM5!$H$3:$P$177,6,FALSE) -> 1705 | W17: =VLOOKUP($B17,[4]NUM5!$H$3:$P$177,7,FALSE) -> 1585 | X17: =VLOOKUP($B17,[4]NUM5!$H$3:$P$177,8,FALSE) -> 1767 | AD17: =SUM(R17:AC17) -> 10524
A18: 04101-LA SERENA | B18: 105400-P.S.R. ALGARROBITO | E18: =IFERROR(VLOOKUP($B18,[4]NUM6!$H$3:$P$155,2,FALSE),0) -> 20 | F18: =IFERROR(VLOOKUP($B18,[4]NUM6!$H$3:$P$155,3,FALSE),0) -> 31 | G18: =IFERROR(VLOOKUP($B18,[4]NUM6!$H$3:$P$155,4,FALSE),0) -> 40 | H18: =IFERROR(VLOOKUP($B18,[4]NUM6!$H$3:$P$155,5,FALSE),0) -> 34 | I18: =IFERROR(VLOOKUP($B18,[4]NUM6!$H$3:$P$155,6,FALSE),0) -> 25 | J18: =IFERROR(VLOOKUP($B18,[4]NUM6!$H$3:$P$155,7,FALSE),0) -> 29 | K18: =IFERROR(VLOOKUP($B18,[4]NUM6!$H$3:$P$155,8,FALSE),0) -> 33 | Q18: =SUM(E18:P18) -> 212 | R18: =VLOOKUP($B18,[4]NUM5!$H$3:$P$177,2,FALSE) -> 218 | S18: =VLOOKUP($B18,[4]NUM5!$H$3:$P$177,3,FALSE) -> 270 | T18: =VLOOKUP($B18,[4]NUM5!$H$3:$P$177,4,FALSE) -> 415 | U18: =VLOOKUP($B18,[4]NUM5!$H$3:$P$177,5,FALSE) -> 231 | V18: =VLOOKUP($B18,[4]NUM5!$H$3:$P$177,6,FALSE) -> 287 | W18: =VLOOKUP($B18,[4]NUM5!$H$3:$P$177,7,FALSE) -> 296 | X18: =VLOOKUP($B18,[4]NUM5!$H$3:$P$177,8,FALSE) -> 312 | AD18: =SUM(R18:AC18) -> 2029
A19: 04101-LA SERENA | B19: 105401-P.S.R. LAS ROJAS | E19: =IFERROR(VLOOKUP($B19,[4]NUM6!$H$3:$P$155,2,FALSE),0) -> 8 | F19: =IFERROR(VLOOKUP($B19,[4]NUM6!$H$3:$P$155,3,FALSE),0) -> 2 | G19: =IFERROR(VLOOKUP($B19,[4]NUM6!$H$3:$P$155,4,FALSE),0) -> 7 | H19: =IFERROR(VLOOKUP($B19,[4]NUM6!$H$3:$P$155,5,FALSE),0) -> 1 | I19: =IFERROR(VLOOKUP($B19,[4]NUM6!$H$3:$P$155,6,FALSE),0) -> 0 | J19: =IFERROR(VLOOKUP($B19,[4]NUM6!$H$3:$P$155,7,FALSE),0) -> 7 | K19: =IFERROR(VLOOKUP($B19,[4]NUM6!$H$3:$P$155,8,FALSE),0) -> 10 | Q19: =SUM(E19:P19) -> 35 | R19: =VLOOKUP($B19,[4]NUM5!$H$3:$P$177,2,FALSE) -> 27 | S19: =VLOOKUP($B19,[4]NUM5!$H$3:$P$177,3,FALSE) -> 48 | T19: =VLOOKUP($B19,[4]NUM5!$H$3:$P$177,4,FALSE) -> 61 | U19: =VLOOKUP($B19,[4]NUM5!$H$3:$P$177,5,FALSE) -> 29 | V19: =VLOOKUP($B19,[4]NUM5!$H$3:$P$177,6,FALSE) -> 42 | W19: =VLOOKUP($B19,[4]NUM5!$H$3:$P$177,7,FALSE) -> 48 | X19: =VLOOKUP($B19,[4]NUM5!$H$3:$P$177,8,FALSE) -> 50 | AD19: =SUM(R19:AC19) -> 305
A20: 04101-LA SERENA | B20: 105402-P.S.R. EL ROMERO | E20: =IFERROR(VLOOKUP($B20,[4]NUM6!$H$3:$P$155,2,FALSE),0) -> 3 | F20: =IFERROR(VLOOKUP($B20,[4]NUM6!$H$3:$P$155,3,FALSE),0) -> 7 | G20: =IFERROR(VLOOKUP($B20,[4]NUM6!$H$3:$P$155,4,FALSE),0) -> 3 | H20: =IFERROR(VLOOKUP($B20,[4]NUM6!$H$3:$P$155,5,FALSE),0) -> 11 | I20: =IFERROR(VLOOKUP($B20,[4]NUM6!$H$3:$P$155,6,FALSE),0) -> 2 | J20: =IFERROR(VLOOKUP($B20,[4]NUM6!$H$3:$P$155,7,FALSE),0) -> 9 | K20: =IFERROR(VLOOKUP($B20,[4]NUM6!$H$3:$P$155,8,FALSE),0) -> 10 | Q20: =SUM(E20:P20) -> 45 | R20: =VLOOKUP($B20,[4]NUM5!$H$3:$P$177,2,FALSE) -> 43 | S20: =VLOOKUP($B20,[4]NUM5!$H$3:$P$177,3,FALSE) -> 30 | T20: =VLOOKUP($B20,[4]NUM5!$H$3:$P$177,4,FALSE) -> 37 | U20: =VLOOKUP($B20,[4]NUM5!$H$3:$P$177,5,FALSE) -> 35 | V20: =VLOOKUP($B20,[4]NUM5!$H$3:$P$177,6,FALSE) -> 40 | W20: =VLOOKUP($B20,[4]NUM5!$H$3:$P$177,7,FALSE) -> 45 | X20: =VLOOKUP($B20,[4]NUM5!$H$3:$P$177,8,FALSE) -> 26 | AD20: =SUM(R20:AC20) -> 256
A21: 04101-LA SERENA | B21: 105499-P.S.R. LAMBERT | E21: =IFERROR(VLOOKUP($B21,[4]NUM6!$H$3:$P$155,2,FALSE),0) -> 6 | F21: =IFERROR(VLOOKUP($B21,[4]NUM6!$H$3:$P$155,3,FALSE),0) -> 11 | G21: =IFERROR(VLOOKUP($B21,[4]NUM6!$H$3:$P$155,4,FALSE),0) -> 9 | H21: =IFERROR(VLOOKUP($B21,[4]NUM6!$H$3:$P$155,5,FALSE),0) -> 5 | I21: =IFERROR(VLOOKUP($B21,[4]NUM6!$H$3:$P$155,6,FALSE),0) -> 0 | J21: =IFERROR(VLOOKUP($B21,[4]NUM6!$H$3:$P$155,7,FALSE),0) -> 4 | K21: =IFERROR(VLOOKUP($B21,[4]NUM6!$H$3:$P$155,8,FALSE),0) -> 6 | Q21: =SUM(E21:P21) -> 41 | R21: =VLOOKUP($B21,[4]NUM5!$H$3:$P$177,2,FALSE) -> 34 | S21: =VLOOKUP($B21,[4]NUM5!$H$3:$P$177,3,FALSE) -> 43 | T21: =VLOOKUP($B21,[4]NUM5!$H$3:$P$177,4,FALSE) -> 70 | U21: =VLOOKUP($B21,[4]NUM5!$H$3:$P$177,5,FALSE) -> 49 | V21: =VLOOKUP($B21,[4]NUM5!$H$3:$P$177,6,FALSE) -> 19 | W21: =VLOOKUP($B21,[4]NUM5!$H$3:$P$177,7,FALSE) -> 45 | X21: =VLOOKUP($B21,[4]NUM5!$H$3:$P$177,8,FALSE) -> 48 | AD21: =SUM(R21:AC21) -> 308
A22: 04101-LA SERENA | B22: 105700-CECOF VILLA EL INDIO | E22: =IFERROR(VLOOKUP($B22,[4]NUM6!$H$3:$P$155,2,FALSE),0) -> 25 | F22: =IFERROR(VLOOKUP($B22,[4]NUM6!$H$3:$P$155,3,FALSE),0) -> 9 | G22: =IFERROR(VLOOKUP($B22,[4]NUM6!$H$3:$P$155,4,FALSE),0) -> 10 | H22: =IFERROR(VLOOKUP($B22,[4]NUM6!$H$3:$P$155,5,FALSE),0) -> 11 | I22: =IFERROR(VLOOKUP($B22,[4]NUM6!$H$3:$P$155,6,FALSE),0) -> 18 | J22: =IFERROR(VLOOKUP($B22,[4]NUM6!$H$3:$P$155,7,FALSE),0) -> 24 | K22: =IFERROR(VLOOKUP($B22,[4]NUM6!$H$3:$P$155,8,FALSE),0) -> 15 | Q22: =SUM(E22:P22) -> 112 | R22: =VLOOKUP($B22,[4]NUM5!$H$3:$P$177,2,FALSE) -> 470 | S22: =VLOOKUP($B22,[4]NUM5!$H$3:$P$177,3,FALSE) -> 447 | T22: =VLOOKUP($B22,[4]NUM5!$H$3:$P$177,4,FALSE) -> 459 | U22: =VLOOKUP($B22,[4]NUM5!$H$3:$P$177,5,FALSE) -> 331 | V22: =VLOOKUP($B22,[4]NUM5!$H$3:$P$177,6,FALSE) -> 308 | W22: =VLOOKUP($B22,[4]NUM5!$H$3:$P$177,7,FALSE) -> 377 | X22: =VLOOKUP($B22,[4]NUM5!$H$3:$P$177,8,FALSE) -> 311 | AD22: =SUM(R22:AC22) -> 2703
A23: 04101-LA SERENA | B23: 105701-CECOF VILLA ALEMANIA | E23: =IFERROR(VLOOKUP($B23,[4]NUM6!$H$3:$P$155,2,FALSE),0) -> 4 | F23: =IFERROR(VLOOKUP($B23,[4]NUM6!$H$3:$P$155,3,FALSE),0) -> 6 | G23: =IFERROR(VLOOKUP($B23,[4]NUM6!$H$3:$P$155,4,FALSE),0) -> 30 | H23: =IFERROR(VLOOKUP($B23,[4]NUM6!$H$3:$P$155,5,FALSE),0) -> 6 | I23: =IFERROR(VLOOKUP($B23,[4]NUM6!$H$3:$P$155,6,FALSE),0) -> 12 | J23: =IFERROR(VLOOKUP($B23,[4]NUM6!$H$3:$P$155,7,FALSE),0) -> 4 | K23: =IFERROR(VLOOKUP($B23,[4]NUM6!$H$3:$P$155,8,FALSE),0) -> 5 | Q23: =SUM(E23:P23) -> 67 | R23: =VLOOKUP($B23,[4]NUM5!$H$3:$P$177,2,FALSE) -> 119 | S23: =VLOOKUP($B23,[4]NUM5!$H$3:$P$177,3,FALSE) -> 52 | T23: =VLOOKUP($B23,[4]NUM5!$H$3:$P$177,4,FALSE) -> 153 | U23: =VLOOKUP($B23,[4]NUM5!$H$3:$P$177,5,FALSE) -> 93 | V23: =VLOOKUP($B23,[4]NUM5!$H$3:$P$177,6,FALSE) -> 159 | W23: =VLOOKUP($B23,[4]NUM5!$H$3:$P$177,7,FALSE) -> 95 | X23: =VLOOKUP($B23,[4]NUM5!$H$3:$P$177,8,FALSE) -> 93 | AD23: =SUM(R23:AC23) -> 764
A24: 04101-LA SERENA | B24: 105702-CECOF VILLA LAMBERT | E24: =IFERROR(VLOOKUP($B24,[4]NUM6!$H$3:$P$155,2,FALSE),0) -> 39 | F24: =IFERROR(VLOOKUP($B24,[4]NUM6!$H$3:$P$155,3,FALSE),0) -> 37 | G24: =IFERROR(VLOOKUP($B24,[4]NUM6!$H$3:$P$155,4,FALSE),0) -> 52 | H24: =IFERROR(VLOOKUP($B24,[4]NUM6!$H$3:$P$155,5,FALSE),0) -> 0 | I24: =IFERROR(VLOOKUP($B24,[4]NUM6!$H$3:$P$155,6,FALSE),0) -> 29 | J24: =IFERROR(VLOOKUP($B24,[4]NUM6!$H$3:$P$155,7,FALSE),0) -> 21 | K24: =IFERROR(VLOOKUP($B24,[4]NUM6!$H$3:$P$155,8,FALSE),0) -> 14 | Q24: =SUM(E24:P24) -> 192 | R24: =VLOOKUP($B24,[4]NUM5!$H$3:$P$177,2,FALSE) -> 285 | S24: =VLOOKUP($B24,[4]NUM5!$H$3:$P$177,3,FALSE) -> 210 | T24: =VLOOKUP($B24,[4]NUM5!$H$3:$P$177,4,FALSE) -> 333 | U24: =VLOOKUP($B24,[4]NUM5!$H$3:$P$177,5,FALSE) -> 197 | V24: =VLOOKUP($B24,[4]NUM5!$H$3:$P$177,6,FALSE) -> 172 | W24: =VLOOKUP($B24,[4]NUM5!$H$3:$P$177,7,FALSE) -> 195 | X24: =VLOOKUP($B24,[4]NUM5!$H$3:$P$177,8,FALSE) -> 192 | AD24: =SUM(R24:AC24) -> 1584
A25: TOTAL LA SERENA | C25: =Metas!J69/D25 -> 1.0855766 | D25: =+Q25/AD25 -> 0.10132916 | E25: =SUM(E12:E24) -> 1331 | F25: =SUM(F12:F24) -> 1444 | G25: =SUM(G12:G24) -> 1516 | H25: =SUM(H12:H24) -> 1052 | I25: =SUM(I12:I24) -> 1203 | J25: =SUM(J12:J24) -> 1164 | K25: =SUM(K12:K24) -> 1484 | L25: =SUM(L12:L24) -> 0 | ... AD25: =SUM(AD12:AD24) -> 90734
A26: 04102-COQUIMBO | B26: 105303-CES. SAN JUAN | E26: =IFERROR(VLOOKUP($B26,[4]NUM6!$H$3:$P$155,2,FALSE),0) -> 162 | F26: =IFERROR(VLOOKUP($B26,[4]NUM6!$H$3:$P$155,3,FALSE),0) -> 137 | G26: =IFERROR(VLOOKUP($B26,[4]NUM6!$H$3:$P$155,4,FALSE),0) -> 206 | H26: =IFERROR(VLOOKUP($B26,[4]NUM6!$H$3:$P$155,5,FALSE),0) -> 99 | I26: =IFERROR(VLOOKUP($B26,[4]NUM6!$H$3:$P$155,6,FALSE),0) -> 168 | J26: =IFERROR(VLOOKUP($B26,[4]NUM6!$H$3:$P$155,7,FALSE),0) -> 85 | K26: =IFERROR(VLOOKUP($B26,[4]NUM6!$H$3:$P$155,8,FALSE),0) -> 65 | Q26: =SUM(E26:P26) -> 922 | R26: =VLOOKUP($B26,[4]NUM5!$H$3:$P$177,2,FALSE) -> 2231 | S26: =VLOOKUP($B26,[4]NUM5!$H$3:$P$177,3,FALSE) -> 2159 | T26: =VLOOKUP($B26,[4]NUM5!$H$3:$P$177,4,FALSE) -> 2916 | U26: =VLOOKUP($B26,[4]NUM5!$H$3:$P$177,5,FALSE) -> 2246 | V26: =VLOOKUP($B26,[4]NUM5!$H$3:$P$177,6,FALSE) -> 2967 | W26: =VLOOKUP($B26,[4]NUM5!$H$3:$P$177,7,FALSE) -> 2872 | X26: =VLOOKUP($B26,[4]NUM5!$H$3:$P$177,8,FALSE) -> 2754 | AD26: =SUM(R26:AC26) -> 18145
A27: 04102-COQUIMBO | B27: 105304-CES. SANTA CECILIA | E27: =IFERROR(VLOOKUP($B27,[4]NUM6!$H$3:$P$155,2,FALSE),0) -> 322 | F27: =IFERROR(VLOOKUP($B27,[4]NUM6!$H$3:$P$155,3,FALSE),0) -> 193 | G27: =IFERROR(VLOOKUP($B27,[4]NUM6!$H$3:$P$155,4,FALSE),0) -> 207 | H27: =IFERROR(VLOOKUP($B27,[4]NUM6!$H$3:$P$155,5,FALSE),0) -> 163 | I27: =IFERROR(VLOOKUP($B27,[4]NUM6!$H$3:$P$155,6,FALSE),0) -> 214 | J27: =IFERROR(VLOOKUP($B27,[4]NUM6!$H$3:$P$155,7,FALSE),0) -> 139 | K27: =IFERROR(VLOOKUP($B27,[4]NUM6!$H$3:$P$155,8,FALSE),0) -> 186 | Q27: =SUM(E27:P27) -> 1424 | R27: =VLOOKUP($B27,[4]NUM5!$H$3:$P$177,2,FALSE) -> 3402 | S27: =VLOOKUP($B27,[4]NUM5!$H$3:$P$177,3,FALSE) -> 2581 | T27: =VLOOKUP($B27,[4]NUM5!$H$3:$P$177,4,FALSE) -> 2755 | U27: =VLOOKUP($B27,[4]NUM5!$H$3:$P$177,5,FALSE) -> 2531 | V27: =VLOOKUP($B27,[4]NUM5!$H$3:$P$177,6,FALSE) -> 3319 | W27: =VLOOKUP($B27,[4]NUM5!$H$3:$P$177,7,FALSE) -> 3148 | X27: =VLOOKUP($B27,[4]NUM5!$H$3:$P$177,8,FALSE) -> 3412 | AD27: =SUM(R27:AC27) -> 21148
A28: 04102-COQUIMBO | B28: 105305-CES. TIERRAS BLANCAS | E28: =IFERROR(VLOOKUP($B28,[4]NUM6!$H$3:$P$155,2,FALSE),0) -> 580 | F28: =IFERROR(VLOOKUP($B28,[4]NUM6!$H$3:$P$155,3,FALSE),0) -> 459 | G28: =IFERROR(VLOOKUP($B28,[4]NUM6!$H$3:$P$155,4,FALSE),0) -> 435 | H28: =IFERROR(VLOOKUP($B28,[4]NUM6!$H$3:$P$155,5,FALSE),0) -> 356 | I28: =IFERROR(VLOOKUP($B28,[4]NUM6!$H$3:$P$155,6,FALSE),0) -> 415 | J28: =IFERROR(VLOOKUP($B28,[4]NUM6!$H$3:$P$155,7,FALSE),0) -> 403 | K28: =IFERROR(VLOOKUP($B28,[4]NUM6!$H$3:$P$155,8,FALSE),0) -> 437 | Q28: =SUM(E28:P28) -> 3085 | R28: =VLOOKUP($B28,[4]NUM5!$H$3:$P$177,2,FALSE) -> 4261 | S28: =VLOOKUP($B28,[4]NUM5!$H$3:$P$177,3,FALSE) -> 3637 | T28: =VLOOKUP($B28,[4]NUM5!$H$3:$P$177,4,FALSE) -> 4783 | U28: =VLOOKUP($B28,[4]NUM5!$H$3:$P$177,5,FALSE) -> 4830 | V28: =VLOOKUP($B28,[4]NUM5!$H$3:$P$177,6,FALSE) -> 4261 | W28: =VLOOKUP($B28,[4]NUM5!$H$3:$P$177,7,FALSE) -> 3861 | X28: =VLOOKUP($B28,[4]NUM5!$H$3:$P$177,8,FALSE) -> 3901 | AD28: =SUM(R28:AC28) -> 29534
A29: 04102-COQUIMBO | B29: 105321-CES. RURAL TONGOY | E29: =IFERROR(VLOOKUP($B29,[4]NUM6!$H$3:$P$155,2,FALSE),0) -> 59 | F29: =IFERROR(VLOOKUP($B29,[4]NUM6!$H$3:$P$155,3,FALSE),0) -> 67 | G29: =IFERROR(VLOOKUP($B29,[4]NUM6!$H$3:$P$155,4,FALSE),0) -> 63 | H29: =IFERROR(VLOOKUP($B29,[4]NUM6!$H$3:$P$155,5,FALSE),0) -> 62 | I29: =IFERROR(VLOOKUP($B29,[4]NUM6!$H$3:$P$155,6,FALSE),0) -> 52 | J29: =IFERROR(VLOOKUP($B29,[4]NUM6!$H$3:$P$155,7,FALSE),0) -> 66 | K29: =IFERROR(VLOOKUP($B29,[4]NUM6!$H$3:$P$155,8,FALSE),0) -> 45 | Q29: =SUM(E29:P29) -> 414 | R29: =VLOOKUP($B29,[4]NUM5!$H$3:$P$177,2,FALSE) -> 680 | S29: =VLOOKUP($B29,[4]NUM5!$H$3:$P$177,3,FALSE) -> 646 | T29: =VLOOKUP($B29,[4]NUM5!$H$3:$P$177,4,FALSE) -> 870 | U29: =VLOOKUP($B29,[4]NUM5!$H$3:$P$177,5,FALSE) -> 613 | V29: =VLOOKUP($B29,[4]NUM5!$H$3:$P$177,6,FALSE) -> 729 | W29: =VLOOKUP($B29,[4]NUM5!$H$3:$P$177,7,FALSE) -> 847 | X29: =VLOOKUP($B29,[4]NUM5!$H$3:$P$177,8,FALSE) -> 767 | AD29: =SUM(R29:AC29) -> 5152
A30: 04102-COQUIMBO | B30: 105323-CES. DR. SERGIO AGUILAR | E30: =IFERROR(VLOOKUP($B30,[4]NUM6!$H$3:$P$155,2,FALSE),0) -> 0 | F30: =IFERROR(VLOOKUP($B30,[4]NUM6!$H$3:$P$155,3,FALSE),0) -> 476 | G30: =IFERROR(VLOOKUP($B30,[4]NUM6!$H$3:$P$155,4,FALSE),0) -> 516 | H30: =IFERROR(VLOOKUP($B30,[4]NUM6!$H$3:$P$155,5,FALSE),0) -> 300 | I30: =IFERROR(VLOOKUP($B30,[4]NUM6!$H$3:$P$155,6,FALSE),0) -> 539 | J30: =IFERROR(VLOOKUP($B30,[4]NUM6!$H$3:$P$155,7,FALSE),0) -> 463 | K30: =IFERROR(VLOOKUP($B30,[4]NUM6!$H$3:$P$155,8,FALSE),0) -> 513 | Q30: =SUM(E30:P30) -> 2807 | R30: =VLOOKUP($B30,[4]NUM5!$H$3:$P$177,2,FALSE) -> 3297 | S30: =VLOOKUP($B30,[4]NUM5!$H$3:$P$177,3,FALSE) -> 3021 | T30: =VLOOKUP($B30,[4]NUM5!$H$3:$P$177,4,FALSE) -> 3082 | U30: =VLOOKUP($B30,[4]NUM5!$H$3:$P$177,5,FALSE) -> 2307 | V30: =VLOOKUP($B30,[4]NUM5!$H$3:$P$177,6,FALSE) -> 3303 | W30: =VLOOKUP($B30,[4]NUM5!$H$3:$P$177,7,FALSE) -> 3608 | X30: =VLOOKUP($B30,[4]NUM5!$H$3:$P$177,8,FALSE) -> 3345 | AD30: =SUM(R30:AC30) -> 21963
A31: 04102-COQUIMBO | B31: 105404-P.S.R. EL TANGUE | E31: =IFERROR(VLOOKUP($B31,[4]NUM6!$H$3:$P$155,2,FALSE),0) -> 0 | F31: =IFERROR(VLOOKUP($B31,[4]NUM6!$H$3:$P$155,3,FALSE),0) -> 1 | G31: =IFERROR(VLOOKUP($B31,[4]NUM6!$H$3:$P$155,4,FALSE),0) -> 1 | H31: =IFERROR(VLOOKUP($B31,[4]NUM6!$H$3:$P$155,5,FALSE),0) -> 0 | I31: =IFERROR(VLOOKUP($B31,[4]NUM6!$H$3:$P$155,6,FALSE),0) -> 1 | J31: =IFERROR(VLOOKUP($B31,[4]NUM6!$H$3:$P$155,7,FALSE),0) -> 0 | K31: =IFERROR(VLOOKUP($B31,[4]NUM6!$H$3:$P$155,8,FALSE),0) -> 0 | Q31: =SUM(E31:P31) -> 3 | R31: =VLOOKUP($B31,[4]NUM5!$H$3:$P$177,2,FALSE) -> 14 | S31: =VLOOKUP($B31,[4]NUM5!$H$3:$P$177,3,FALSE) -> 12 | T31: =VLOOKUP($B31,[4]NUM5!$H$3:$P$177,4,FALSE) -> 20 | U31: =VLOOKUP($B31,[4]NUM5!$H$3:$P$177,5,FALSE) -> 0 | V31: =VLOOKUP($B31,[4]NUM5!$H$3:$P$177,6,FALSE) -> 17 | W31: =VLOOKUP($B31,[4]NUM5!$H$3:$P$177,7,FALSE) -> 15 | X31: =VLOOKUP($B31,[4]NUM5!$H$3:$P$177,8,FALSE) -> 4 | AD31: =SUM(R31:AC31) -> 82
A32: 04102-COQUIMBO | B32: 105405-P.S.R. GUANAQUEROS | E32: =IFERROR(VLOOKUP($B32,[4]NUM6!$H$3:$P$155,2,FALSE),0) -> 26 | F32: =IFERROR(VLOOKUP($B32,[4]NUM6!$H$3:$P$155,3,FALSE),0) -> 22 | G32: =IFERROR(VLOOKUP($B32,[4]NUM6!$H$3:$P$155,4,FALSE),0) -> 21 | H32: =IFERROR(VLOOKUP($B32,[4]NUM6!$H$3:$P$155,5,FALSE),0) -> 12 | I32: =IFERROR(VLOOKUP($B32,[4]NUM6!$H$3:$P$155,6,FALSE),0) -> 16 | J32: =IFERROR(VLOOKUP($B32,[4]NUM6!$H$3:$P$155,7,FALSE),0) -> 13 | K32: =IFERROR(VLOOKUP($B32,[4]NUM6!$H$3:$P$155,8,FALSE),0) -> 15 | Q32: =SUM(E32:P32) -> 125 | R32: =VLOOKUP($B32,[4]NUM5!$H$3:$P$177,2,FALSE) -> 271 | S32: =VLOOKUP($B32,[4]NUM5!$H$3:$P$177,3,FALSE) -> 203 | T32: =VLOOKUP($B32,[4]NUM5!$H$3:$P$177,4,FALSE) -> 239 | U32: =VLOOKUP($B32,[4]NUM5!$H$3:$P$177,5,FALSE) -> 187 | V32: =VLOOKUP($B32,[4]NUM5!$H$3:$P$177,6,FALSE) -> 199 | W32: =VLOOKUP($B32,[4]NUM5!$H$3:$P$177,7,FALSE) -> 233 | X32: =VLOOKUP($B32,[4]NUM5!$H$3:$P$177,8,FALSE) -> 171 | AD32: =SUM(R32:AC32) -> 1503
